BEGIN:VCALENDAR
VERSION:2.0
PRODID:-//AFLabs urnik izvoz - fs//aflabs.si//SI
NAME:UL FS Urnik
X-WR-CALNAME:UL FS Urnik
DTSTAMP:20260422T182007Z
REFRESH-INTERVAL:PT1H
SOURCE:https://urnik.fs.uni-lj.si/en/teacher/709/?day=2024-06-24&export=1
URL:https://urnik.fs.uni-lj.si/en/teacher/709/?day=2024-06-24&export=1
X-PUBLISHED-TTL:PT1H
X-WR-TIMEZONE:Europe/Ljubljana
BEGIN:VTIMEZONE
TZID:Europe/Ljubljana
BEGIN:DAYLIGHT
DTSTART:20260329T020000
RDATE:20260329T020000
RDATE:20270328T020000
TZNAME:CEST
TZOFFSETFROM:+0100
TZOFFSETTO:+0200
END:DAYLIGHT
BEGIN:STANDARD
DTSTART:20261025T030000
RDATE:20261025T030000
RDATE:20271031T030000
TZNAME:CET
TZOFFSETFROM:+0200
TZOFFSETTO:+0100
END:STANDARD
END:VTIMEZONE
BEGIN:VEVENT
SUMMARY:Sestanek LASTEH - BF
DTSTART;TZID=Europe/Ljubljana:20240604T090000
DTEND;TZID=Europe/Ljubljana:20240604T103000
DTSTAMP:20260422T182007Z
UID:fs-AFLABS-URNIK:rezervacija:4761
CATEGORIES:Reservation
COLOR:royalblue
DESCRIPTION:Predmeti: \nLetniki: \nIzvajalci: Matija Jezeršek\nProstori: 
 Conference room
LOCATION:Conference room
ORGANIZER:Matija Jezeršek
X-WR-TIMEZONE:Europe/Ljubljana
END:VEVENT
BEGIN:VEVENT
SUMMARY:Seatanek LASTEH
DTSTART;TZID=Europe/Ljubljana:20240611T130000
DTEND;TZID=Europe/Ljubljana:20240611T140000
DTSTAMP:20260422T182007Z
UID:fs-AFLABS-URNIK:rezervacija:4765
CATEGORIES:Reservation
COLOR:royalblue
DESCRIPTION:Predmeti: \nLetniki: \nIzvajalci: Matija Jezeršek\nProstori: 
 Conference room
LOCATION:Conference room
ORGANIZER:Matija Jezeršek
X-WR-TIMEZONE:Europe/Ljubljana
END:VEVENT
BEGIN:VEVENT
SUMMARY:Izpit: Laserski sistemi
DTSTART;TZID=Europe/Ljubljana:20240605T140000
DTEND;TZID=Europe/Ljubljana:20240605T160000
DTSTAMP:20260422T182007Z
UID:fs-AFLABS-URNIK:rezervacija:4933
ATTENDEE:Mechatronics and laser technology (MAG-1)
CATEGORIES:Reservation
COLOR:royalblue
DESCRIPTION:Predmeti: Laser systems (LSSM)\nLetniki: Mechatronics and lase
 r technology (MAG-1)\nIzvajalci: Matija Jezeršek\nProstori: Lecture hall 
 III/4
LOCATION:Lecture hall III/4
ORGANIZER:Matija Jezeršek
X-WR-TIMEZONE:Europe/Ljubljana
END:VEVENT
BEGIN:VEVENT
SUMMARY:Izpit: Laserska tehnika
DTSTART;TZID=Europe/Ljubljana:20240610T110000
DTEND;TZID=Europe/Ljubljana:20240610T130000
DTSTAMP:20260422T182007Z
UID:fs-AFLABS-URNIK:rezervacija:5020
ATTENDEE:Mechatronics (PAP-3)
CATEGORIES:Reservation
COLOR:royalblue
DESCRIPTION:Predmeti: Laser technique (LSTP)\nLetniki: Mechatronics (PAP-3
 )\nIzvajalci: Matija Jezeršek\nProstori: Lecture hall III/2
LOCATION:Lecture hall III/2
ORGANIZER:Matija Jezeršek
X-WR-TIMEZONE:Europe/Ljubljana
END:VEVENT
BEGIN:VEVENT
SUMMARY:Izpit: Osnove laserske tehnike (3117)
DTSTART;TZID=Europe/Ljubljana:20240610T110000
DTEND;TZID=Europe/Ljubljana:20240610T130000
DTSTAMP:20260422T182007Z
UID:fs-AFLABS-URNIK:rezervacija:5021
CATEGORIES:Reservation
COLOR:royalblue
DESCRIPTION:Predmeti: \nLetniki: \nIzvajalci: Matija Jezeršek\nProstori: 
 Lecture hall III/2
LOCATION:Lecture hall III/2
ORGANIZER:Matija Jezeršek
X-WR-TIMEZONE:Europe/Ljubljana
END:VEVENT
BEGIN:VEVENT
SUMMARY:Izpit: Laserska obdelovalna tehnologija (6261)
DTSTART;TZID=Europe/Ljubljana:20240612T110000
DTEND;TZID=Europe/Ljubljana:20240612T130000
DTSTAMP:20260422T182007Z
UID:fs-AFLABS-URNIK:rezervacija:5067
CATEGORIES:Reservation
COLOR:royalblue
DESCRIPTION:Predmeti: \nLetniki: \nIzvajalci: Matija Jezeršek\nProstori: 
 Lecture hall II/5
LOCATION:Lecture hall II/5
ORGANIZER:Matija Jezeršek
X-WR-TIMEZONE:Europe/Ljubljana
END:VEVENT
BEGIN:VEVENT
SUMMARY:Izpit: Laserski merilni sistemi
DTSTART;TZID=Europe/Ljubljana:20240613T080000
DTEND;TZID=Europe/Ljubljana:20240613T100000
DTSTAMP:20260422T182007Z
UID:fs-AFLABS-URNIK:rezervacija:5096
ATTENDEE:Mechatronics and laser technology (MAG-2)
CATEGORIES:Reservation
COLOR:royalblue
DESCRIPTION:Predmeti: Laser measurement systems (LMSM)\nLetniki: Mechatron
 ics and laser technology (MAG-2)\nIzvajalci: Matija Jezeršek\nProstori: L
 ecture hall III/2
LOCATION:Lecture hall III/2
ORGANIZER:Matija Jezeršek
X-WR-TIMEZONE:Europe/Ljubljana
END:VEVENT
BEGIN:VEVENT
SUMMARY:Izpit: Laserski merilni sistemi (6232)
DTSTART;TZID=Europe/Ljubljana:20240614T080000
DTEND;TZID=Europe/Ljubljana:20240614T100000
DTSTAMP:20260422T182007Z
UID:fs-AFLABS-URNIK:rezervacija:5118
CATEGORIES:Reservation
COLOR:royalblue
DESCRIPTION:Predmeti: \nLetniki: \nIzvajalci: Matija Jezeršek\nProstori: 
 Lecture hall II/3B
LOCATION:Lecture hall II/3B
ORGANIZER:Matija Jezeršek
X-WR-TIMEZONE:Europe/Ljubljana
END:VEVENT
BEGIN:VEVENT
SUMMARY:Izpit: Laserski sistemi (2055)
DTSTART;TZID=Europe/Ljubljana:20240614T120000
DTEND;TZID=Europe/Ljubljana:20240614T140000
DTSTAMP:20260422T182007Z
UID:fs-AFLABS-URNIK:rezervacija:5119
CATEGORIES:Reservation
COLOR:royalblue
DESCRIPTION:Predmeti: \nLetniki: \nIzvajalci: Matija Jezeršek\nProstori: 
 Lecture hall II/3A
LOCATION:Lecture hall II/3A
ORGANIZER:Matija Jezeršek
X-WR-TIMEZONE:Europe/Ljubljana
END:VEVENT
BEGIN:VEVENT
SUMMARY:Izpit: Laserski sistemi
DTSTART;TZID=Europe/Ljubljana:20240619T080000
DTEND;TZID=Europe/Ljubljana:20240619T100000
DTSTAMP:20260422T182007Z
UID:fs-AFLABS-URNIK:rezervacija:5189
ATTENDEE:Mechatronics and laser technology (MAG-1)
CATEGORIES:Reservation
COLOR:royalblue
DESCRIPTION:Predmeti: Laser systems (LSSM)\nLetniki: Mechatronics and lase
 r technology (MAG-1)\nIzvajalci: Matija Jezeršek\nProstori: Lecture hall 
 III/4
LOCATION:Lecture hall III/4
ORGANIZER:Matija Jezeršek
X-WR-TIMEZONE:Europe/Ljubljana
END:VEVENT
BEGIN:VEVENT
SUMMARY:Izpit: Laser Processing Technology (6061-M)
DTSTART;TZID=Europe/Ljubljana:20240626T100000
DTEND;TZID=Europe/Ljubljana:20240626T120000
DTSTAMP:20260422T182007Z
UID:fs-AFLABS-URNIK:rezervacija:5301
CATEGORIES:Reservation
COLOR:royalblue
DESCRIPTION:Predmeti: \nLetniki: \nIzvajalci: Matija Jezeršek\nProstori: 
 Lecture hall IV/2
LOCATION:Lecture hall IV/2
ORGANIZER:Matija Jezeršek
X-WR-TIMEZONE:Europe/Ljubljana
END:VEVENT
BEGIN:VEVENT
SUMMARY:Izpit: Laserska obdelovalna tehnologija
DTSTART;TZID=Europe/Ljubljana:20240626T100000
DTEND;TZID=Europe/Ljubljana:20240626T120000
DTSTAMP:20260422T182007Z
UID:fs-AFLABS-URNIK:rezervacija:5302
ATTENDEE:Mechatronics and laser technology (MAG-2)
CATEGORIES:Reservation
COLOR:royalblue
DESCRIPTION:Predmeti: Laser processing technology (LOTM)\nLetniki: Mechatr
 onics and laser technology (MAG-2)\nIzvajalci: Matija Jezeršek\nProstori:
  Lecture hall IV/2
LOCATION:Lecture hall IV/2
ORGANIZER:Matija Jezeršek
X-WR-TIMEZONE:Europe/Ljubljana
END:VEVENT
BEGIN:VEVENT
SUMMARY:Sestanek LASTEH - IskraISD
DTSTART;TZID=Europe/Ljubljana:20240709T093000
DTEND;TZID=Europe/Ljubljana:20240709T110000
DTSTAMP:20260422T182007Z
UID:fs-AFLABS-URNIK:rezervacija:5930
CATEGORIES:Reservation
COLOR:royalblue
DESCRIPTION:Predmeti: \nLetniki: \nIzvajalci: Matija Jezeršek\nProstori: 
 Conference room
LOCATION:Conference room
ORGANIZER:Matija Jezeršek
X-WR-TIMEZONE:Europe/Ljubljana
END:VEVENT
END:VCALENDAR
