BEGIN:VCALENDAR
VERSION:2.0
PRODID:-//AFLabs urnik izvoz - fs//aflabs.si//SI
NAME:UL FS Urnik
X-WR-CALNAME:UL FS Urnik
DTSTAMP:20260425T023235Z
REFRESH-INTERVAL:PT1H
SOURCE:https://urnik.fs.uni-lj.si/en/teacher/709/?day=2026-02-02&export=1
URL:https://urnik.fs.uni-lj.si/en/teacher/709/?day=2026-02-02&export=1
X-PUBLISHED-TTL:PT1H
X-WR-TIMEZONE:Europe/Ljubljana
BEGIN:VTIMEZONE
TZID:Europe/Ljubljana
BEGIN:DAYLIGHT
DTSTART:20260329T020000
RDATE:20260329T020000
RDATE:20270328T020000
TZNAME:CEST
TZOFFSETFROM:+0100
TZOFFSETTO:+0200
END:DAYLIGHT
BEGIN:STANDARD
DTSTART:20261025T030000
RDATE:20261025T030000
RDATE:20271031T030000
TZNAME:CET
TZOFFSETFROM:+0200
TZOFFSETTO:+0100
END:STANDARD
END:VTIMEZONE
BEGIN:VEVENT
SUMMARY:Laser systems (LSSM)\, Lectures (P)
DTSTART;TZID=Europe/Ljubljana:20260216T080000
DTEND;TZID=Europe/Ljubljana:20260216T100000
DTSTAMP:20260425T023235Z
UID:fs-AFLABS-URNIK:srecanje:14799-2026-02-16 08:00:00+01:00
DESCRIPTION:Predmet: Laser systems (LSSM)\, Lectures (P)\nLetniki: Mechatr
 onics and laser technology (MAG-1)\nIzvajalci: Matija Jezeršek\nProstor: 
 Lecture hall III/4
END:VEVENT
BEGIN:VEVENT
SUMMARY:Laser systems (LSSM)\, Lectures (P)
DTSTART;TZID=Europe/Ljubljana:20260223T080000
DTEND;TZID=Europe/Ljubljana:20260223T100000
DTSTAMP:20260425T023235Z
UID:fs-AFLABS-URNIK:srecanje:14799-2026-02-23 08:00:00+01:00
DESCRIPTION:Predmet: Laser systems (LSSM)\, Lectures (P)\nLetniki: Mechatr
 onics and laser technology (MAG-1)\nIzvajalci: Matija Jezeršek\nProstor: 
 Lecture hall III/4
END:VEVENT
BEGIN:VEVENT
SUMMARY:Laser systems (LSSM)\, Lectures (P)
DTSTART;TZID=Europe/Ljubljana:20260302T080000
DTEND;TZID=Europe/Ljubljana:20260302T100000
DTSTAMP:20260425T023235Z
UID:fs-AFLABS-URNIK:srecanje:14799-2026-03-02 08:00:00+01:00
DESCRIPTION:Predmet: Laser systems (LSSM)\, Lectures (P)\nLetniki: Mechatr
 onics and laser technology (MAG-1)\nIzvajalci: Matija Jezeršek\nProstor: 
 Lecture hall III/4
END:VEVENT
BEGIN:VEVENT
SUMMARY:Laser systems (LSSM)\, Lectures (P)
DTSTART;TZID=Europe/Ljubljana:20260309T080000
DTEND;TZID=Europe/Ljubljana:20260309T100000
DTSTAMP:20260425T023235Z
UID:fs-AFLABS-URNIK:srecanje:14799-2026-03-09 08:00:00+01:00
DESCRIPTION:Predmet: Laser systems (LSSM)\, Lectures (P)\nLetniki: Mechatr
 onics and laser technology (MAG-1)\nIzvajalci: Matija Jezeršek\nProstor: 
 Lecture hall III/4
END:VEVENT
BEGIN:VEVENT
SUMMARY:Mechatronics and laser technologies (MLTR)\, Lectures (P)
DTSTART;TZID=Europe/Ljubljana:20260218T080000
DTEND;TZID=Europe/Ljubljana:20260218T110000
DTSTAMP:20260425T023235Z
UID:fs-AFLABS-URNIK:srecanje:16319-2026-02-18 08:00:00+01:00
DESCRIPTION:Predmet: Mechatronics and laser technologies (MLTR)\, Lectures
  (P)\nLetniki: RRP-3 (RRP-3)\nIzvajalci: Matija Jezeršek\, Dominik Kozjek
 \, Gašper Škulj\nProstor: Lecture hall III/4
END:VEVENT
BEGIN:VEVENT
SUMMARY:Mechatronics and laser technologies (MLTR)\, Lectures (P)
DTSTART;TZID=Europe/Ljubljana:20260225T080000
DTEND;TZID=Europe/Ljubljana:20260225T110000
DTSTAMP:20260425T023235Z
UID:fs-AFLABS-URNIK:srecanje:16319-2026-02-25 08:00:00+01:00
DESCRIPTION:Predmet: Mechatronics and laser technologies (MLTR)\, Lectures
  (P)\nLetniki: RRP-3 (RRP-3)\nIzvajalci: Matija Jezeršek\, Dominik Kozjek
 \, Gašper Škulj\nProstor: Lecture hall III/4
END:VEVENT
BEGIN:VEVENT
SUMMARY:Mechatronics and laser technologies (MLTR)\, Lectures (P)
DTSTART;TZID=Europe/Ljubljana:20260304T080000
DTEND;TZID=Europe/Ljubljana:20260304T110000
DTSTAMP:20260425T023235Z
UID:fs-AFLABS-URNIK:srecanje:16319-2026-03-04 08:00:00+01:00
DESCRIPTION:Predmet: Mechatronics and laser technologies (MLTR)\, Lectures
  (P)\nLetniki: RRP-3 (RRP-3)\nIzvajalci: Matija Jezeršek\, Dominik Kozjek
 \, Gašper Škulj\nProstor: Lecture hall III/4
END:VEVENT
BEGIN:VEVENT
SUMMARY:Izpit: Laser Processing Technology
DTSTART;TZID=Europe/Ljubljana:20260211T070000
DTEND;TZID=Europe/Ljubljana:20260211T090000
DTSTAMP:20260425T023235Z
UID:fs-AFLABS-URNIK:rezervacija:11549
ATTENDEE:Erasmus (Erasmus)
CATEGORIES:Reservation
COLOR:royalblue
DESCRIPTION:Predmeti: Laser Processing Technology (LPTE)\nLetniki: Erasmus
  (Erasmus)\nIzvajalci: Matija Jezeršek\nProstori: Lecture hall III/2
LOCATION:Lecture hall III/2
ORGANIZER:Matija Jezeršek
X-WR-TIMEZONE:Europe/Ljubljana
END:VEVENT
BEGIN:VEVENT
SUMMARY:Izpit: Laserska obdelovalna tehnologija
DTSTART;TZID=Europe/Ljubljana:20260211T070000
DTEND;TZID=Europe/Ljubljana:20260211T090000
DTSTAMP:20260425T023235Z
UID:fs-AFLABS-URNIK:rezervacija:11550
ATTENDEE:Mechatronics and laser technology (MAG-2)
CATEGORIES:Reservation
COLOR:royalblue
DESCRIPTION:Predmeti: Laser processing technology (LOTM)\nLetniki: Mechatr
 onics and laser technology (MAG-2)\nIzvajalci: Matija Jezeršek\nProstori:
  Lecture hall III/2
LOCATION:Lecture hall III/2
ORGANIZER:Matija Jezeršek
X-WR-TIMEZONE:Europe/Ljubljana
END:VEVENT
BEGIN:VEVENT
SUMMARY:Izpit: Laserska tehnika
DTSTART;TZID=Europe/Ljubljana:20260211T100000
DTEND;TZID=Europe/Ljubljana:20260211T120000
DTSTAMP:20260425T023235Z
UID:fs-AFLABS-URNIK:rezervacija:11561
ATTENDEE:Mechatronics (PAP-3)
CATEGORIES:Reservation
COLOR:royalblue
DESCRIPTION:Predmeti: Laser technique (LSTP)\nLetniki: Mechatronics (PAP-3
 )\nIzvajalci: Matija Jezeršek\nProstori: Lecture hall IV/2
LOCATION:Lecture hall IV/2
ORGANIZER:Matija Jezeršek
X-WR-TIMEZONE:Europe/Ljubljana
END:VEVENT
BEGIN:VEVENT
SUMMARY:Izpit: Osnove laserske tehnike
DTSTART;TZID=Europe/Ljubljana:20260211T100000
DTEND;TZID=Europe/Ljubljana:20260211T120000
DTSTAMP:20260425T023235Z
UID:fs-AFLABS-URNIK:rezervacija:11562
ATTENDEE:Mehatronika (PAP-3)
CATEGORIES:Reservation
COLOR:royalblue
DESCRIPTION:Predmeti: Introduction to Laser techniques (3117)\nLetniki: Me
 hatronika (PAP-3)\nIzvajalci: Matija Jezeršek\nProstori: Lecture hall IV/
 2
LOCATION:Lecture hall IV/2
ORGANIZER:Matija Jezeršek
X-WR-TIMEZONE:Europe/Ljubljana
END:VEVENT
BEGIN:VEVENT
SUMMARY:Izpit: Laserski merilni sistemi
DTSTART;TZID=Europe/Ljubljana:20260212T080000
DTEND;TZID=Europe/Ljubljana:20260212T100000
DTSTAMP:20260425T023235Z
UID:fs-AFLABS-URNIK:rezervacija:11620
ATTENDEE:Mechatronics and laser technology (MAG-2)
CATEGORIES:Reservation
COLOR:royalblue
DESCRIPTION:Predmeti: Laser measurement systems (LMSM)\nLetniki: Mechatron
 ics and laser technology (MAG-2)\nIzvajalci: Matija Jezeršek\nProstori: L
 ecture hall III/2
LOCATION:Lecture hall III/2
ORGANIZER:Matija Jezeršek
X-WR-TIMEZONE:Europe/Ljubljana
END:VEVENT
BEGIN:VEVENT
SUMMARY:Izpit: Laser Processing Technology
DTSTART;TZID=Europe/Ljubljana:20260128T160000
DTEND;TZID=Europe/Ljubljana:20260128T180000
DTSTAMP:20260425T023235Z
UID:fs-AFLABS-URNIK:rezervacija:12360
ATTENDEE:Erasmus (Erasmus)
CATEGORIES:Reservation
COLOR:royalblue
DESCRIPTION:Predmeti: Laser Processing Technology (LPTE)\nLetniki: Erasmus
  (Erasmus)\nIzvajalci: Matija Jezeršek\nProstori: Lecture hall V/2
LOCATION:Lecture hall V/2
ORGANIZER:Matija Jezeršek
X-WR-TIMEZONE:Europe/Ljubljana
END:VEVENT
BEGIN:VEVENT
SUMMARY:Izpit: Laserska obdelovalna tehnologija
DTSTART;TZID=Europe/Ljubljana:20260128T160000
DTEND;TZID=Europe/Ljubljana:20260128T180000
DTSTAMP:20260425T023235Z
UID:fs-AFLABS-URNIK:rezervacija:12361
ATTENDEE:Mechatronics and laser technology (MAG-2)
CATEGORIES:Reservation
COLOR:royalblue
DESCRIPTION:Predmeti: Laser processing technology (LOTM)\nLetniki: Mechatr
 onics and laser technology (MAG-2)\nIzvajalci: Matija Jezeršek\nProstori:
  Lecture hall V/2
LOCATION:Lecture hall V/2
ORGANIZER:Matija Jezeršek
X-WR-TIMEZONE:Europe/Ljubljana
END:VEVENT
BEGIN:VEVENT
SUMMARY:Izpit: Laserska tehnika
DTSTART;TZID=Europe/Ljubljana:20260128T160000
DTEND;TZID=Europe/Ljubljana:20260128T180000
DTSTAMP:20260425T023235Z
UID:fs-AFLABS-URNIK:rezervacija:12362
ATTENDEE:Mechatronics (PAP-3)
CATEGORIES:Reservation
COLOR:royalblue
DESCRIPTION:Predmeti: Laser technique (LSTP)\nLetniki: Mechatronics (PAP-3
 )\nIzvajalci: Matija Jezeršek\nProstori: Lecture hall V/2
LOCATION:Lecture hall V/2
ORGANIZER:Matija Jezeršek
X-WR-TIMEZONE:Europe/Ljubljana
END:VEVENT
BEGIN:VEVENT
SUMMARY:Izpit: Laserski merilni sistemi
DTSTART;TZID=Europe/Ljubljana:20260129T130000
DTEND;TZID=Europe/Ljubljana:20260129T150000
DTSTAMP:20260425T023235Z
UID:fs-AFLABS-URNIK:rezervacija:12431
ATTENDEE:Mechatronics and laser technology (MAG-2)
CATEGORIES:Reservation
COLOR:royalblue
DESCRIPTION:Predmeti: Laser measurement systems (LMSM)\nLetniki: Mechatron
 ics and laser technology (MAG-2)\nIzvajalci: Matija Jezeršek\nProstori: L
 ecture hall IV/3A
LOCATION:Lecture hall IV/3A
ORGANIZER:Matija Jezeršek
X-WR-TIMEZONE:Europe/Ljubljana
END:VEVENT
BEGIN:VEVENT
SUMMARY:Izpit: Laserski sistemi
DTSTART;TZID=Europe/Ljubljana:20260130T120000
DTEND;TZID=Europe/Ljubljana:20260130T140000
DTSTAMP:20260425T023235Z
UID:fs-AFLABS-URNIK:rezervacija:12437
ATTENDEE:RRP-3 (RRP-3)
CATEGORIES:Reservation
COLOR:royalblue
DESCRIPTION:Predmeti: Laser Systems (2055)\nLetniki: RRP-3 (RRP-3)\nIzvaja
 lci: Matija Jezeršek\nProstori: Lecture hall II/3A
LOCATION:Lecture hall II/3A
ORGANIZER:Matija Jezeršek
X-WR-TIMEZONE:Europe/Ljubljana
END:VEVENT
BEGIN:VEVENT
SUMMARY:Izpit: Laserski merilni sistemi
DTSTART;TZID=Europe/Ljubljana:20260212T080000
DTEND;TZID=Europe/Ljubljana:20260212T100000
DTSTAMP:20260425T023235Z
UID:fs-AFLABS-URNIK:rezervacija:12877
ATTENDEE:Mechatronics and laser technology (MAG-2)
CATEGORIES:Reservation
COLOR:royalblue
DESCRIPTION:Predmeti: Laser measurement systems (LMSM)\nLetniki: Mechatron
 ics and laser technology (MAG-2)\nIzvajalci: Matija Jezeršek\nProstori: L
 ecture hall III/2
LOCATION:Lecture hall III/2
ORGANIZER:Matija Jezeršek
X-WR-TIMEZONE:Europe/Ljubljana
END:VEVENT
BEGIN:VEVENT
SUMMARY:Izpit: Laserski merilni sistemi
DTSTART;TZID=Europe/Ljubljana:20260129T130000
DTEND;TZID=Europe/Ljubljana:20260129T150000
DTSTAMP:20260425T023235Z
UID:fs-AFLABS-URNIK:rezervacija:12879
ATTENDEE:Mechatronics and laser technology (MAG-2)
CATEGORIES:Reservation
COLOR:royalblue
DESCRIPTION:Predmeti: Laser measurement systems (LMSM)\nLetniki: Mechatron
 ics and laser technology (MAG-2)\nIzvajalci: Matija Jezeršek\nProstori: L
 ecture hall IV/3A
LOCATION:Lecture hall IV/3A
ORGANIZER:Matija Jezeršek
X-WR-TIMEZONE:Europe/Ljubljana
END:VEVENT
BEGIN:VEVENT
SUMMARY:Izpit: Laserska obdelovalna tehnologija
DTSTART;TZID=Europe/Ljubljana:20260211T070000
DTEND;TZID=Europe/Ljubljana:20260211T090000
DTSTAMP:20260425T023235Z
UID:fs-AFLABS-URNIK:rezervacija:12880
ATTENDEE:Mechatronics and laser technology (MAG-2)
CATEGORIES:Reservation
COLOR:royalblue
DESCRIPTION:Predmeti: Laser processing technology (LOTM)\nLetniki: Mechatr
 onics and laser technology (MAG-2)\nIzvajalci: Matija Jezeršek\nProstori:
  Lecture hall III/2
LOCATION:Lecture hall III/2
ORGANIZER:Matija Jezeršek
X-WR-TIMEZONE:Europe/Ljubljana
END:VEVENT
BEGIN:VEVENT
SUMMARY:Izpit: Laserska obdelovalna tehnologija
DTSTART;TZID=Europe/Ljubljana:20260128T160000
DTEND;TZID=Europe/Ljubljana:20260128T180000
DTSTAMP:20260425T023235Z
UID:fs-AFLABS-URNIK:rezervacija:12883
ATTENDEE:Mechatronics and laser technology (MAG-2)
CATEGORIES:Reservation
COLOR:royalblue
DESCRIPTION:Predmeti: Laser processing technology (LOTM)\nLetniki: Mechatr
 onics and laser technology (MAG-2)\nIzvajalci: Matija Jezeršek\nProstori:
  Lecture hall V/2
LOCATION:Lecture hall V/2
ORGANIZER:Matija Jezeršek
X-WR-TIMEZONE:Europe/Ljubljana
END:VEVENT
BEGIN:VEVENT
SUMMARY:LASTEH - FMF
DTSTART;TZID=Europe/Ljubljana:20260217T110000
DTEND;TZID=Europe/Ljubljana:20260217T130000
DTSTAMP:20260425T023235Z
UID:fs-AFLABS-URNIK:rezervacija:13813
CATEGORIES:Reservation
COLOR:royalblue
DESCRIPTION:Predmeti: \nLetniki: \nIzvajalci: Matija Jezeršek\nProstori: 
 Conference room
LOCATION:Conference room
ORGANIZER:Matija Jezeršek
X-WR-TIMEZONE:Europe/Ljubljana
END:VEVENT
BEGIN:VEVENT
SUMMARY:LASTEH
DTSTART;TZID=Europe/Ljubljana:20260219T090000
DTEND;TZID=Europe/Ljubljana:20260219T103000
DTSTAMP:20260425T023235Z
UID:fs-AFLABS-URNIK:rezervacija:13840
CATEGORIES:Reservation
COLOR:royalblue
DESCRIPTION:Predmeti: \nLetniki: \nIzvajalci: Matija Jezeršek\nProstori: 
 Conference room
LOCATION:Conference room
ORGANIZER:Matija Jezeršek
X-WR-TIMEZONE:Europe/Ljubljana
END:VEVENT
END:VCALENDAR
