BEGIN:VCALENDAR
VERSION:2.0
PRODID:-//AFLabs urnik izvoz - fs//aflabs.si//SI
NAME:UL FS Urnik
X-WR-CALNAME:UL FS Urnik
DTSTAMP:20260423T233715Z
REFRESH-INTERVAL:PT1H
SOURCE:https://urnik.fs.uni-lj.si/en/teacher/709/?day=2026-08-24&export=1
URL:https://urnik.fs.uni-lj.si/en/teacher/709/?day=2026-08-24&export=1
X-PUBLISHED-TTL:PT1H
X-WR-TIMEZONE:Europe/Ljubljana
BEGIN:VTIMEZONE
TZID:Europe/Ljubljana
BEGIN:DAYLIGHT
DTSTART:20260329T020000
RDATE:20260329T020000
RDATE:20270328T020000
TZNAME:CEST
TZOFFSETFROM:+0100
TZOFFSETTO:+0200
END:DAYLIGHT
BEGIN:STANDARD
DTSTART:20261025T030000
RDATE:20261025T030000
RDATE:20271031T030000
TZNAME:CET
TZOFFSETFROM:+0200
TZOFFSETTO:+0100
END:STANDARD
END:VTIMEZONE
BEGIN:VEVENT
SUMMARY:Izpit: Laserski sistemi
DTSTART;TZID=Europe/Ljubljana:20260812T080000
DTEND;TZID=Europe/Ljubljana:20260812T100000
DTSTAMP:20260423T233715Z
UID:fs-AFLABS-URNIK:rezervacija:11666
ATTENDEE:Mechatronics and laser technology (MAG-1)
CATEGORIES:Reservation
COLOR:royalblue
DESCRIPTION:Predmeti: Laser systems (LSSM)\nLetniki: Mechatronics and lase
 r technology (MAG-1)\nIzvajalci: Matija Jezeršek\nProstori: Lecture hall 
 III/2
LOCATION:Lecture hall III/2
ORGANIZER:Matija Jezeršek
X-WR-TIMEZONE:Europe/Ljubljana
END:VEVENT
BEGIN:VEVENT
SUMMARY:Izpit: Laserski sistemi
DTSTART;TZID=Europe/Ljubljana:20260812T080000
DTEND;TZID=Europe/Ljubljana:20260812T100000
DTSTAMP:20260423T233715Z
UID:fs-AFLABS-URNIK:rezervacija:11667
ATTENDEE:Mechatronics and laser technology (MAG-1)
CATEGORIES:Reservation
COLOR:royalblue
DESCRIPTION:Predmeti: Laser systems (LSSM)\nLetniki: Mechatronics and lase
 r technology (MAG-1)\nIzvajalci: Matija Jezeršek\nProstori: Lecture hall 
 III/2
LOCATION:Lecture hall III/2
ORGANIZER:Matija Jezeršek
X-WR-TIMEZONE:Europe/Ljubljana
END:VEVENT
BEGIN:VEVENT
SUMMARY:Izpit: Laser Processing Technology
DTSTART;TZID=Europe/Ljubljana:20260818T140000
DTEND;TZID=Europe/Ljubljana:20260818T160000
DTSTAMP:20260423T233715Z
UID:fs-AFLABS-URNIK:rezervacija:11849
ATTENDEE:Erasmus (Erasmus)
CATEGORIES:Reservation
COLOR:royalblue
DESCRIPTION:Predmeti: Laser Processing Technology (LPTE)\nLetniki: Erasmus
  (Erasmus)\nIzvajalci: Matija Jezeršek\nProstori: Lecture hall III/2
LOCATION:Lecture hall III/2
ORGANIZER:Matija Jezeršek
X-WR-TIMEZONE:Europe/Ljubljana
END:VEVENT
BEGIN:VEVENT
SUMMARY:Izpit: Laserska obdelovalna tehnologija
DTSTART;TZID=Europe/Ljubljana:20260818T140000
DTEND;TZID=Europe/Ljubljana:20260818T160000
DTSTAMP:20260423T233715Z
UID:fs-AFLABS-URNIK:rezervacija:11850
ATTENDEE:Mechatronics and laser technology (MAG-2)
CATEGORIES:Reservation
COLOR:royalblue
DESCRIPTION:Predmeti: Laser processing technology (LOTM)\nLetniki: Mechatr
 onics and laser technology (MAG-2)\nIzvajalci: Matija Jezeršek\nProstori:
  Lecture hall III/2
LOCATION:Lecture hall III/2
ORGANIZER:Matija Jezeršek
X-WR-TIMEZONE:Europe/Ljubljana
END:VEVENT
BEGIN:VEVENT
SUMMARY:Izpit: Laserski merilni sistemi
DTSTART;TZID=Europe/Ljubljana:20260819T080000
DTEND;TZID=Europe/Ljubljana:20260819T100000
DTSTAMP:20260423T233715Z
UID:fs-AFLABS-URNIK:rezervacija:11926
ATTENDEE:Mechatronics and laser technology (MAG-2)
CATEGORIES:Reservation
COLOR:royalblue
DESCRIPTION:Predmeti: Laser measurement systems (LMSM)\nLetniki: Mechatron
 ics and laser technology (MAG-2)\nIzvajalci: Matija Jezeršek\nProstori: L
 ecture hall III/3A
LOCATION:Lecture hall III/3A
ORGANIZER:Matija Jezeršek
X-WR-TIMEZONE:Europe/Ljubljana
END:VEVENT
BEGIN:VEVENT
SUMMARY:Izpit: Laserska tehnika
DTSTART;TZID=Europe/Ljubljana:20260820T080000
DTEND;TZID=Europe/Ljubljana:20260820T100000
DTSTAMP:20260423T233715Z
UID:fs-AFLABS-URNIK:rezervacija:11975
ATTENDEE:Mechatronics (PAP-3)
CATEGORIES:Reservation
COLOR:royalblue
DESCRIPTION:Predmeti: Laser technique (LSTP)\nLetniki: Mechatronics (PAP-3
 )\nIzvajalci: Matija Jezeršek\nProstori: Lecture hall III/4
LOCATION:Lecture hall III/4
ORGANIZER:Matija Jezeršek
X-WR-TIMEZONE:Europe/Ljubljana
END:VEVENT
BEGIN:VEVENT
SUMMARY:Izpit: Laserski sistemi
DTSTART;TZID=Europe/Ljubljana:20260820T080000
DTEND;TZID=Europe/Ljubljana:20260820T100000
DTSTAMP:20260423T233715Z
UID:fs-AFLABS-URNIK:rezervacija:11976
ATTENDEE:RRP-3 (RRP-3)
CATEGORIES:Reservation
COLOR:royalblue
DESCRIPTION:Predmeti: Laser Systems (2055)\nLetniki: RRP-3 (RRP-3)\nIzvaja
 lci: Matija Jezeršek\nProstori: Lecture hall III/4
LOCATION:Lecture hall III/4
ORGANIZER:Matija Jezeršek
X-WR-TIMEZONE:Europe/Ljubljana
END:VEVENT
BEGIN:VEVENT
SUMMARY:Izpit: Osnove laserske tehnike
DTSTART;TZID=Europe/Ljubljana:20260820T080000
DTEND;TZID=Europe/Ljubljana:20260820T100000
DTSTAMP:20260423T233715Z
UID:fs-AFLABS-URNIK:rezervacija:11977
ATTENDEE:Mehatronika (PAP-3)
CATEGORIES:Reservation
COLOR:royalblue
DESCRIPTION:Predmeti: Introduction to Laser techniques (3117)\nLetniki: Me
 hatronika (PAP-3)\nIzvajalci: Matija Jezeršek\nProstori: Lecture hall III
 /4
LOCATION:Lecture hall III/4
ORGANIZER:Matija Jezeršek
X-WR-TIMEZONE:Europe/Ljubljana
END:VEVENT
BEGIN:VEVENT
SUMMARY:Izpit: Mehatronika in laserske tehnologije
DTSTART;TZID=Europe/Ljubljana:20260825T120000
DTEND;TZID=Europe/Ljubljana:20260825T140000
DTSTAMP:20260423T233715Z
UID:fs-AFLABS-URNIK:rezervacija:12199
ATTENDEE:RRP-3 (RRP-3)
CATEGORIES:Reservation
COLOR:royalblue
DESCRIPTION:Predmeti: Mechatronics and laser technologies (MLTR)\nLetniki:
  RRP-3 (RRP-3)\nIzvajalci: Matija Jezeršek\nProstori: Lecture hall III/4
LOCATION:Lecture hall III/4
ORGANIZER:Matija Jezeršek
X-WR-TIMEZONE:Europe/Ljubljana
END:VEVENT
BEGIN:VEVENT
SUMMARY:Izpit: Laserski merilni sistemi
DTSTART;TZID=Europe/Ljubljana:20260819T080000
DTEND;TZID=Europe/Ljubljana:20260819T100000
DTSTAMP:20260423T233715Z
UID:fs-AFLABS-URNIK:rezervacija:12878
ATTENDEE:Mechatronics and laser technology (MAG-2)
CATEGORIES:Reservation
COLOR:royalblue
DESCRIPTION:Predmeti: Laser measurement systems (LMSM)\nLetniki: Mechatron
 ics and laser technology (MAG-2)\nIzvajalci: Matija Jezeršek\nProstori: L
 ecture hall III/3A
LOCATION:Lecture hall III/3A
ORGANIZER:Matija Jezeršek
X-WR-TIMEZONE:Europe/Ljubljana
END:VEVENT
BEGIN:VEVENT
SUMMARY:Izpit: Laserska obdelovalna tehnologija
DTSTART;TZID=Europe/Ljubljana:20260818T140000
DTEND;TZID=Europe/Ljubljana:20260818T160000
DTSTAMP:20260423T233715Z
UID:fs-AFLABS-URNIK:rezervacija:12881
ATTENDEE:Mechatronics and laser technology (MAG-2)
CATEGORIES:Reservation
COLOR:royalblue
DESCRIPTION:Predmeti: Laser processing technology (LOTM)\nLetniki: Mechatr
 onics and laser technology (MAG-2)\nIzvajalci: Matija Jezeršek\nProstori:
  Lecture hall III/2
LOCATION:Lecture hall III/2
ORGANIZER:Matija Jezeršek
X-WR-TIMEZONE:Europe/Ljubljana
END:VEVENT
END:VCALENDAR
