BEGIN:VCALENDAR
VERSION:2.0
PRODID:-//AFLabs urnik izvoz - fs//aflabs.si//SI
NAME:UL FS Urnik
X-WR-CALNAME:UL FS Urnik
DTSTAMP:20260425T034716Z
REFRESH-INTERVAL:PT1H
SOURCE:https://urnik.fs.uni-lj.si/en/teacher/712/?day=2023-06-12&export=1
URL:https://urnik.fs.uni-lj.si/en/teacher/712/?day=2023-06-12&export=1
X-PUBLISHED-TTL:PT1H
X-WR-TIMEZONE:Europe/Ljubljana
BEGIN:VTIMEZONE
TZID:Europe/Ljubljana
BEGIN:DAYLIGHT
DTSTART:20260329T020000
RDATE:20260329T020000
RDATE:20270328T020000
TZNAME:CEST
TZOFFSETFROM:+0100
TZOFFSETTO:+0200
END:DAYLIGHT
BEGIN:STANDARD
DTSTART:20261025T030000
RDATE:20261025T030000
RDATE:20271031T030000
TZNAME:CET
TZOFFSETFROM:+0200
TZOFFSETTO:+0100
END:STANDARD
END:VTIMEZONE
BEGIN:VEVENT
SUMMARY:Izpit: Pogonski sklopi
DTSTART;TZID=Europe/Ljubljana:20230623T100000
DTEND;TZID=Europe/Ljubljana:20230623T120000
DTSTAMP:20260425T034716Z
UID:fs-AFLABS-URNIK:rezervacija:1375
ATTENDEE:Snovanje, obratovanje in vzdrževanje - Mobilna tehnika (PAP-3)
ATTENDEE:Snovanje, obratovanje in vzdrževanje - Transportni in delovni st
 roji (PAP-3)
CATEGORIES:Reservation
COLOR:royalblue
DESCRIPTION:Predmeti: Power Drives (3068)\nLetniki: Snovanje\, obratovanje
  in vzdrževanje - Mobilna tehnika (PAP-3)\, Snovanje\, obratovanje in vzd
 rževanje - Transportni in delovni stroji (PAP-3)\nIzvajalci: Mitjan Kalin
 \nProstori: Lecture hall IV/4\, Lecture hall V/2
LOCATION:Lecture hall IV/4\, Lecture hall V/2
ORGANIZER:Mitjan Kalin
X-WR-TIMEZONE:Europe/Ljubljana
END:VEVENT
BEGIN:VEVENT
SUMMARY:Izpit: Maziva in mazanje
DTSTART;TZID=Europe/Ljubljana:20230608T100000
DTEND;TZID=Europe/Ljubljana:20230608T120000
DTSTAMP:20260425T034716Z
UID:fs-AFLABS-URNIK:rezervacija:2627
ATTENDEE:Konstruiranje strojev in naprav (PAP-2)
CATEGORIES:Reservation
COLOR:royalblue
DESCRIPTION:Predmeti: Lubricants and lubrication (MZMP)\nLetniki: Konstrui
 ranje strojev in naprav (PAP-2)\nIzvajalci: Mitjan Kalin\nProstori: Lectur
 e hall IV/4\, Lecture hall V/2
LOCATION:Lecture hall IV/4\, Lecture hall V/2
ORGANIZER:Mitjan Kalin
X-WR-TIMEZONE:Europe/Ljubljana
END:VEVENT
BEGIN:VEVENT
SUMMARY:Izpit: Maziva in mazanje
DTSTART;TZID=Europe/Ljubljana:20230622T100000
DTEND;TZID=Europe/Ljubljana:20230622T120000
DTSTAMP:20260425T034716Z
UID:fs-AFLABS-URNIK:rezervacija:2628
ATTENDEE:Konstruiranje strojev in naprav (PAP-2)
CATEGORIES:Reservation
COLOR:royalblue
DESCRIPTION:Predmeti: Lubricants and lubrication (MZMP)\nLetniki: Konstrui
 ranje strojev in naprav (PAP-2)\nIzvajalci: Mitjan Kalin\nProstori: Lectur
 e hall IV/4\, Lecture hall V/2
LOCATION:Lecture hall IV/4\, Lecture hall V/2
ORGANIZER:Mitjan Kalin
X-WR-TIMEZONE:Europe/Ljubljana
END:VEVENT
BEGIN:VEVENT
SUMMARY:Izpit: Maziva in mazanje (3113)
DTSTART;TZID=Europe/Ljubljana:20230609T100000
DTEND;TZID=Europe/Ljubljana:20230609T120000
DTSTAMP:20260425T034716Z
UID:fs-AFLABS-URNIK:rezervacija:2631
CATEGORIES:Reservation
COLOR:royalblue
DESCRIPTION:Predmeti: \nLetniki: \nIzvajalci: Mitjan Kalin\nProstori: Lect
 ure hall IV/4\, Lecture hall V/2
LOCATION:Lecture hall IV/4\, Lecture hall V/2
ORGANIZER:Mitjan Kalin
X-WR-TIMEZONE:Europe/Ljubljana
END:VEVENT
BEGIN:VEVENT
SUMMARY:Izpit: Maziva in mazanje (3113)
DTSTART;TZID=Europe/Ljubljana:20230623T100000
DTEND;TZID=Europe/Ljubljana:20230623T120000
DTSTAMP:20260425T034716Z
UID:fs-AFLABS-URNIK:rezervacija:2632
CATEGORIES:Reservation
COLOR:royalblue
DESCRIPTION:Predmeti: \nLetniki: \nIzvajalci: Mitjan Kalin\nProstori: Lect
 ure hall IV/4\, Lecture hall V/2
LOCATION:Lecture hall IV/4\, Lecture hall V/2
ORGANIZER:Mitjan Kalin
X-WR-TIMEZONE:Europe/Ljubljana
END:VEVENT
BEGIN:VEVENT
SUMMARY:Izpit: Mehanski prenosniki moči (6257)
DTSTART;TZID=Europe/Ljubljana:20230623T150000
DTEND;TZID=Europe/Ljubljana:20230623T170000
DTSTAMP:20260425T034716Z
UID:fs-AFLABS-URNIK:rezervacija:2633
CATEGORIES:Reservation
COLOR:royalblue
DESCRIPTION:Predmeti: \nLetniki: \nIzvajalci: Mitjan Kalin\nProstori: Lect
 ure hall III/2\, Lecture hall III/4
LOCATION:Lecture hall III/2\, Lecture hall III/4
ORGANIZER:Mitjan Kalin
X-WR-TIMEZONE:Europe/Ljubljana
END:VEVENT
BEGIN:VEVENT
SUMMARY:Izpit: Nanotehnologije
DTSTART;TZID=Europe/Ljubljana:20230613T100000
DTEND;TZID=Europe/Ljubljana:20230613T120000
DTSTAMP:20260425T034716Z
UID:fs-AFLABS-URNIK:rezervacija:2635
ATTENDEE:Engineering design (MAG-1)
CATEGORIES:Reservation
COLOR:royalblue
DESCRIPTION:Predmeti: Nanotechnologies (NNTM)\nLetniki: Engineering design
  (MAG-1)\nIzvajalci: Mitjan Kalin\nProstori: Lecture hall III/4\, Lecture 
 hall V/2
LOCATION:Lecture hall III/4\, Lecture hall V/2
ORGANIZER:Mitjan Kalin
X-WR-TIMEZONE:Europe/Ljubljana
END:VEVENT
BEGIN:VEVENT
SUMMARY:Izpit: Nanotehnologije
DTSTART;TZID=Europe/Ljubljana:20230627T140000
DTEND;TZID=Europe/Ljubljana:20230627T160000
DTSTAMP:20260425T034716Z
UID:fs-AFLABS-URNIK:rezervacija:2636
ATTENDEE:Engineering design (MAG-1)
CATEGORIES:Reservation
COLOR:royalblue
DESCRIPTION:Predmeti: Nanotechnologies (NNTM)\nLetniki: Engineering design
  (MAG-1)\nIzvajalci: Mitjan Kalin\nProstori: Lecture hall IV/4\, Lecture h
 all V/2
LOCATION:Lecture hall IV/4\, Lecture hall V/2
ORGANIZER:Mitjan Kalin
X-WR-TIMEZONE:Europe/Ljubljana
END:VEVENT
BEGIN:VEVENT
SUMMARY:Izpit: Nanotehnologije (6204)
DTSTART;TZID=Europe/Ljubljana:20230613T100000
DTEND;TZID=Europe/Ljubljana:20230613T120000
DTSTAMP:20260425T034716Z
UID:fs-AFLABS-URNIK:rezervacija:2638
CATEGORIES:Reservation
COLOR:royalblue
DESCRIPTION:Predmeti: \nLetniki: \nIzvajalci: Mitjan Kalin\nProstori: Lect
 ure hall III/4\, Lecture hall V/2
LOCATION:Lecture hall III/4\, Lecture hall V/2
ORGANIZER:Mitjan Kalin
X-WR-TIMEZONE:Europe/Ljubljana
END:VEVENT
BEGIN:VEVENT
SUMMARY:Izpit: Obrabno obstojne površine (3119)
DTSTART;TZID=Europe/Ljubljana:20230609T100000
DTEND;TZID=Europe/Ljubljana:20230609T120000
DTSTAMP:20260425T034716Z
UID:fs-AFLABS-URNIK:rezervacija:2640
CATEGORIES:Reservation
COLOR:royalblue
DESCRIPTION:Predmeti: \nLetniki: \nIzvajalci: Mitjan Kalin\nProstori: Lect
 ure hall IV/4\, Lecture hall V/2
LOCATION:Lecture hall IV/4\, Lecture hall V/2
ORGANIZER:Mitjan Kalin
X-WR-TIMEZONE:Europe/Ljubljana
END:VEVENT
BEGIN:VEVENT
SUMMARY:Izpit: Obrabno obstojne površine (3119)
DTSTART;TZID=Europe/Ljubljana:20230623T100000
DTEND;TZID=Europe/Ljubljana:20230623T120000
DTSTAMP:20260425T034716Z
UID:fs-AFLABS-URNIK:rezervacija:2641
CATEGORIES:Reservation
COLOR:royalblue
DESCRIPTION:Predmeti: \nLetniki: \nIzvajalci: Mitjan Kalin\nProstori: Lect
 ure hall IV/4\, Lecture hall V/2
LOCATION:Lecture hall IV/4\, Lecture hall V/2
ORGANIZER:Mitjan Kalin
X-WR-TIMEZONE:Europe/Ljubljana
END:VEVENT
BEGIN:VEVENT
SUMMARY:Izpit: Pogonski sklopi
DTSTART;TZID=Europe/Ljubljana:20230609T100000
DTEND;TZID=Europe/Ljubljana:20230609T120000
DTSTAMP:20260425T034716Z
UID:fs-AFLABS-URNIK:rezervacija:2643
ATTENDEE:Snovanje, obratovanje in vzdrževanje - Mobilna tehnika (PAP-3)
ATTENDEE:Snovanje, obratovanje in vzdrževanje - Transportni in delovni st
 roji (PAP-3)
CATEGORIES:Reservation
COLOR:royalblue
DESCRIPTION:Predmeti: Power Drives (3068)\nLetniki: Snovanje\, obratovanje
  in vzdrževanje - Mobilna tehnika (PAP-3)\, Snovanje\, obratovanje in vzd
 rževanje - Transportni in delovni stroji (PAP-3)\nIzvajalci: Mitjan Kalin
 \nProstori: Lecture hall IV/4\, Lecture hall V/2
LOCATION:Lecture hall IV/4\, Lecture hall V/2
ORGANIZER:Mitjan Kalin
X-WR-TIMEZONE:Europe/Ljubljana
END:VEVENT
BEGIN:VEVENT
SUMMARY:Izpit: Tehnična diagnostika (3065)
DTSTART;TZID=Europe/Ljubljana:20230609T100000
DTEND;TZID=Europe/Ljubljana:20230609T120000
DTSTAMP:20260425T034716Z
UID:fs-AFLABS-URNIK:rezervacija:2645
CATEGORIES:Reservation
COLOR:royalblue
DESCRIPTION:Predmeti: \nLetniki: \nIzvajalci: Mitjan Kalin\nProstori: Lect
 ure hall IV/4\, Lecture hall V/2
LOCATION:Lecture hall IV/4\, Lecture hall V/2
ORGANIZER:Mitjan Kalin
X-WR-TIMEZONE:Europe/Ljubljana
END:VEVENT
BEGIN:VEVENT
SUMMARY:Izpit: Tehnična diagnostika (3065)
DTSTART;TZID=Europe/Ljubljana:20230623T100000
DTEND;TZID=Europe/Ljubljana:20230623T120000
DTSTAMP:20260425T034716Z
UID:fs-AFLABS-URNIK:rezervacija:2646
CATEGORIES:Reservation
COLOR:royalblue
DESCRIPTION:Predmeti: \nLetniki: \nIzvajalci: Mitjan Kalin\nProstori: Lect
 ure hall IV/4\, Lecture hall V/2
LOCATION:Lecture hall IV/4\, Lecture hall V/2
ORGANIZER:Mitjan Kalin
X-WR-TIMEZONE:Europe/Ljubljana
END:VEVENT
BEGIN:VEVENT
SUMMARY:Izpit: Tehnologije vzdrževanja
DTSTART;TZID=Europe/Ljubljana:20230609T100000
DTEND;TZID=Europe/Ljubljana:20230609T120000
DTSTAMP:20260425T034716Z
UID:fs-AFLABS-URNIK:rezervacija:2649
ATTENDEE:Energetsko, procesno in okoljsko inženirstvo - Energetsko strojn
 ištvo (PAP-3)
ATTENDEE:Energetsko, procesno in okoljsko inženirstvo - Procesno inženir
 stvo (PAP-3)
ATTENDEE:Mehatronika (PAP-3)
ATTENDEE:Proizvodno strojništvo - Proizvodne tehnologije (PAP-3)
ATTENDEE:Proizvodno strojništvo - Vodenje proizvodnje (PAP-3)
ATTENDEE:Snovanje, obratovanje in vzdrževanje - Mobilna tehnika (PAP-3)
ATTENDEE:Snovanje, obratovanje in vzdrževanje - Transportni in delovni st
 roji (PAP-3)
CATEGORIES:Reservation
COLOR:royalblue
DESCRIPTION:Predmeti: Maintenance Technology (3101)\nLetniki: Mehatronika 
 (PAP-3)\, Energetsko\, procesno in okoljsko inženirstvo - Procesno inžen
 irstvo (PAP-3)\, Energetsko\, procesno in okoljsko inženirstvo - Energets
 ko strojništvo (PAP-3)\, Snovanje\, obratovanje in vzdrževanje - Mobilna
  tehnika (PAP-3)\, Proizvodno strojništvo - Vodenje proizvodnje (PAP-3)\,
  Proizvodno strojništvo - Proizvodne tehnologije (PAP-3)\, Snovanje\, obr
 atovanje in vzdrževanje - Transportni in delovni stroji (PAP-3)\nIzvajalc
 i: Mitjan Kalin\nProstori: Lecture hall IV/4\, Lecture hall V/2
LOCATION:Lecture hall IV/4\, Lecture hall V/2
ORGANIZER:Mitjan Kalin
X-WR-TIMEZONE:Europe/Ljubljana
END:VEVENT
BEGIN:VEVENT
SUMMARY:Izpit: Tehnologije vzdrževanja
DTSTART;TZID=Europe/Ljubljana:20230623T100000
DTEND;TZID=Europe/Ljubljana:20230623T120000
DTSTAMP:20260425T034716Z
UID:fs-AFLABS-URNIK:rezervacija:2650
ATTENDEE:Energetsko, procesno in okoljsko inženirstvo - Energetsko strojn
 ištvo (PAP-3)
ATTENDEE:Energetsko, procesno in okoljsko inženirstvo - Procesno inženir
 stvo (PAP-3)
ATTENDEE:Mehatronika (PAP-3)
ATTENDEE:Proizvodno strojništvo - Proizvodne tehnologije (PAP-3)
ATTENDEE:Proizvodno strojništvo - Vodenje proizvodnje (PAP-3)
ATTENDEE:Snovanje, obratovanje in vzdrževanje - Mobilna tehnika (PAP-3)
ATTENDEE:Snovanje, obratovanje in vzdrževanje - Transportni in delovni st
 roji (PAP-3)
CATEGORIES:Reservation
COLOR:royalblue
DESCRIPTION:Predmeti: Maintenance Technology (3101)\nLetniki: Mehatronika 
 (PAP-3)\, Energetsko\, procesno in okoljsko inženirstvo - Procesno inžen
 irstvo (PAP-3)\, Energetsko\, procesno in okoljsko inženirstvo - Energets
 ko strojništvo (PAP-3)\, Snovanje\, obratovanje in vzdrževanje - Mobilna
  tehnika (PAP-3)\, Proizvodno strojništvo - Vodenje proizvodnje (PAP-3)\,
  Proizvodno strojništvo - Proizvodne tehnologije (PAP-3)\, Snovanje\, obr
 atovanje in vzdrževanje - Transportni in delovni stroji (PAP-3)\nIzvajalc
 i: Mitjan Kalin\nProstori: Lecture hall IV/4\, Lecture hall V/2
LOCATION:Lecture hall IV/4\, Lecture hall V/2
ORGANIZER:Mitjan Kalin
X-WR-TIMEZONE:Europe/Ljubljana
END:VEVENT
BEGIN:VEVENT
SUMMARY:Izpit: Tribologija
DTSTART;TZID=Europe/Ljubljana:20230609T100000
DTEND;TZID=Europe/Ljubljana:20230609T120000
DTSTAMP:20260425T034716Z
UID:fs-AFLABS-URNIK:rezervacija:2683
ATTENDEE:RRP-3 (RRP-3)
CATEGORIES:Reservation
COLOR:royalblue
DESCRIPTION:Predmeti: Tribology (2043)\nLetniki: RRP-3 (RRP-3)\nIzvajalci:
  Mitjan Kalin\nProstori: Lecture hall IV/4\, Lecture hall V/2
LOCATION:Lecture hall IV/4\, Lecture hall V/2
ORGANIZER:Mitjan Kalin
X-WR-TIMEZONE:Europe/Ljubljana
END:VEVENT
BEGIN:VEVENT
SUMMARY:Izpit: Tribologija
DTSTART;TZID=Europe/Ljubljana:20230623T100000
DTEND;TZID=Europe/Ljubljana:20230623T120000
DTSTAMP:20260425T034716Z
UID:fs-AFLABS-URNIK:rezervacija:2684
ATTENDEE:RRP-3 (RRP-3)
CATEGORIES:Reservation
COLOR:royalblue
DESCRIPTION:Predmeti: Tribology (2043)\nLetniki: RRP-3 (RRP-3)\nIzvajalci:
  Mitjan Kalin\nProstori: Lecture hall IV/4\, Lecture hall V/2
LOCATION:Lecture hall IV/4\, Lecture hall V/2
ORGANIZER:Mitjan Kalin
X-WR-TIMEZONE:Europe/Ljubljana
END:VEVENT
BEGIN:VEVENT
SUMMARY:Izpit: Vzdrževanje letal
DTSTART;TZID=Europe/Ljubljana:20230609T100000
DTEND;TZID=Europe/Ljubljana:20230609T120000
DTSTAMP:20260425T034716Z
UID:fs-AFLABS-URNIK:rezervacija:2687
ATTENDEE:Letalstvo - Snovanje in vzdrževanje letal (PAP-3)
CATEGORIES:Reservation
COLOR:royalblue
DESCRIPTION:Predmeti: Aircraft Maintenance (3090)\nLetniki: Letalstvo - Sn
 ovanje in vzdrževanje letal (PAP-3)\nIzvajalci: Mitjan Kalin\nProstori: L
 ecture hall IV/4\, Lecture hall V/2
LOCATION:Lecture hall IV/4\, Lecture hall V/2
ORGANIZER:Mitjan Kalin
X-WR-TIMEZONE:Europe/Ljubljana
END:VEVENT
BEGIN:VEVENT
SUMMARY:Izpit: Vzdrževanje letal
DTSTART;TZID=Europe/Ljubljana:20230623T100000
DTEND;TZID=Europe/Ljubljana:20230623T120000
DTSTAMP:20260425T034716Z
UID:fs-AFLABS-URNIK:rezervacija:2688
ATTENDEE:Letalstvo - Snovanje in vzdrževanje letal (PAP-3)
CATEGORIES:Reservation
COLOR:royalblue
DESCRIPTION:Predmeti: Aircraft Maintenance (3090)\nLetniki: Letalstvo - Sn
 ovanje in vzdrževanje letal (PAP-3)\nIzvajalci: Mitjan Kalin\nProstori: L
 ecture hall IV/4\, Lecture hall V/2
LOCATION:Lecture hall IV/4\, Lecture hall V/2
ORGANIZER:Mitjan Kalin
X-WR-TIMEZONE:Europe/Ljubljana
END:VEVENT
END:VCALENDAR
