BEGIN:VCALENDAR
VERSION:2.0
PRODID:-//AFLabs urnik izvoz - fs//aflabs.si//SI
NAME:UL FS Urnik
X-WR-CALNAME:UL FS Urnik
DTSTAMP:20260421T054401Z
REFRESH-INTERVAL:PT1H
SOURCE:https://urnik.fs.uni-lj.si/en/teacher/716/?day=2024-04-01&export=1
URL:https://urnik.fs.uni-lj.si/en/teacher/716/?day=2024-04-01&export=1
X-PUBLISHED-TTL:PT1H
X-WR-TIMEZONE:Europe/Ljubljana
BEGIN:VTIMEZONE
TZID:Europe/Ljubljana
BEGIN:DAYLIGHT
DTSTART:20260329T020000
RDATE:20260329T020000
RDATE:20270328T020000
TZNAME:CEST
TZOFFSETFROM:+0100
TZOFFSETTO:+0200
END:DAYLIGHT
BEGIN:STANDARD
DTSTART:20261025T030000
RDATE:20261025T030000
RDATE:20271031T030000
TZNAME:CET
TZOFFSETFROM:+0200
TZOFFSETTO:+0100
END:STANDARD
END:VTIMEZONE
BEGIN:VEVENT
SUMMARY:Manufacturing Automation (MNAE)\, Laboratory excercises (VL)
DTSTART;TZID=Europe/Ljubljana:20240307T180000
DTEND;TZID=Europe/Ljubljana:20240307T200000
DTSTAMP:20260421T054401Z
UID:fs-AFLABS-URNIK:srecanje:9262-2024-03-07 18:00:00+01:00
DESCRIPTION:Predmet: Manufacturing Automation (MNAE)\, Laboratory excercis
 es (VL)\nLetniki: Erasmus (Erasmus)\nIzvajalci: Matic Kelvišar\, Luka Sel
 ak\nProstor: Laboratory LAMPA SP-45A
END:VEVENT
BEGIN:VEVENT
SUMMARY:Manufacturing Automation (MNAE)\, Laboratory excercises (VL)
DTSTART;TZID=Europe/Ljubljana:20240314T180000
DTEND;TZID=Europe/Ljubljana:20240314T200000
DTSTAMP:20260421T054401Z
UID:fs-AFLABS-URNIK:srecanje:9262-2024-03-14 18:00:00+01:00
DESCRIPTION:Predmet: Manufacturing Automation (MNAE)\, Laboratory excercis
 es (VL)\nLetniki: Erasmus (Erasmus)\nIzvajalci: Matic Kelvišar\, Luka Sel
 ak\nProstor: Laboratory LAMPA SP-45A
END:VEVENT
BEGIN:VEVENT
SUMMARY:Manufacturing Automation (MNAE)\, Laboratory excercises (VL)
DTSTART;TZID=Europe/Ljubljana:20240321T180000
DTEND;TZID=Europe/Ljubljana:20240321T200000
DTSTAMP:20260421T054401Z
UID:fs-AFLABS-URNIK:srecanje:9262-2024-03-21 18:00:00+01:00
DESCRIPTION:Predmet: Manufacturing Automation (MNAE)\, Laboratory excercis
 es (VL)\nLetniki: Erasmus (Erasmus)\nIzvajalci: Matic Kelvišar\, Luka Sel
 ak\nProstor: Laboratory LAMPA SP-45A
END:VEVENT
BEGIN:VEVENT
SUMMARY:Manufacturing Automation (MNAE)\, Laboratory excercises (VL)
DTSTART;TZID=Europe/Ljubljana:20240411T180000
DTEND;TZID=Europe/Ljubljana:20240411T200000
DTSTAMP:20260421T054401Z
UID:fs-AFLABS-URNIK:srecanje:9262-2024-04-11 18:00:00+02:00
DESCRIPTION:Predmet: Manufacturing Automation (MNAE)\, Laboratory excercis
 es (VL)\nLetniki: Erasmus (Erasmus)\nIzvajalci: Matic Kelvišar\, Luka Sel
 ak\nProstor: Laboratory LAMPA SP-45A
END:VEVENT
BEGIN:VEVENT
SUMMARY:Manufacturing Automation (MNAE)\, Laboratory excercises (VL)
DTSTART;TZID=Europe/Ljubljana:20240502T180000
DTEND;TZID=Europe/Ljubljana:20240502T200000
DTSTAMP:20260421T054401Z
UID:fs-AFLABS-URNIK:srecanje:9262-2024-05-02 18:00:00+02:00
DESCRIPTION:Predmet: Manufacturing Automation (MNAE)\, Laboratory excercis
 es (VL)\nLetniki: Erasmus (Erasmus)\nIzvajalci: Matic Kelvišar\, Luka Sel
 ak\nProstor: Laboratory LAMPA SP-45A
END:VEVENT
BEGIN:VEVENT
SUMMARY:Manufacturing Automation (MNAE)\, Laboratory excercises (VL)
DTSTART;TZID=Europe/Ljubljana:20240509T180000
DTEND;TZID=Europe/Ljubljana:20240509T200000
DTSTAMP:20260421T054401Z
UID:fs-AFLABS-URNIK:srecanje:9262-2024-05-09 18:00:00+02:00
DESCRIPTION:Predmet: Manufacturing Automation (MNAE)\, Laboratory excercis
 es (VL)\nLetniki: Erasmus (Erasmus)\nIzvajalci: Matic Kelvišar\, Luka Sel
 ak\nProstor: Laboratory LAMPA SP-45A
END:VEVENT
BEGIN:VEVENT
SUMMARY:Manufacturing Automation (MNAE)\, Laboratory excercises (VL)
DTSTART;TZID=Europe/Ljubljana:20240523T180000
DTEND;TZID=Europe/Ljubljana:20240523T200000
DTSTAMP:20260421T054401Z
UID:fs-AFLABS-URNIK:srecanje:9262-2024-05-23 18:00:00+02:00
DESCRIPTION:Predmet: Manufacturing Automation (MNAE)\, Laboratory excercis
 es (VL)\nLetniki: Erasmus (Erasmus)\nIzvajalci: Matic Kelvišar\, Luka Sel
 ak\nProstor: Laboratory LAMPA SP-45A
END:VEVENT
BEGIN:VEVENT
SUMMARY:Manufacturing Automation (MNAE)\, Laboratory excercises (VL)
DTSTART;TZID=Europe/Ljubljana:20240530T180000
DTEND;TZID=Europe/Ljubljana:20240530T200000
DTSTAMP:20260421T054401Z
UID:fs-AFLABS-URNIK:srecanje:9262-2024-05-30 18:00:00+02:00
DESCRIPTION:Predmet: Manufacturing Automation (MNAE)\, Laboratory excercis
 es (VL)\nLetniki: Erasmus (Erasmus)\nIzvajalci: Matic Kelvišar\, Luka Sel
 ak\nProstor: Laboratory LAMPA SP-45A
END:VEVENT
END:VCALENDAR
