BEGIN:VCALENDAR
VERSION:2.0
PRODID:-//AFLabs urnik izvoz - fs//aflabs.si//SI
NAME:UL FS Urnik
X-WR-CALNAME:UL FS Urnik
DTSTAMP:20260424T143207Z
REFRESH-INTERVAL:PT1H
SOURCE:https://urnik.fs.uni-lj.si/en/teacher/716/?day=2025-06-30&export=1
URL:https://urnik.fs.uni-lj.si/en/teacher/716/?day=2025-06-30&export=1
X-PUBLISHED-TTL:PT1H
X-WR-TIMEZONE:Europe/Ljubljana
BEGIN:VTIMEZONE
TZID:Europe/Ljubljana
BEGIN:DAYLIGHT
DTSTART:20260329T020000
RDATE:20260329T020000
RDATE:20270328T020000
TZNAME:CEST
TZOFFSETFROM:+0100
TZOFFSETTO:+0200
END:DAYLIGHT
BEGIN:STANDARD
DTSTART:20261025T030000
RDATE:20261025T030000
RDATE:20271031T030000
TZNAME:CET
TZOFFSETFROM:+0200
TZOFFSETTO:+0100
END:STANDARD
END:VTIMEZONE
BEGIN:VEVENT
SUMMARY:Manufacturing Automation (MNAE)\, Laboratory excercises (VL)
DTSTART;TZID=Europe/Ljubljana:20250529T160000
DTEND;TZID=Europe/Ljubljana:20250529T180000
DTSTAMP:20260424T143207Z
UID:fs-AFLABS-URNIK:srecanje:15398-2025-05-29 16:00:00+02:00
DESCRIPTION:Predmet: Manufacturing Automation (MNAE)\, Laboratory excercis
 es (VL)\nLetniki: Erasmus (Erasmus)\nIzvajalci: Matic Kelvišar\, Luka Sel
 ak\nProstor: Laboratory LAMPA SP-45A
END:VEVENT
END:VCALENDAR
