BEGIN:VCALENDAR
VERSION:2.0
PRODID:-//AFLabs urnik izvoz - fs//aflabs.si//SI
NAME:UL FS Urnik
X-WR-CALNAME:UL FS Urnik
DTSTAMP:20260424T145438Z
REFRESH-INTERVAL:PT1H
SOURCE:https://urnik.fs.uni-lj.si/en/teacher/720/?day=2023-09-04&export=1
URL:https://urnik.fs.uni-lj.si/en/teacher/720/?day=2023-09-04&export=1
X-PUBLISHED-TTL:PT1H
X-WR-TIMEZONE:Europe/Ljubljana
BEGIN:VTIMEZONE
TZID:Europe/Ljubljana
BEGIN:DAYLIGHT
DTSTART:20260329T020000
RDATE:20260329T020000
RDATE:20270328T020000
TZNAME:CEST
TZOFFSETFROM:+0100
TZOFFSETTO:+0200
END:DAYLIGHT
BEGIN:STANDARD
DTSTART:20261025T030000
RDATE:20261025T030000
RDATE:20271031T030000
TZNAME:CET
TZOFFSETFROM:+0200
TZOFFSETTO:+0100
END:STANDARD
END:VTIMEZONE
BEGIN:VEVENT
SUMMARY:Transport phenomena (TRPM)\, Lectures (P)
DTSTART;TZID=Europe/Ljubljana:20231002T120000
DTEND;TZID=Europe/Ljubljana:20231002T140000
DTSTAMP:20260424T145438Z
UID:fs-AFLABS-URNIK:srecanje:2622-2023-10-02 12:00:00+02:00
DESCRIPTION:Predmet: Transport phenomena (TRPM)\, Lectures (P)\nLetniki: P
 rocess engineering (MAG-1)\nIzvajalci: Andrej Kitanovski\nProstor: Lecture
  hall III/4
END:VEVENT
BEGIN:VEVENT
SUMMARY:Transport phenomena (TRPM)\, Lectures (P)
DTSTART;TZID=Europe/Ljubljana:20231009T120000
DTEND;TZID=Europe/Ljubljana:20231009T140000
DTSTAMP:20260424T145438Z
UID:fs-AFLABS-URNIK:srecanje:2622-2023-10-09 12:00:00+02:00
DESCRIPTION:Predmet: Transport phenomena (TRPM)\, Lectures (P)\nLetniki: P
 rocess engineering (MAG-1)\nIzvajalci: Andrej Kitanovski\nProstor: Lecture
  hall III/4
END:VEVENT
BEGIN:VEVENT
SUMMARY:Smart cities (PMMM)\, Lectures (P)
DTSTART;TZID=Europe/Ljubljana:20231003T080000
DTEND;TZID=Europe/Ljubljana:20231003T100000
DTSTAMP:20260424T145438Z
UID:fs-AFLABS-URNIK:srecanje:3938-2023-10-03 08:00:00+02:00
DESCRIPTION:Predmet: Smart cities (PMMM)\, Lectures (P)\nLetniki: Process 
 engineering (MAG-2)\nIzvajalci: Andrej Kitanovski\, Sašo Medved\nProstor:
  Lecture hall II/2
END:VEVENT
BEGIN:VEVENT
SUMMARY:Community-integrated energy systems (EOMP)\, Lectures (P)
DTSTART;TZID=Europe/Ljubljana:20231003T113000
DTEND;TZID=Europe/Ljubljana:20231003T133000
DTSTAMP:20260424T145438Z
UID:fs-AFLABS-URNIK:srecanje:4054-2023-10-03 11:30:00+02:00
DESCRIPTION:Predmet: Community-integrated energy systems (EOMP)\, Lectures
  (P)\nLetniki: Process engineering (PAP-3)\nIzvajalci: Ciril Arkar\, Andre
 j Kitanovski\nProstor: Lecture hall II/3B
END:VEVENT
BEGIN:VEVENT
SUMMARY:Heat exchangers (PRTM)\, Lectures (P)
DTSTART;TZID=Europe/Ljubljana:20231004T080000
DTEND;TZID=Europe/Ljubljana:20231004T100000
DTSTAMP:20260424T145438Z
UID:fs-AFLABS-URNIK:srecanje:2459-2023-10-04 08:00:00+02:00
DESCRIPTION:Predmet: Heat exchangers (PRTM)\, Lectures (P)\nLetniki: Proce
 ss engineering (MAG-2)\nIzvajalci: Iztok Golobič\, Andrej Kitanovski\, Jo
 že Kutin\, Jaka Tušek\nProstor: Lecture hall III/3B
END:VEVENT
BEGIN:VEVENT
SUMMARY:Heat and mass transfer (PTSP)\, Lectures (P)
DTSTART;TZID=Europe/Ljubljana:20231005T093000
DTEND;TZID=Europe/Ljubljana:20231005T113000
DTSTAMP:20260424T145438Z
UID:fs-AFLABS-URNIK:srecanje:2466-2023-10-05 09:30:00+02:00
DESCRIPTION:Predmet: Heat and mass transfer (PTSP)\, Lectures (P)\nLetniki
 : Aircraft design and maintenance (PAP-2)\, Airline transport pilot (PAP-2
 )\, Design of machines and devices (PAP-2)\, Energy engineering (PAP-2)\, 
 Mechatronics (PAP-2)\, Process engineering (PAP-2)\, Production engineerin
 g (PAP-2)\, Production technologies (PAP-2)\, Konstruiranje strojev in nap
 rav (PAP-2)\nIzvajalci: Andrej Kitanovski\nProstor: Lecture hall V/2
END:VEVENT
BEGIN:VEVENT
SUMMARY:Solar energy engineering (SLIP)\, Lectures (P)
DTSTART;TZID=Europe/Ljubljana:20231006T113000
DTEND;TZID=Europe/Ljubljana:20231006T133000
DTSTAMP:20260424T145438Z
UID:fs-AFLABS-URNIK:srecanje:4259-2023-10-06 11:30:00+02:00
DESCRIPTION:Predmet: Solar energy engineering (SLIP)\, Lectures (P)\nLetni
 ki: Process engineering (PAP-3)\nIzvajalci: Andrej Kitanovski\, Sašo Medv
 ed\nProstor: Lecture hall IV/4
END:VEVENT
BEGIN:VEVENT
SUMMARY:Heat Exchangers (HTEE)\, Lectures (P)
DTSTART;TZID=Europe/Ljubljana:20231006T073000
DTEND;TZID=Europe/Ljubljana:20231006T093000
DTSTAMP:20260424T145438Z
UID:fs-AFLABS-URNIK:srecanje:6059-2023-10-06 07:30:00+02:00
DESCRIPTION:Predmet: Heat Exchangers (HTEE)\, Lectures (P)\nLetniki: Erasm
 us (Erasmus)\nIzvajalci: Iztok Golobič\, Andrej Kitanovski\, Jože Kutin\
 , Jaka Tušek\nProstor: Lecture hall III/3A
END:VEVENT
BEGIN:VEVENT
SUMMARY:Izpit: Pametna mesta
DTSTART;TZID=Europe/Ljubljana:20230828T140000
DTEND;TZID=Europe/Ljubljana:20230828T160000
DTSTAMP:20260424T145438Z
UID:fs-AFLABS-URNIK:rezervacija:2550
ATTENDEE:Process engineering (MAG-2)
CATEGORIES:Reservation
COLOR:royalblue
DESCRIPTION:Predmeti: Smart cities (PMMM)\nLetniki: Process engineering (M
 AG-2)\nIzvajalci: Andrej Kitanovski\nProstori: Lecture hall III/4
LOCATION:Lecture hall III/4
ORGANIZER:Andrej Kitanovski
X-WR-TIMEZONE:Europe/Ljubljana
END:VEVENT
BEGIN:VEVENT
SUMMARY:Izpit: Prenos toplote in snovi
DTSTART;TZID=Europe/Ljubljana:20230828T140000
DTEND;TZID=Europe/Ljubljana:20230828T160000
DTSTAMP:20260424T145438Z
UID:fs-AFLABS-URNIK:rezervacija:2555
ATTENDEE:Aircraft design and maintenance (PAP-2)
ATTENDEE:Airline transport pilot (PAP-2)
ATTENDEE:Design of machines and devices (PAP-2)
ATTENDEE:Energy engineering (PAP-2)
ATTENDEE:Konstruiranje strojev in naprav (PAP-2)
ATTENDEE:Mechatronics (PAP-2)
ATTENDEE:Process engineering (PAP-2)
ATTENDEE:Production engineering (PAP-2)
ATTENDEE:Production technologies (PAP-2)
CATEGORIES:Reservation
COLOR:royalblue
DESCRIPTION:Predmeti: Heat and mass transfer (PTSP)\nLetniki: Aircraft des
 ign and maintenance (PAP-2)\, Airline transport pilot (PAP-2)\, Design of 
 machines and devices (PAP-2)\, Energy engineering (PAP-2)\, Mechatronics (
 PAP-2)\, Process engineering (PAP-2)\, Production engineering (PAP-2)\, Pr
 oduction technologies (PAP-2)\, Konstruiranje strojev in naprav (PAP-2)\nI
 zvajalci: Andrej Kitanovski\nProstori: Lecture hall III/4
LOCATION:Lecture hall III/4
ORGANIZER:Andrej Kitanovski
X-WR-TIMEZONE:Europe/Ljubljana
END:VEVENT
BEGIN:VEVENT
SUMMARY:Izpit: Prenos toplote in snovi (3028)
DTSTART;TZID=Europe/Ljubljana:20230817T130000
DTEND;TZID=Europe/Ljubljana:20230817T150000
DTSTAMP:20260424T145438Z
UID:fs-AFLABS-URNIK:rezervacija:2557
CATEGORIES:Reservation
COLOR:royalblue
DESCRIPTION:Predmeti: \nLetniki: \nIzvajalci: Andrej Kitanovski\nProstori:
  Lecture hall III/2
LOCATION:Lecture hall III/2
ORGANIZER:Andrej Kitanovski
X-WR-TIMEZONE:Europe/Ljubljana
END:VEVENT
BEGIN:VEVENT
SUMMARY:Izpit: Hladilna tehnika in toplotne črpalke - PAP
DTSTART;TZID=Europe/Ljubljana:20230831T130000
DTEND;TZID=Europe/Ljubljana:20230831T150000
DTSTAMP:20260424T145438Z
UID:fs-AFLABS-URNIK:rezervacija:2560
ATTENDEE:Process engineering (PAP-2)
CATEGORIES:Reservation
COLOR:royalblue
DESCRIPTION:Predmeti: Refrigeration and heat pumps - PAP (HTTP)\nLetniki: 
 Process engineering (PAP-2)\nIzvajalci: Andrej Kitanovski\nProstori: Lectu
 re hall III/2
LOCATION:Lecture hall III/2
ORGANIZER:Andrej Kitanovski
X-WR-TIMEZONE:Europe/Ljubljana
END:VEVENT
BEGIN:VEVENT
SUMMARY:Izpit: Toplotne črpalke
DTSTART;TZID=Europe/Ljubljana:20230817T130000
DTEND;TZID=Europe/Ljubljana:20230817T150000
DTSTAMP:20260424T145438Z
UID:fs-AFLABS-URNIK:rezervacija:2564
ATTENDEE:Energetsko, procesno in okoljsko inženirstvo - Energetsko strojn
 ištvo (PAP-3)
ATTENDEE:Energetsko, procesno in okoljsko inženirstvo - Procesno inženir
 stvo (PAP-3)
CATEGORIES:Reservation
COLOR:royalblue
DESCRIPTION:Predmeti: Heat Pumps (3106)\nLetniki: Energetsko\, procesno in
  okoljsko inženirstvo - Procesno inženirstvo (PAP-3)\, Energetsko\, proc
 esno in okoljsko inženirstvo - Energetsko strojništvo (PAP-3)\nIzvajalci
 : Andrej Kitanovski\nProstori: Lecture hall III/2
LOCATION:Lecture hall III/2
ORGANIZER:Andrej Kitanovski
X-WR-TIMEZONE:Europe/Ljubljana
END:VEVENT
BEGIN:VEVENT
SUMMARY:Izpit: Transportni pojavi (6014)
DTSTART;TZID=Europe/Ljubljana:20230823T100000
DTEND;TZID=Europe/Ljubljana:20230823T120000
DTSTAMP:20260424T145438Z
UID:fs-AFLABS-URNIK:rezervacija:2594
CATEGORIES:Reservation
COLOR:royalblue
DESCRIPTION:Predmeti: \nLetniki: \nIzvajalci: Andrej Kitanovski\nProstori:
  Lecture hall III/2
LOCATION:Lecture hall III/2
ORGANIZER:Andrej Kitanovski
X-WR-TIMEZONE:Europe/Ljubljana
END:VEVENT
BEGIN:VEVENT
SUMMARY:Izpit: Transportni pojavi
DTSTART;TZID=Europe/Ljubljana:20230823T100000
DTEND;TZID=Europe/Ljubljana:20230823T120000
DTSTAMP:20260424T145438Z
UID:fs-AFLABS-URNIK:rezervacija:2595
ATTENDEE:Process engineering (MAG-1)
CATEGORIES:Reservation
COLOR:royalblue
DESCRIPTION:Predmeti: Transport phenomena (TRPM)\nLetniki: Process enginee
 ring (MAG-1)\nIzvajalci: Andrej Kitanovski\nProstori: Lecture hall III/2
LOCATION:Lecture hall III/2
ORGANIZER:Andrej Kitanovski
X-WR-TIMEZONE:Europe/Ljubljana
END:VEVENT
BEGIN:VEVENT
SUMMARY:Izpit: Hlajenje (6209)
DTSTART;TZID=Europe/Ljubljana:20230823T100000
DTEND;TZID=Europe/Ljubljana:20230823T120000
DTSTAMP:20260424T145438Z
UID:fs-AFLABS-URNIK:rezervacija:2596
CATEGORIES:Reservation
COLOR:royalblue
DESCRIPTION:Predmeti: \nLetniki: \nIzvajalci: Andrej Kitanovski\nProstori:
  Lecture hall III/2
LOCATION:Lecture hall III/2
ORGANIZER:Andrej Kitanovski
X-WR-TIMEZONE:Europe/Ljubljana
END:VEVENT
BEGIN:VEVENT
SUMMARY:Izpit: Hladilna tehnika in toplotne črpalke - MAG
DTSTART;TZID=Europe/Ljubljana:20230829T180000
DTEND;TZID=Europe/Ljubljana:20230829T200000
DTSTAMP:20260424T145438Z
UID:fs-AFLABS-URNIK:rezervacija:2597
ATTENDEE:Process engineering (MAG-1)
CATEGORIES:Reservation
COLOR:royalblue
DESCRIPTION:Predmeti: Refrigeration and heat pumps - MAG (HTTM)\nLetniki: 
 Process engineering (MAG-1)\nIzvajalci: Andrej Kitanovski\nProstori: Lectu
 re hall III/2
LOCATION:Lecture hall III/2
ORGANIZER:Andrej Kitanovski
X-WR-TIMEZONE:Europe/Ljubljana
END:VEVENT
BEGIN:VEVENT
SUMMARY:Izpit: Energijski distribucijski sistemi (6247)
DTSTART;TZID=Europe/Ljubljana:20230818T100000
DTEND;TZID=Europe/Ljubljana:20230818T120000
DTSTAMP:20260424T145438Z
UID:fs-AFLABS-URNIK:rezervacija:2603
CATEGORIES:Reservation
COLOR:royalblue
DESCRIPTION:Predmeti: \nLetniki: \nIzvajalci: Andrej Kitanovski\nProstori:
  Lecture hall II/5
LOCATION:Lecture hall II/5
ORGANIZER:Andrej Kitanovski
X-WR-TIMEZONE:Europe/Ljubljana
END:VEVENT
BEGIN:VEVENT
SUMMARY:Izpit: Energetska oskrba (3037)
DTSTART;TZID=Europe/Ljubljana:20230822T130000
DTEND;TZID=Europe/Ljubljana:20230822T150000
DTSTAMP:20260424T145438Z
UID:fs-AFLABS-URNIK:rezervacija:2604
CATEGORIES:Reservation
COLOR:royalblue
DESCRIPTION:Predmeti: \nLetniki: \nIzvajalci: Andrej Kitanovski\nProstori:
  Lecture hall II/5
LOCATION:Lecture hall II/5
ORGANIZER:Andrej Kitanovski
X-WR-TIMEZONE:Europe/Ljubljana
END:VEVENT
END:VCALENDAR
