BEGIN:VCALENDAR
VERSION:2.0
PRODID:-//AFLabs urnik izvoz - fs//aflabs.si//SI
NAME:UL FS Urnik
X-WR-CALNAME:UL FS Urnik
DTSTAMP:20260422T215408Z
REFRESH-INTERVAL:PT1H
SOURCE:https://urnik.fs.uni-lj.si/en/teacher/720/?day=2026-03-02&export=1
URL:https://urnik.fs.uni-lj.si/en/teacher/720/?day=2026-03-02&export=1
X-PUBLISHED-TTL:PT1H
X-WR-TIMEZONE:Europe/Ljubljana
BEGIN:VTIMEZONE
TZID:Europe/Ljubljana
BEGIN:DAYLIGHT
DTSTART:20260329T020000
RDATE:20260329T020000
RDATE:20270328T020000
TZNAME:CEST
TZOFFSETFROM:+0100
TZOFFSETTO:+0200
END:DAYLIGHT
BEGIN:STANDARD
DTSTART:20261025T030000
RDATE:20261025T030000
RDATE:20271031T030000
TZNAME:CET
TZOFFSETFROM:+0200
TZOFFSETTO:+0100
END:STANDARD
END:VTIMEZONE
BEGIN:VEVENT
SUMMARY:Refrigeration and heat pumps - MAG (HTTM)\, Lectures (P)
DTSTART;TZID=Europe/Ljubljana:20260216T120000
DTEND;TZID=Europe/Ljubljana:20260216T140000
DTSTAMP:20260422T215408Z
UID:fs-AFLABS-URNIK:srecanje:3664-2026-02-16 12:00:00+01:00
DESCRIPTION:Predmet: Refrigeration and heat pumps - MAG (HTTM)\, Lectures 
 (P)\nLetniki: Process engineering (MAG-1)\nIzvajalci: Andrej Kitanovski\, 
 Katja Klinar\nProstor: Lecture hall III/2
END:VEVENT
BEGIN:VEVENT
SUMMARY:Refrigeration and heat pumps - MAG (HTTM)\, Lectures (P)
DTSTART;TZID=Europe/Ljubljana:20260223T120000
DTEND;TZID=Europe/Ljubljana:20260223T140000
DTSTAMP:20260422T215408Z
UID:fs-AFLABS-URNIK:srecanje:3664-2026-02-23 12:00:00+01:00
DESCRIPTION:Predmet: Refrigeration and heat pumps - MAG (HTTM)\, Lectures 
 (P)\nLetniki: Process engineering (MAG-1)\nIzvajalci: Andrej Kitanovski\, 
 Katja Klinar\nProstor: Lecture hall III/2
END:VEVENT
BEGIN:VEVENT
SUMMARY:Refrigeration and heat pumps - MAG (HTTM)\, Lectures (P)
DTSTART;TZID=Europe/Ljubljana:20260302T120000
DTEND;TZID=Europe/Ljubljana:20260302T140000
DTSTAMP:20260422T215408Z
UID:fs-AFLABS-URNIK:srecanje:3664-2026-03-02 12:00:00+01:00
DESCRIPTION:Predmet: Refrigeration and heat pumps - MAG (HTTM)\, Lectures 
 (P)\nLetniki: Process engineering (MAG-1)\nIzvajalci: Andrej Kitanovski\, 
 Katja Klinar\nProstor: Lecture hall III/2
END:VEVENT
BEGIN:VEVENT
SUMMARY:Refrigeration and heat pumps - MAG (HTTM)\, Lectures (P)
DTSTART;TZID=Europe/Ljubljana:20260309T120000
DTEND;TZID=Europe/Ljubljana:20260309T140000
DTSTAMP:20260422T215408Z
UID:fs-AFLABS-URNIK:srecanje:3664-2026-03-09 12:00:00+01:00
DESCRIPTION:Predmet: Refrigeration and heat pumps - MAG (HTTM)\, Lectures 
 (P)\nLetniki: Process engineering (MAG-1)\nIzvajalci: Andrej Kitanovski\, 
 Katja Klinar\nProstor: Lecture hall III/2
END:VEVENT
BEGIN:VEVENT
SUMMARY:Refrigeration and heat pumps - MAG (HTTM)\, Lectures (P)
DTSTART;TZID=Europe/Ljubljana:20260316T120000
DTEND;TZID=Europe/Ljubljana:20260316T140000
DTSTAMP:20260422T215408Z
UID:fs-AFLABS-URNIK:srecanje:3664-2026-03-16 12:00:00+01:00
DESCRIPTION:Predmet: Refrigeration and heat pumps - MAG (HTTM)\, Lectures 
 (P)\nLetniki: Process engineering (MAG-1)\nIzvajalci: Andrej Kitanovski\, 
 Katja Klinar\nProstor: Lecture hall III/2
END:VEVENT
BEGIN:VEVENT
SUMMARY:Refrigeration and heat pumps - MAG (HTTM)\, Lectures (P)
DTSTART;TZID=Europe/Ljubljana:20260323T120000
DTEND;TZID=Europe/Ljubljana:20260323T140000
DTSTAMP:20260422T215408Z
UID:fs-AFLABS-URNIK:srecanje:3664-2026-03-23 12:00:00+01:00
DESCRIPTION:Predmet: Refrigeration and heat pumps - MAG (HTTM)\, Lectures 
 (P)\nLetniki: Process engineering (MAG-1)\nIzvajalci: Andrej Kitanovski\, 
 Katja Klinar\nProstor: Lecture hall III/2
END:VEVENT
BEGIN:VEVENT
SUMMARY:Refrigeration and heat pumps - MAG (HTTM)\, Lectures (P)
DTSTART;TZID=Europe/Ljubljana:20260330T120000
DTEND;TZID=Europe/Ljubljana:20260330T140000
DTSTAMP:20260422T215408Z
UID:fs-AFLABS-URNIK:srecanje:3664-2026-03-30 12:00:00+02:00
DESCRIPTION:Predmet: Refrigeration and heat pumps - MAG (HTTM)\, Lectures 
 (P)\nLetniki: Process engineering (MAG-1)\nIzvajalci: Andrej Kitanovski\, 
 Katja Klinar\nProstor: Lecture hall III/2
END:VEVENT
BEGIN:VEVENT
SUMMARY:Refrigeration and heat pumps - MAG (HTTM)\, Lectures (P)
DTSTART;TZID=Europe/Ljubljana:20260406T120000
DTEND;TZID=Europe/Ljubljana:20260406T140000
DTSTAMP:20260422T215408Z
UID:fs-AFLABS-URNIK:srecanje:3664-2026-04-06 12:00:00+02:00
DESCRIPTION:Predmet: Refrigeration and heat pumps - MAG (HTTM)\, Lectures 
 (P)\nLetniki: Process engineering (MAG-1)\nIzvajalci: Andrej Kitanovski\, 
 Katja Klinar\nProstor: Lecture hall III/2
END:VEVENT
BEGIN:VEVENT
SUMMARY:Refrigeration and heat pumps - MAG (HTTM)\, Lectures (P)
DTSTART;TZID=Europe/Ljubljana:20260413T120000
DTEND;TZID=Europe/Ljubljana:20260413T140000
DTSTAMP:20260422T215408Z
UID:fs-AFLABS-URNIK:srecanje:3664-2026-04-13 12:00:00+02:00
DESCRIPTION:Predmet: Refrigeration and heat pumps - MAG (HTTM)\, Lectures 
 (P)\nLetniki: Process engineering (MAG-1)\nIzvajalci: Andrej Kitanovski\, 
 Katja Klinar\nProstor: Lecture hall III/2
END:VEVENT
BEGIN:VEVENT
SUMMARY:Refrigeration and heat pumps - MAG (HTTM)\, Lectures (P)
DTSTART;TZID=Europe/Ljubljana:20260420T120000
DTEND;TZID=Europe/Ljubljana:20260420T140000
DTSTAMP:20260422T215408Z
UID:fs-AFLABS-URNIK:srecanje:3664-2026-04-20 12:00:00+02:00
DESCRIPTION:Predmet: Refrigeration and heat pumps - MAG (HTTM)\, Lectures 
 (P)\nLetniki: Process engineering (MAG-1)\nIzvajalci: Andrej Kitanovski\, 
 Katja Klinar\nProstor: Lecture hall III/2
END:VEVENT
BEGIN:VEVENT
SUMMARY:Refrigeration and heat pumps - MAG (HTTM)\, Lectures (P)
DTSTART;TZID=Europe/Ljubljana:20260427T120000
DTEND;TZID=Europe/Ljubljana:20260427T140000
DTSTAMP:20260422T215408Z
UID:fs-AFLABS-URNIK:srecanje:3664-2026-04-27 12:00:00+02:00
DESCRIPTION:Predmet: Refrigeration and heat pumps - MAG (HTTM)\, Lectures 
 (P)\nLetniki: Process engineering (MAG-1)\nIzvajalci: Andrej Kitanovski\, 
 Katja Klinar\nProstor: Lecture hall III/2
END:VEVENT
BEGIN:VEVENT
SUMMARY:Refrigeration and heat pumps - MAG (HTTM)\, Lectures (P)
DTSTART;TZID=Europe/Ljubljana:20260504T120000
DTEND;TZID=Europe/Ljubljana:20260504T140000
DTSTAMP:20260422T215408Z
UID:fs-AFLABS-URNIK:srecanje:3664-2026-05-04 12:00:00+02:00
DESCRIPTION:Predmet: Refrigeration and heat pumps - MAG (HTTM)\, Lectures 
 (P)\nLetniki: Process engineering (MAG-1)\nIzvajalci: Andrej Kitanovski\, 
 Katja Klinar\nProstor: Lecture hall III/2
END:VEVENT
BEGIN:VEVENT
SUMMARY:Refrigeration and heat pumps - MAG (HTTM)\, Lectures (P)
DTSTART;TZID=Europe/Ljubljana:20260511T120000
DTEND;TZID=Europe/Ljubljana:20260511T140000
DTSTAMP:20260422T215408Z
UID:fs-AFLABS-URNIK:srecanje:3664-2026-05-11 12:00:00+02:00
DESCRIPTION:Predmet: Refrigeration and heat pumps - MAG (HTTM)\, Lectures 
 (P)\nLetniki: Process engineering (MAG-1)\nIzvajalci: Andrej Kitanovski\, 
 Katja Klinar\nProstor: Lecture hall III/2
END:VEVENT
BEGIN:VEVENT
SUMMARY:Refrigeration and heat pumps - MAG (HTTM)\, Lectures (P)
DTSTART;TZID=Europe/Ljubljana:20260518T120000
DTEND;TZID=Europe/Ljubljana:20260518T140000
DTSTAMP:20260422T215408Z
UID:fs-AFLABS-URNIK:srecanje:3664-2026-05-18 12:00:00+02:00
DESCRIPTION:Predmet: Refrigeration and heat pumps - MAG (HTTM)\, Lectures 
 (P)\nLetniki: Process engineering (MAG-1)\nIzvajalci: Andrej Kitanovski\, 
 Katja Klinar\nProstor: Lecture hall III/2
END:VEVENT
BEGIN:VEVENT
SUMMARY:Refrigeration and heat pumps - MAG (HTTM)\, Lectures (P)
DTSTART;TZID=Europe/Ljubljana:20260525T120000
DTEND;TZID=Europe/Ljubljana:20260525T140000
DTSTAMP:20260422T215408Z
UID:fs-AFLABS-URNIK:srecanje:3664-2026-05-25 12:00:00+02:00
DESCRIPTION:Predmet: Refrigeration and heat pumps - MAG (HTTM)\, Lectures 
 (P)\nLetniki: Process engineering (MAG-1)\nIzvajalci: Andrej Kitanovski\, 
 Katja Klinar\nProstor: Lecture hall III/2
END:VEVENT
BEGIN:VEVENT
SUMMARY:Refrigeration and Heat Pumps - MAG (RHPE)\, Lectures (P)
DTSTART;TZID=Europe/Ljubljana:20260216T100000
DTEND;TZID=Europe/Ljubljana:20260216T120000
DTSTAMP:20260422T215408Z
UID:fs-AFLABS-URNIK:srecanje:15226-2026-02-16 10:00:00+01:00
DESCRIPTION:Predmet: Refrigeration and Heat Pumps - MAG (RHPE)\, Lectures 
 (P)\nLetniki: Erasmus (Erasmus)\nIzvajalci: Andrej Kitanovski\, Katja Klin
 ar\nProstor: Lecture hall I/4A
END:VEVENT
BEGIN:VEVENT
SUMMARY:Refrigeration and Heat Pumps - MAG (RHPE)\, Lectures (P)
DTSTART;TZID=Europe/Ljubljana:20260223T100000
DTEND;TZID=Europe/Ljubljana:20260223T120000
DTSTAMP:20260422T215408Z
UID:fs-AFLABS-URNIK:srecanje:15226-2026-02-23 10:00:00+01:00
DESCRIPTION:Predmet: Refrigeration and Heat Pumps - MAG (RHPE)\, Lectures 
 (P)\nLetniki: Erasmus (Erasmus)\nIzvajalci: Andrej Kitanovski\, Katja Klin
 ar\nProstor: Lecture hall I/4A
END:VEVENT
BEGIN:VEVENT
SUMMARY:Refrigeration and Heat Pumps - MAG (RHPE)\, Lectures (P)
DTSTART;TZID=Europe/Ljubljana:20260302T100000
DTEND;TZID=Europe/Ljubljana:20260302T120000
DTSTAMP:20260422T215408Z
UID:fs-AFLABS-URNIK:srecanje:15226-2026-03-02 10:00:00+01:00
DESCRIPTION:Predmet: Refrigeration and Heat Pumps - MAG (RHPE)\, Lectures 
 (P)\nLetniki: Erasmus (Erasmus)\nIzvajalci: Andrej Kitanovski\, Katja Klin
 ar\nProstor: Lecture hall I/4A
END:VEVENT
BEGIN:VEVENT
SUMMARY:Refrigeration and Heat Pumps - MAG (RHPE)\, Lectures (P)
DTSTART;TZID=Europe/Ljubljana:20260309T100000
DTEND;TZID=Europe/Ljubljana:20260309T120000
DTSTAMP:20260422T215408Z
UID:fs-AFLABS-URNIK:srecanje:15226-2026-03-09 10:00:00+01:00
DESCRIPTION:Predmet: Refrigeration and Heat Pumps - MAG (RHPE)\, Lectures 
 (P)\nLetniki: Erasmus (Erasmus)\nIzvajalci: Andrej Kitanovski\, Katja Klin
 ar\nProstor: Lecture hall I/4A
END:VEVENT
BEGIN:VEVENT
SUMMARY:Refrigeration and Heat Pumps - MAG (RHPE)\, Lectures (P)
DTSTART;TZID=Europe/Ljubljana:20260316T100000
DTEND;TZID=Europe/Ljubljana:20260316T120000
DTSTAMP:20260422T215408Z
UID:fs-AFLABS-URNIK:srecanje:15226-2026-03-16 10:00:00+01:00
DESCRIPTION:Predmet: Refrigeration and Heat Pumps - MAG (RHPE)\, Lectures 
 (P)\nLetniki: Erasmus (Erasmus)\nIzvajalci: Andrej Kitanovski\, Katja Klin
 ar\nProstor: Lecture hall I/4A
END:VEVENT
BEGIN:VEVENT
SUMMARY:Refrigeration and Heat Pumps - MAG (RHPE)\, Lectures (P)
DTSTART;TZID=Europe/Ljubljana:20260323T100000
DTEND;TZID=Europe/Ljubljana:20260323T120000
DTSTAMP:20260422T215408Z
UID:fs-AFLABS-URNIK:srecanje:15226-2026-03-23 10:00:00+01:00
DESCRIPTION:Predmet: Refrigeration and Heat Pumps - MAG (RHPE)\, Lectures 
 (P)\nLetniki: Erasmus (Erasmus)\nIzvajalci: Andrej Kitanovski\, Katja Klin
 ar\nProstor: Lecture hall I/4A
END:VEVENT
BEGIN:VEVENT
SUMMARY:Refrigeration and Heat Pumps - MAG (RHPE)\, Lectures (P)
DTSTART;TZID=Europe/Ljubljana:20260330T100000
DTEND;TZID=Europe/Ljubljana:20260330T120000
DTSTAMP:20260422T215408Z
UID:fs-AFLABS-URNIK:srecanje:15226-2026-03-30 10:00:00+02:00
DESCRIPTION:Predmet: Refrigeration and Heat Pumps - MAG (RHPE)\, Lectures 
 (P)\nLetniki: Erasmus (Erasmus)\nIzvajalci: Andrej Kitanovski\, Katja Klin
 ar\nProstor: Lecture hall I/4A
END:VEVENT
BEGIN:VEVENT
SUMMARY:Refrigeration and Heat Pumps - MAG (RHPE)\, Lectures (P)
DTSTART;TZID=Europe/Ljubljana:20260406T100000
DTEND;TZID=Europe/Ljubljana:20260406T120000
DTSTAMP:20260422T215408Z
UID:fs-AFLABS-URNIK:srecanje:15226-2026-04-06 10:00:00+02:00
DESCRIPTION:Predmet: Refrigeration and Heat Pumps - MAG (RHPE)\, Lectures 
 (P)\nLetniki: Erasmus (Erasmus)\nIzvajalci: Andrej Kitanovski\, Katja Klin
 ar\nProstor: Lecture hall I/4A
END:VEVENT
BEGIN:VEVENT
SUMMARY:Refrigeration and Heat Pumps - MAG (RHPE)\, Lectures (P)
DTSTART;TZID=Europe/Ljubljana:20260413T100000
DTEND;TZID=Europe/Ljubljana:20260413T120000
DTSTAMP:20260422T215408Z
UID:fs-AFLABS-URNIK:srecanje:15226-2026-04-13 10:00:00+02:00
DESCRIPTION:Predmet: Refrigeration and Heat Pumps - MAG (RHPE)\, Lectures 
 (P)\nLetniki: Erasmus (Erasmus)\nIzvajalci: Andrej Kitanovski\, Katja Klin
 ar\nProstor: Lecture hall I/4A
END:VEVENT
BEGIN:VEVENT
SUMMARY:Refrigeration and Heat Pumps - MAG (RHPE)\, Lectures (P)
DTSTART;TZID=Europe/Ljubljana:20260420T100000
DTEND;TZID=Europe/Ljubljana:20260420T120000
DTSTAMP:20260422T215408Z
UID:fs-AFLABS-URNIK:srecanje:15226-2026-04-20 10:00:00+02:00
DESCRIPTION:Predmet: Refrigeration and Heat Pumps - MAG (RHPE)\, Lectures 
 (P)\nLetniki: Erasmus (Erasmus)\nIzvajalci: Andrej Kitanovski\, Katja Klin
 ar\nProstor: Lecture hall I/4A
END:VEVENT
BEGIN:VEVENT
SUMMARY:Refrigeration and Heat Pumps - MAG (RHPE)\, Lectures (P)
DTSTART;TZID=Europe/Ljubljana:20260427T100000
DTEND;TZID=Europe/Ljubljana:20260427T120000
DTSTAMP:20260422T215408Z
UID:fs-AFLABS-URNIK:srecanje:15226-2026-04-27 10:00:00+02:00
DESCRIPTION:Predmet: Refrigeration and Heat Pumps - MAG (RHPE)\, Lectures 
 (P)\nLetniki: Erasmus (Erasmus)\nIzvajalci: Andrej Kitanovski\, Katja Klin
 ar\nProstor: Lecture hall I/4A
END:VEVENT
BEGIN:VEVENT
SUMMARY:Refrigeration and Heat Pumps - MAG (RHPE)\, Lectures (P)
DTSTART;TZID=Europe/Ljubljana:20260504T100000
DTEND;TZID=Europe/Ljubljana:20260504T120000
DTSTAMP:20260422T215408Z
UID:fs-AFLABS-URNIK:srecanje:15226-2026-05-04 10:00:00+02:00
DESCRIPTION:Predmet: Refrigeration and Heat Pumps - MAG (RHPE)\, Lectures 
 (P)\nLetniki: Erasmus (Erasmus)\nIzvajalci: Andrej Kitanovski\, Katja Klin
 ar\nProstor: Lecture hall I/4A
END:VEVENT
BEGIN:VEVENT
SUMMARY:Refrigeration and Heat Pumps - MAG (RHPE)\, Lectures (P)
DTSTART;TZID=Europe/Ljubljana:20260511T100000
DTEND;TZID=Europe/Ljubljana:20260511T120000
DTSTAMP:20260422T215408Z
UID:fs-AFLABS-URNIK:srecanje:15226-2026-05-11 10:00:00+02:00
DESCRIPTION:Predmet: Refrigeration and Heat Pumps - MAG (RHPE)\, Lectures 
 (P)\nLetniki: Erasmus (Erasmus)\nIzvajalci: Andrej Kitanovski\, Katja Klin
 ar\nProstor: Lecture hall I/4A
END:VEVENT
BEGIN:VEVENT
SUMMARY:Refrigeration and Heat Pumps - MAG (RHPE)\, Lectures (P)
DTSTART;TZID=Europe/Ljubljana:20260518T100000
DTEND;TZID=Europe/Ljubljana:20260518T120000
DTSTAMP:20260422T215408Z
UID:fs-AFLABS-URNIK:srecanje:15226-2026-05-18 10:00:00+02:00
DESCRIPTION:Predmet: Refrigeration and Heat Pumps - MAG (RHPE)\, Lectures 
 (P)\nLetniki: Erasmus (Erasmus)\nIzvajalci: Andrej Kitanovski\, Katja Klin
 ar\nProstor: Lecture hall I/4A
END:VEVENT
BEGIN:VEVENT
SUMMARY:Refrigeration and Heat Pumps - MAG (RHPE)\, Lectures (P)
DTSTART;TZID=Europe/Ljubljana:20260525T100000
DTEND;TZID=Europe/Ljubljana:20260525T120000
DTSTAMP:20260422T215408Z
UID:fs-AFLABS-URNIK:srecanje:15226-2026-05-25 10:00:00+02:00
DESCRIPTION:Predmet: Refrigeration and Heat Pumps - MAG (RHPE)\, Lectures 
 (P)\nLetniki: Erasmus (Erasmus)\nIzvajalci: Andrej Kitanovski\, Katja Klin
 ar\nProstor: Lecture hall I/4A
END:VEVENT
BEGIN:VEVENT
SUMMARY:Refrigeration and heat pumps - PAP (HTTP)\, Lectures (P)
DTSTART;TZID=Europe/Ljubljana:20260217T133000
DTEND;TZID=Europe/Ljubljana:20260217T153000
DTSTAMP:20260422T215408Z
UID:fs-AFLABS-URNIK:srecanje:425-2026-02-17 13:30:00+01:00
DESCRIPTION:Predmet: Refrigeration and heat pumps - PAP (HTTP)\, Lectures 
 (P)\nLetniki: Process engineering (PAP-2)\nIzvajalci: Andrej Kitanovski\, 
 Urban Tomc\nProstor: Lecture hall IV/3A
END:VEVENT
BEGIN:VEVENT
SUMMARY:Refrigeration and heat pumps - PAP (HTTP)\, Lectures (P)
DTSTART;TZID=Europe/Ljubljana:20260224T133000
DTEND;TZID=Europe/Ljubljana:20260224T153000
DTSTAMP:20260422T215408Z
UID:fs-AFLABS-URNIK:srecanje:425-2026-02-24 13:30:00+01:00
DESCRIPTION:Predmet: Refrigeration and heat pumps - PAP (HTTP)\, Lectures 
 (P)\nLetniki: Process engineering (PAP-2)\nIzvajalci: Andrej Kitanovski\, 
 Urban Tomc\nProstor: Lecture hall IV/3A
END:VEVENT
BEGIN:VEVENT
SUMMARY:Refrigeration and heat pumps - PAP (HTTP)\, Lectures (P)
DTSTART;TZID=Europe/Ljubljana:20260303T133000
DTEND;TZID=Europe/Ljubljana:20260303T153000
DTSTAMP:20260422T215408Z
UID:fs-AFLABS-URNIK:srecanje:425-2026-03-03 13:30:00+01:00
DESCRIPTION:Predmet: Refrigeration and heat pumps - PAP (HTTP)\, Lectures 
 (P)\nLetniki: Process engineering (PAP-2)\nIzvajalci: Andrej Kitanovski\, 
 Urban Tomc\nProstor: Lecture hall IV/3A
END:VEVENT
BEGIN:VEVENT
SUMMARY:Refrigeration and heat pumps - PAP (HTTP)\, Lectures (P)
DTSTART;TZID=Europe/Ljubljana:20260310T133000
DTEND;TZID=Europe/Ljubljana:20260310T153000
DTSTAMP:20260422T215408Z
UID:fs-AFLABS-URNIK:srecanje:425-2026-03-10 13:30:00+01:00
DESCRIPTION:Predmet: Refrigeration and heat pumps - PAP (HTTP)\, Lectures 
 (P)\nLetniki: Process engineering (PAP-2)\nIzvajalci: Andrej Kitanovski\, 
 Urban Tomc\nProstor: Lecture hall IV/3A
END:VEVENT
BEGIN:VEVENT
SUMMARY:Refrigeration and heat pumps - PAP (HTTP)\, Lectures (P)
DTSTART;TZID=Europe/Ljubljana:20260317T133000
DTEND;TZID=Europe/Ljubljana:20260317T153000
DTSTAMP:20260422T215408Z
UID:fs-AFLABS-URNIK:srecanje:425-2026-03-17 13:30:00+01:00
DESCRIPTION:Predmet: Refrigeration and heat pumps - PAP (HTTP)\, Lectures 
 (P)\nLetniki: Process engineering (PAP-2)\nIzvajalci: Andrej Kitanovski\, 
 Urban Tomc\nProstor: Lecture hall IV/3A
END:VEVENT
BEGIN:VEVENT
SUMMARY:Refrigeration and heat pumps - PAP (HTTP)\, Lectures (P)
DTSTART;TZID=Europe/Ljubljana:20260324T133000
DTEND;TZID=Europe/Ljubljana:20260324T153000
DTSTAMP:20260422T215408Z
UID:fs-AFLABS-URNIK:srecanje:425-2026-03-24 13:30:00+01:00
DESCRIPTION:Predmet: Refrigeration and heat pumps - PAP (HTTP)\, Lectures 
 (P)\nLetniki: Process engineering (PAP-2)\nIzvajalci: Andrej Kitanovski\, 
 Urban Tomc\nProstor: Lecture hall IV/3A
END:VEVENT
BEGIN:VEVENT
SUMMARY:Refrigeration and heat pumps - PAP (HTTP)\, Lectures (P)
DTSTART;TZID=Europe/Ljubljana:20260331T133000
DTEND;TZID=Europe/Ljubljana:20260331T153000
DTSTAMP:20260422T215408Z
UID:fs-AFLABS-URNIK:srecanje:425-2026-03-31 13:30:00+02:00
DESCRIPTION:Predmet: Refrigeration and heat pumps - PAP (HTTP)\, Lectures 
 (P)\nLetniki: Process engineering (PAP-2)\nIzvajalci: Andrej Kitanovski\, 
 Urban Tomc\nProstor: Lecture hall IV/3A
END:VEVENT
BEGIN:VEVENT
SUMMARY:Refrigeration and heat pumps - PAP (HTTP)\, Lectures (P)
DTSTART;TZID=Europe/Ljubljana:20260407T133000
DTEND;TZID=Europe/Ljubljana:20260407T153000
DTSTAMP:20260422T215408Z
UID:fs-AFLABS-URNIK:srecanje:425-2026-04-07 13:30:00+02:00
DESCRIPTION:Predmet: Refrigeration and heat pumps - PAP (HTTP)\, Lectures 
 (P)\nLetniki: Process engineering (PAP-2)\nIzvajalci: Andrej Kitanovski\, 
 Urban Tomc\nProstor: Lecture hall IV/3A
END:VEVENT
BEGIN:VEVENT
SUMMARY:Refrigeration and heat pumps - PAP (HTTP)\, Lectures (P)
DTSTART;TZID=Europe/Ljubljana:20260414T133000
DTEND;TZID=Europe/Ljubljana:20260414T153000
DTSTAMP:20260422T215408Z
UID:fs-AFLABS-URNIK:srecanje:425-2026-04-14 13:30:00+02:00
DESCRIPTION:Predmet: Refrigeration and heat pumps - PAP (HTTP)\, Lectures 
 (P)\nLetniki: Process engineering (PAP-2)\nIzvajalci: Andrej Kitanovski\, 
 Urban Tomc\nProstor: Lecture hall IV/3A
END:VEVENT
BEGIN:VEVENT
SUMMARY:Refrigeration and heat pumps - PAP (HTTP)\, Lectures (P)
DTSTART;TZID=Europe/Ljubljana:20260421T133000
DTEND;TZID=Europe/Ljubljana:20260421T153000
DTSTAMP:20260422T215408Z
UID:fs-AFLABS-URNIK:srecanje:425-2026-04-21 13:30:00+02:00
DESCRIPTION:Predmet: Refrigeration and heat pumps - PAP (HTTP)\, Lectures 
 (P)\nLetniki: Process engineering (PAP-2)\nIzvajalci: Andrej Kitanovski\, 
 Urban Tomc\nProstor: Lecture hall IV/3A
END:VEVENT
BEGIN:VEVENT
SUMMARY:Refrigeration and heat pumps - PAP (HTTP)\, Lectures (P)
DTSTART;TZID=Europe/Ljubljana:20260428T133000
DTEND;TZID=Europe/Ljubljana:20260428T153000
DTSTAMP:20260422T215408Z
UID:fs-AFLABS-URNIK:srecanje:425-2026-04-28 13:30:00+02:00
DESCRIPTION:Predmet: Refrigeration and heat pumps - PAP (HTTP)\, Lectures 
 (P)\nLetniki: Process engineering (PAP-2)\nIzvajalci: Andrej Kitanovski\, 
 Urban Tomc\nProstor: Lecture hall IV/3A
END:VEVENT
BEGIN:VEVENT
SUMMARY:Refrigeration and heat pumps - PAP (HTTP)\, Lectures (P)
DTSTART;TZID=Europe/Ljubljana:20260505T133000
DTEND;TZID=Europe/Ljubljana:20260505T153000
DTSTAMP:20260422T215408Z
UID:fs-AFLABS-URNIK:srecanje:425-2026-05-05 13:30:00+02:00
DESCRIPTION:Predmet: Refrigeration and heat pumps - PAP (HTTP)\, Lectures 
 (P)\nLetniki: Process engineering (PAP-2)\nIzvajalci: Andrej Kitanovski\, 
 Urban Tomc\nProstor: Lecture hall IV/3A
END:VEVENT
BEGIN:VEVENT
SUMMARY:Refrigeration and heat pumps - PAP (HTTP)\, Lectures (P)
DTSTART;TZID=Europe/Ljubljana:20260512T133000
DTEND;TZID=Europe/Ljubljana:20260512T153000
DTSTAMP:20260422T215408Z
UID:fs-AFLABS-URNIK:srecanje:425-2026-05-12 13:30:00+02:00
DESCRIPTION:Predmet: Refrigeration and heat pumps - PAP (HTTP)\, Lectures 
 (P)\nLetniki: Process engineering (PAP-2)\nIzvajalci: Andrej Kitanovski\, 
 Urban Tomc\nProstor: Lecture hall IV/3A
END:VEVENT
BEGIN:VEVENT
SUMMARY:Refrigeration and heat pumps - PAP (HTTP)\, Lectures (P)
DTSTART;TZID=Europe/Ljubljana:20260519T133000
DTEND;TZID=Europe/Ljubljana:20260519T153000
DTSTAMP:20260422T215408Z
UID:fs-AFLABS-URNIK:srecanje:425-2026-05-19 13:30:00+02:00
DESCRIPTION:Predmet: Refrigeration and heat pumps - PAP (HTTP)\, Lectures 
 (P)\nLetniki: Process engineering (PAP-2)\nIzvajalci: Andrej Kitanovski\, 
 Urban Tomc\nProstor: Lecture hall IV/3A
END:VEVENT
BEGIN:VEVENT
SUMMARY:Refrigeration and heat pumps - PAP (HTTP)\, Lectures (P)
DTSTART;TZID=Europe/Ljubljana:20260526T133000
DTEND;TZID=Europe/Ljubljana:20260526T153000
DTSTAMP:20260422T215408Z
UID:fs-AFLABS-URNIK:srecanje:425-2026-05-26 13:30:00+02:00
DESCRIPTION:Predmet: Refrigeration and heat pumps - PAP (HTTP)\, Lectures 
 (P)\nLetniki: Process engineering (PAP-2)\nIzvajalci: Andrej Kitanovski\, 
 Urban Tomc\nProstor: Lecture hall IV/3A
END:VEVENT
BEGIN:VEVENT
SUMMARY:Ustni izpit - 2. rok (II)
DTSTART;TZID=Europe/Ljubljana:20260218T090000
DTEND;TZID=Europe/Ljubljana:20260218T093000
DTSTAMP:20260422T215408Z
UID:fs-AFLABS-URNIK:rezervacija:13705
ATTENDEE:Process engineering (MAG-1)
CATEGORIES:Reservation
COLOR:royalblue
DESCRIPTION:Predmeti: Transport phenomena (TRPM)\nLetniki: Process enginee
 ring (MAG-1)\nIzvajalci: Darja Gačnik\, Andrej Kitanovski\nProstori: Lect
 ure hall III/3B
LOCATION:Lecture hall III/3B
ORGANIZER:Darja Gačnik, Andrej Kitanovski
X-WR-TIMEZONE:Europe/Ljubljana
END:VEVENT
BEGIN:VEVENT
SUMMARY:Dodatni izpitni rok
DTSTART;TZID=Europe/Ljubljana:20260312T160000
DTEND;TZID=Europe/Ljubljana:20260312T180000
DTSTAMP:20260422T215408Z
UID:fs-AFLABS-URNIK:rezervacija:13814
ATTENDEE:Process engineering (MAG-1)
CATEGORIES:Reservation
COLOR:royalblue
DESCRIPTION:Predmeti: Transport phenomena (TRPM)\nLetniki: Process enginee
 ring (MAG-1)\nIzvajalci: Darja Gačnik\, Andrej Kitanovski\nProstori: Lect
 ure hall III/2
LOCATION:Lecture hall III/2
ORGANIZER:Darja Gačnik, Andrej Kitanovski
X-WR-TIMEZONE:Europe/Ljubljana
END:VEVENT
BEGIN:VEVENT
SUMMARY:sestanek LAHDE
DTSTART;TZID=Europe/Ljubljana:20260407T120000
DTEND;TZID=Europe/Ljubljana:20260407T123000
DTSTAMP:20260422T215408Z
UID:fs-AFLABS-URNIK:rezervacija:14269
CATEGORIES:Reservation
COLOR:royalblue
DESCRIPTION:Predmeti: \nLetniki: \nIzvajalci: Andrej Kitanovski\nProstori:
  Conference room
LOCATION:Conference room
ORGANIZER:Andrej Kitanovski
X-WR-TIMEZONE:Europe/Ljubljana
END:VEVENT
BEGIN:VEVENT
SUMMARY:meeting LAHDE simulations
DTSTART;TZID=Europe/Ljubljana:20260415T140000
DTEND;TZID=Europe/Ljubljana:20260415T153000
DTSTAMP:20260422T215408Z
UID:fs-AFLABS-URNIK:rezervacija:14357
CATEGORIES:Reservation
COLOR:royalblue
DESCRIPTION:Predmeti: \nLetniki: \nIzvajalci: Andrej Kitanovski\nProstori:
  Lecture hall III/3B
LOCATION:Lecture hall III/3B
ORGANIZER:Andrej Kitanovski
X-WR-TIMEZONE:Europe/Ljubljana
END:VEVENT
END:VCALENDAR
