BEGIN:VCALENDAR
VERSION:2.0
PRODID:-//AFLabs urnik izvoz - fs//aflabs.si//SI
NAME:UL FS Urnik
X-WR-CALNAME:UL FS Urnik
DTSTAMP:20260425T200058Z
REFRESH-INTERVAL:PT1H
SOURCE:https://urnik.fs.uni-lj.si/en/teacher/722/?day=2023-06-12&export=1
URL:https://urnik.fs.uni-lj.si/en/teacher/722/?day=2023-06-12&export=1
X-PUBLISHED-TTL:PT1H
X-WR-TIMEZONE:Europe/Ljubljana
BEGIN:VTIMEZONE
TZID:Europe/Ljubljana
BEGIN:DAYLIGHT
DTSTART:20260329T020000
RDATE:20260329T020000
RDATE:20270328T020000
TZNAME:CEST
TZOFFSETFROM:+0100
TZOFFSETTO:+0200
END:DAYLIGHT
BEGIN:STANDARD
DTSTART:20261025T030000
RDATE:20261025T030000
RDATE:20271031T030000
TZNAME:CET
TZOFFSETFROM:+0200
TZOFFSETTO:+0100
END:STANDARD
END:VTIMEZONE
BEGIN:VEVENT
SUMMARY:Sestanek - urnik - VL
DTSTART;TZID=Europe/Ljubljana:20230705T090000
DTEND;TZID=Europe/Ljubljana:20230705T150000
DTSTAMP:20260425T200058Z
UID:fs-AFLABS-URNIK:rezervacija:1010
CATEGORIES:Reservation
COLOR:royalblue
DESCRIPTION:Predmeti: \nLetniki: \nIzvajalci: Jernej Klemenc\, Franci Puš
 avec\nProstori: Lecture hall II/4
LOCATION:Lecture hall II/4
ORGANIZER:Jernej Klemenc, Franci Pušavec
X-WR-TIMEZONE:Europe/Ljubljana
END:VEVENT
BEGIN:VEVENT
SUMMARY:Sestanek - urnik - VL
DTSTART;TZID=Europe/Ljubljana:20230704T110000
DTEND;TZID=Europe/Ljubljana:20230704T150000
DTSTAMP:20260425T200058Z
UID:fs-AFLABS-URNIK:rezervacija:1084
CATEGORIES:Reservation
COLOR:royalblue
DESCRIPTION:Predmeti: \nLetniki: \nIzvajalci: Jernej Klemenc\, Franci Puš
 avec\nProstori: Lecture hall II/4
LOCATION:Lecture hall II/4
ORGANIZER:Jernej Klemenc, Franci Pušavec
X-WR-TIMEZONE:Europe/Ljubljana
END:VEVENT
BEGIN:VEVENT
SUMMARY:Izpit: Efektivnost izdelkov (6205)
DTSTART;TZID=Europe/Ljubljana:20230608T170000
DTEND;TZID=Europe/Ljubljana:20230608T190000
DTSTAMP:20260425T200058Z
UID:fs-AFLABS-URNIK:rezervacija:1223
CATEGORIES:Reservation
COLOR:royalblue
DESCRIPTION:Predmeti: \nLetniki: \nIzvajalci: Jernej Klemenc\nProstori: Le
 cture hall IV/4
LOCATION:Lecture hall IV/4
ORGANIZER:Jernej Klemenc
X-WR-TIMEZONE:Europe/Ljubljana
END:VEVENT
BEGIN:VEVENT
SUMMARY:Izpit: Complex Powertrains in Mobile Machinery (6031-M)
DTSTART;TZID=Europe/Ljubljana:20230606T120000
DTEND;TZID=Europe/Ljubljana:20230606T140000
DTSTAMP:20260425T200058Z
UID:fs-AFLABS-URNIK:rezervacija:2511
CATEGORIES:Reservation
COLOR:royalblue
DESCRIPTION:Predmeti: \nLetniki: \nIzvajalci: Jernej Klemenc\nProstori: Le
 cture hall II/4
LOCATION:Lecture hall II/4
ORGANIZER:Jernej Klemenc
X-WR-TIMEZONE:Europe/Ljubljana
END:VEVENT
BEGIN:VEVENT
SUMMARY:Izpit: Complex Powertrains in Mobile Machinery (6031-M)
DTSTART;TZID=Europe/Ljubljana:20230620T130000
DTEND;TZID=Europe/Ljubljana:20230620T150000
DTSTAMP:20260425T200058Z
UID:fs-AFLABS-URNIK:rezervacija:2512
CATEGORIES:Reservation
COLOR:royalblue
DESCRIPTION:Predmeti: \nLetniki: \nIzvajalci: Jernej Klemenc\nProstori: Le
 cture hall III/4\, Lecture hall IV/2\, Lecture hall V/2\, Lecture hall V/8
LOCATION:Lecture hall III/4\, Lecture hall IV/2\, Lecture hall V/2\, Lectu
 re hall V/8
ORGANIZER:Jernej Klemenc
X-WR-TIMEZONE:Europe/Ljubljana
END:VEVENT
BEGIN:VEVENT
SUMMARY:Izpit: Design of Advanced Systems (6026-M)
DTSTART;TZID=Europe/Ljubljana:20230612T120000
DTEND;TZID=Europe/Ljubljana:20230612T140000
DTSTAMP:20260425T200058Z
UID:fs-AFLABS-URNIK:rezervacija:2514
CATEGORIES:Reservation
COLOR:royalblue
DESCRIPTION:Predmeti: \nLetniki: \nIzvajalci: Jernej Klemenc\nProstori: Le
 cture hall II/2
LOCATION:Lecture hall II/2
ORGANIZER:Jernej Klemenc
X-WR-TIMEZONE:Europe/Ljubljana
END:VEVENT
BEGIN:VEVENT
SUMMARY:Izpit: Dinamika vozil (6045)
DTSTART;TZID=Europe/Ljubljana:20230605T080000
DTEND;TZID=Europe/Ljubljana:20230605T100000
DTSTAMP:20260425T200058Z
UID:fs-AFLABS-URNIK:rezervacija:2517
CATEGORIES:Reservation
COLOR:royalblue
DESCRIPTION:Predmeti: \nLetniki: \nIzvajalci: Jernej Klemenc\nProstori: Le
 cture hall IV/3B
LOCATION:Lecture hall IV/3B
ORGANIZER:Jernej Klemenc
X-WR-TIMEZONE:Europe/Ljubljana
END:VEVENT
BEGIN:VEVENT
SUMMARY:Izpit: Dinamika vozil (6045) - 2. letnik
DTSTART;TZID=Europe/Ljubljana:20230605T080000
DTEND;TZID=Europe/Ljubljana:20230605T100000
DTSTAMP:20260425T200058Z
UID:fs-AFLABS-URNIK:rezervacija:2520
CATEGORIES:Reservation
COLOR:royalblue
DESCRIPTION:Predmeti: \nLetniki: \nIzvajalci: Jernej Klemenc\nProstori: Le
 cture hall IV/3B
LOCATION:Lecture hall IV/3B
ORGANIZER:Jernej Klemenc
X-WR-TIMEZONE:Europe/Ljubljana
END:VEVENT
BEGIN:VEVENT
SUMMARY:Izpit: Efektivnost proizvodov (3033)
DTSTART;TZID=Europe/Ljubljana:20230626T140000
DTEND;TZID=Europe/Ljubljana:20230626T160000
DTSTAMP:20260425T200058Z
UID:fs-AFLABS-URNIK:rezervacija:2525
CATEGORIES:Reservation
COLOR:royalblue
DESCRIPTION:Predmeti: \nLetniki: \nIzvajalci: Jernej Klemenc\nProstori: Le
 cture hall III/2\, Lecture hall IV/2\, Lecture hall IV/4\, Lecture hall V/
 2
LOCATION:Lecture hall III/2\, Lecture hall IV/2\, Lecture hall IV/4\, Lect
 ure hall V/2
ORGANIZER:Jernej Klemenc
X-WR-TIMEZONE:Europe/Ljubljana
END:VEVENT
BEGIN:VEVENT
SUMMARY:Izpit: Design of Advanced Systems (6026-M)
DTSTART;TZID=Europe/Ljubljana:20230626T130000
DTEND;TZID=Europe/Ljubljana:20230626T150000
DTSTAMP:20260425T200058Z
UID:fs-AFLABS-URNIK:rezervacija:2530
CATEGORIES:Reservation
COLOR:royalblue
DESCRIPTION:Predmeti: \nLetniki: \nIzvajalci: Jernej Klemenc\nProstori: Le
 cture hall III/3B
LOCATION:Lecture hall III/3B
ORGANIZER:Jernej Klemenc
X-WR-TIMEZONE:Europe/Ljubljana
END:VEVENT
BEGIN:VEVENT
SUMMARY:Izpit: Konstruiranje v industriji
DTSTART;TZID=Europe/Ljubljana:20230615T140000
DTEND;TZID=Europe/Ljubljana:20230615T160000
DTSTAMP:20260425T200058Z
UID:fs-AFLABS-URNIK:rezervacija:2533
ATTENDEE:Design of machines and devices (PAP-2)
CATEGORIES:Reservation
COLOR:royalblue
DESCRIPTION:Predmeti: System design in the industry (KVIP)\nLetniki: Desig
 n of machines and devices (PAP-2)\nIzvajalci: Jernej Klemenc\nProstori: Le
 cture hall IV/4\, Lecture hall V/8
LOCATION:Lecture hall IV/4\, Lecture hall V/8
ORGANIZER:Jernej Klemenc
X-WR-TIMEZONE:Europe/Ljubljana
END:VEVENT
BEGIN:VEVENT
SUMMARY:Izpit: Konstruiranje v industriji
DTSTART;TZID=Europe/Ljubljana:20230629T120000
DTEND;TZID=Europe/Ljubljana:20230629T140000
DTSTAMP:20260425T200058Z
UID:fs-AFLABS-URNIK:rezervacija:2534
ATTENDEE:Design of machines and devices (PAP-2)
CATEGORIES:Reservation
COLOR:royalblue
DESCRIPTION:Predmeti: System design in the industry (KVIP)\nLetniki: Desig
 n of machines and devices (PAP-2)\nIzvajalci: Jernej Klemenc\nProstori: Le
 cture hall V/2\, Lecture hall V/8
LOCATION:Lecture hall V/2\, Lecture hall V/8
ORGANIZER:Jernej Klemenc
X-WR-TIMEZONE:Europe/Ljubljana
END:VEVENT
BEGIN:VEVENT
SUMMARY:Izpit: Razvojna vrednotenja (6255)
DTSTART;TZID=Europe/Ljubljana:20230613T100000
DTEND;TZID=Europe/Ljubljana:20230613T120000
DTSTAMP:20260425T200058Z
UID:fs-AFLABS-URNIK:rezervacija:2537
CATEGORIES:Reservation
COLOR:royalblue
DESCRIPTION:Predmeti: \nLetniki: \nIzvajalci: Jernej Klemenc\nProstori: Le
 cture hall II/3B
LOCATION:Lecture hall II/3B
ORGANIZER:Jernej Klemenc
X-WR-TIMEZONE:Europe/Ljubljana
END:VEVENT
BEGIN:VEVENT
SUMMARY:Izpit: Transmisije vozil
DTSTART;TZID=Europe/Ljubljana:20230615T100000
DTEND;TZID=Europe/Ljubljana:20230615T120000
DTSTAMP:20260425T200058Z
UID:fs-AFLABS-URNIK:rezervacija:2540
ATTENDEE:Snovanje, obratovanje in vzdrževanje - Mobilna tehnika (PAP-3)
ATTENDEE:Snovanje, obratovanje in vzdrževanje - Transportni in delovni st
 roji (PAP-3)
CATEGORIES:Reservation
COLOR:royalblue
DESCRIPTION:Predmeti: Vehicle Transmissions (3118)\nLetniki: Snovanje\, ob
 ratovanje in vzdrževanje - Mobilna tehnika (PAP-3)\, Snovanje\, obratovan
 je in vzdrževanje - Transportni in delovni stroji (PAP-3)\nIzvajalci: Jer
 nej Klemenc\nProstori: Lecture hall III/2
LOCATION:Lecture hall III/2
ORGANIZER:Jernej Klemenc
X-WR-TIMEZONE:Europe/Ljubljana
END:VEVENT
BEGIN:VEVENT
SUMMARY:Izpit: Transmisije vozil
DTSTART;TZID=Europe/Ljubljana:20230629T100000
DTEND;TZID=Europe/Ljubljana:20230629T120000
DTSTAMP:20260425T200058Z
UID:fs-AFLABS-URNIK:rezervacija:2541
ATTENDEE:Snovanje, obratovanje in vzdrževanje - Mobilna tehnika (PAP-3)
ATTENDEE:Snovanje, obratovanje in vzdrževanje - Transportni in delovni st
 roji (PAP-3)
CATEGORIES:Reservation
COLOR:royalblue
DESCRIPTION:Predmeti: Vehicle Transmissions (3118)\nLetniki: Snovanje\, ob
 ratovanje in vzdrževanje - Mobilna tehnika (PAP-3)\, Snovanje\, obratovan
 je in vzdrževanje - Transportni in delovni stroji (PAP-3)\nIzvajalci: Jer
 nej Klemenc\nProstori: Lecture hall III/4\, Lecture hall IV/2
LOCATION:Lecture hall III/4\, Lecture hall IV/2
ORGANIZER:Jernej Klemenc
X-WR-TIMEZONE:Europe/Ljubljana
END:VEVENT
BEGIN:VEVENT
SUMMARY:Izpit: Vrednotenje na zanesljivost
DTSTART;TZID=Europe/Ljubljana:20230608T170000
DTEND;TZID=Europe/Ljubljana:20230608T190000
DTSTAMP:20260425T200058Z
UID:fs-AFLABS-URNIK:rezervacija:2598
ATTENDEE:Engineering design (MAG-2)
CATEGORIES:Reservation
COLOR:royalblue
DESCRIPTION:Predmeti: Reliability evaluation and demonstration (VNZM)\nLet
 niki: Engineering design (MAG-2)\nIzvajalci: Jernej Klemenc\nProstori: Lec
 ture hall IV/4
LOCATION:Lecture hall IV/4
ORGANIZER:Jernej Klemenc
X-WR-TIMEZONE:Europe/Ljubljana
END:VEVENT
END:VCALENDAR
