BEGIN:VCALENDAR
VERSION:2.0
PRODID:-//AFLabs urnik izvoz - fs//aflabs.si//SI
NAME:UL FS Urnik
X-WR-CALNAME:UL FS Urnik
DTSTAMP:20260425T142444Z
REFRESH-INTERVAL:PT1H
SOURCE:https://urnik.fs.uni-lj.si/en/teacher/723/?day=2026-02-02&export=1
URL:https://urnik.fs.uni-lj.si/en/teacher/723/?day=2026-02-02&export=1
X-PUBLISHED-TTL:PT1H
X-WR-TIMEZONE:Europe/Ljubljana
BEGIN:VTIMEZONE
TZID:Europe/Ljubljana
BEGIN:DAYLIGHT
DTSTART:20260329T020000
RDATE:20260329T020000
RDATE:20270328T020000
TZNAME:CEST
TZOFFSETFROM:+0100
TZOFFSETTO:+0200
END:DAYLIGHT
BEGIN:STANDARD
DTSTART:20261025T030000
RDATE:20261025T030000
RDATE:20271031T030000
TZNAME:CET
TZOFFSETFROM:+0200
TZOFFSETTO:+0100
END:STANDARD
END:VTIMEZONE
BEGIN:VEVENT
SUMMARY:Refrigeration and heat pumps - MAG (HTTM)\, Lectures (P)
DTSTART;TZID=Europe/Ljubljana:20260216T120000
DTEND;TZID=Europe/Ljubljana:20260216T140000
DTSTAMP:20260425T142444Z
UID:fs-AFLABS-URNIK:srecanje:3664-2026-02-16 12:00:00+01:00
DESCRIPTION:Predmet: Refrigeration and heat pumps - MAG (HTTM)\, Lectures 
 (P)\nLetniki: Process engineering (MAG-1)\nIzvajalci: Andrej Kitanovski\, 
 Katja Klinar\nProstor: Lecture hall III/2
END:VEVENT
BEGIN:VEVENT
SUMMARY:Refrigeration and heat pumps - MAG (HTTM)\, Lectures (P)
DTSTART;TZID=Europe/Ljubljana:20260223T120000
DTEND;TZID=Europe/Ljubljana:20260223T140000
DTSTAMP:20260425T142444Z
UID:fs-AFLABS-URNIK:srecanje:3664-2026-02-23 12:00:00+01:00
DESCRIPTION:Predmet: Refrigeration and heat pumps - MAG (HTTM)\, Lectures 
 (P)\nLetniki: Process engineering (MAG-1)\nIzvajalci: Andrej Kitanovski\, 
 Katja Klinar\nProstor: Lecture hall III/2
END:VEVENT
BEGIN:VEVENT
SUMMARY:Refrigeration and heat pumps - MAG (HTTM)\, Lectures (P)
DTSTART;TZID=Europe/Ljubljana:20260302T120000
DTEND;TZID=Europe/Ljubljana:20260302T140000
DTSTAMP:20260425T142444Z
UID:fs-AFLABS-URNIK:srecanje:3664-2026-03-02 12:00:00+01:00
DESCRIPTION:Predmet: Refrigeration and heat pumps - MAG (HTTM)\, Lectures 
 (P)\nLetniki: Process engineering (MAG-1)\nIzvajalci: Andrej Kitanovski\, 
 Katja Klinar\nProstor: Lecture hall III/2
END:VEVENT
BEGIN:VEVENT
SUMMARY:Refrigeration and heat pumps - MAG (HTTM)\, Lectures (P)
DTSTART;TZID=Europe/Ljubljana:20260309T120000
DTEND;TZID=Europe/Ljubljana:20260309T140000
DTSTAMP:20260425T142444Z
UID:fs-AFLABS-URNIK:srecanje:3664-2026-03-09 12:00:00+01:00
DESCRIPTION:Predmet: Refrigeration and heat pumps - MAG (HTTM)\, Lectures 
 (P)\nLetniki: Process engineering (MAG-1)\nIzvajalci: Andrej Kitanovski\, 
 Katja Klinar\nProstor: Lecture hall III/2
END:VEVENT
BEGIN:VEVENT
SUMMARY:Refrigeration and Heat Pumps - MAG (RHPE)\, Lectures (P)
DTSTART;TZID=Europe/Ljubljana:20260216T100000
DTEND;TZID=Europe/Ljubljana:20260216T120000
DTSTAMP:20260425T142444Z
UID:fs-AFLABS-URNIK:srecanje:15226-2026-02-16 10:00:00+01:00
DESCRIPTION:Predmet: Refrigeration and Heat Pumps - MAG (RHPE)\, Lectures 
 (P)\nLetniki: Erasmus (Erasmus)\nIzvajalci: Andrej Kitanovski\, Katja Klin
 ar\nProstor: Lecture hall I/4A
END:VEVENT
BEGIN:VEVENT
SUMMARY:Refrigeration and Heat Pumps - MAG (RHPE)\, Lectures (P)
DTSTART;TZID=Europe/Ljubljana:20260223T100000
DTEND;TZID=Europe/Ljubljana:20260223T120000
DTSTAMP:20260425T142444Z
UID:fs-AFLABS-URNIK:srecanje:15226-2026-02-23 10:00:00+01:00
DESCRIPTION:Predmet: Refrigeration and Heat Pumps - MAG (RHPE)\, Lectures 
 (P)\nLetniki: Erasmus (Erasmus)\nIzvajalci: Andrej Kitanovski\, Katja Klin
 ar\nProstor: Lecture hall I/4A
END:VEVENT
BEGIN:VEVENT
SUMMARY:Refrigeration and Heat Pumps - MAG (RHPE)\, Lectures (P)
DTSTART;TZID=Europe/Ljubljana:20260302T100000
DTEND;TZID=Europe/Ljubljana:20260302T120000
DTSTAMP:20260425T142444Z
UID:fs-AFLABS-URNIK:srecanje:15226-2026-03-02 10:00:00+01:00
DESCRIPTION:Predmet: Refrigeration and Heat Pumps - MAG (RHPE)\, Lectures 
 (P)\nLetniki: Erasmus (Erasmus)\nIzvajalci: Andrej Kitanovski\, Katja Klin
 ar\nProstor: Lecture hall I/4A
END:VEVENT
BEGIN:VEVENT
SUMMARY:Refrigeration and Heat Pumps - MAG (RHPE)\, Lectures (P)
DTSTART;TZID=Europe/Ljubljana:20260309T100000
DTEND;TZID=Europe/Ljubljana:20260309T120000
DTSTAMP:20260425T142444Z
UID:fs-AFLABS-URNIK:srecanje:15226-2026-03-09 10:00:00+01:00
DESCRIPTION:Predmet: Refrigeration and Heat Pumps - MAG (RHPE)\, Lectures 
 (P)\nLetniki: Erasmus (Erasmus)\nIzvajalci: Andrej Kitanovski\, Katja Klin
 ar\nProstor: Lecture hall I/4A
END:VEVENT
BEGIN:VEVENT
SUMMARY:Refrigeration and heat pumps - MAG (HTTM)\, Lecture exercises (VP)
 \, [S1]
DTSTART;TZID=Europe/Ljubljana:20260219T100000
DTEND;TZID=Europe/Ljubljana:20260219T120000
DTSTAMP:20260425T142444Z
UID:fs-AFLABS-URNIK:srecanje:9506-2026-02-19 10:00:00+01:00
DESCRIPTION:Predmet: Refrigeration and heat pumps - MAG (HTTM)\, Lecture e
 xercises (VP)\, [S1]\nLetniki: Process engineering (MAG-1)\nIzvajalci: Kat
 ja Klinar\, Urban Tomc\nProstor: Lecture hall III/4
END:VEVENT
BEGIN:VEVENT
SUMMARY:Refrigeration and heat pumps - MAG (HTTM)\, Lecture exercises (VP)
 \, [S1]
DTSTART;TZID=Europe/Ljubljana:20260305T100000
DTEND;TZID=Europe/Ljubljana:20260305T120000
DTSTAMP:20260425T142444Z
UID:fs-AFLABS-URNIK:srecanje:9506-2026-03-05 10:00:00+01:00
DESCRIPTION:Predmet: Refrigeration and heat pumps - MAG (HTTM)\, Lecture e
 xercises (VP)\, [S1]\nLetniki: Process engineering (MAG-1)\nIzvajalci: Kat
 ja Klinar\, Urban Tomc\nProstor: Lecture hall III/4
END:VEVENT
BEGIN:VEVENT
SUMMARY:Refrigeration and heat pumps - MAG (HTTM)\, Lecture exercises (VP)
 \, [S2]
DTSTART;TZID=Europe/Ljubljana:20260219T120000
DTEND;TZID=Europe/Ljubljana:20260219T140000
DTSTAMP:20260425T142444Z
UID:fs-AFLABS-URNIK:srecanje:16401-2026-02-19 12:00:00+01:00
DESCRIPTION:Predmet: Refrigeration and heat pumps - MAG (HTTM)\, Lecture e
 xercises (VP)\, [S2]\nLetniki: Process engineering (MAG-1)\nIzvajalci: Kat
 ja Klinar\, Urban Tomc\nProstor: Lecture hall II/3A
END:VEVENT
BEGIN:VEVENT
SUMMARY:Refrigeration and heat pumps - MAG (HTTM)\, Lecture exercises (VP)
 \, [S2]
DTSTART;TZID=Europe/Ljubljana:20260305T120000
DTEND;TZID=Europe/Ljubljana:20260305T140000
DTSTAMP:20260425T142444Z
UID:fs-AFLABS-URNIK:srecanje:16401-2026-03-05 12:00:00+01:00
DESCRIPTION:Predmet: Refrigeration and heat pumps - MAG (HTTM)\, Lecture e
 xercises (VP)\, [S2]\nLetniki: Process engineering (MAG-1)\nIzvajalci: Kat
 ja Klinar\, Urban Tomc\nProstor: Lecture hall II/3A
END:VEVENT
BEGIN:VEVENT
SUMMARY:Refrigeration and Heat Pumps - MAG (RHPE)\, Lecture exercises (VP)
 \, [S1]
DTSTART;TZID=Europe/Ljubljana:20260220T140000
DTEND;TZID=Europe/Ljubljana:20260220T160000
DTSTAMP:20260425T142444Z
UID:fs-AFLABS-URNIK:srecanje:17667-2026-02-20 14:00:00+01:00
DESCRIPTION:Predmet: Refrigeration and Heat Pumps - MAG (RHPE)\, Lecture e
 xercises (VP)\, [S1]\nLetniki: Erasmus (Erasmus)\nIzvajalci: Katja Klinar\
 , Urban Tomc\nProstor: Lecture hall IV/3B
END:VEVENT
BEGIN:VEVENT
SUMMARY:Refrigeration and Heat Pumps - MAG (RHPE)\, Lecture exercises (VP)
 \, [S1]
DTSTART;TZID=Europe/Ljubljana:20260306T140000
DTEND;TZID=Europe/Ljubljana:20260306T160000
DTSTAMP:20260425T142444Z
UID:fs-AFLABS-URNIK:srecanje:17667-2026-03-06 14:00:00+01:00
DESCRIPTION:Predmet: Refrigeration and Heat Pumps - MAG (RHPE)\, Lecture e
 xercises (VP)\, [S1]\nLetniki: Erasmus (Erasmus)\nIzvajalci: Katja Klinar\
 , Urban Tomc\nProstor: Lecture hall IV/3B
END:VEVENT
BEGIN:VEVENT
SUMMARY:Refrigeration and heat pumps - MAG (HTTM)\, Laboratory excercises 
 (VL)\, [S1]
DTSTART;TZID=Europe/Ljubljana:20260224T100000
DTEND;TZID=Europe/Ljubljana:20260224T120000
DTSTAMP:20260425T142444Z
UID:fs-AFLABS-URNIK:srecanje:17175-2026-02-24 10:00:00+01:00
DESCRIPTION:Predmet: Refrigeration and heat pumps - MAG (HTTM)\, Laborator
 y excercises (VL)\, [S1]\nLetniki: Process engineering (MAG-1)\nIzvajalci:
  Katja Klinar\, Urban Tomc\nProstor: Laboratory LAHDE K-1A-II
END:VEVENT
BEGIN:VEVENT
SUMMARY:Refrigeration and heat pumps - MAG (HTTM)\, Laboratory excercises 
 (VL)\, [S2]
DTSTART;TZID=Europe/Ljubljana:20260224T120000
DTEND;TZID=Europe/Ljubljana:20260224T140000
DTSTAMP:20260425T142444Z
UID:fs-AFLABS-URNIK:srecanje:17177-2026-02-24 12:00:00+01:00
DESCRIPTION:Predmet: Refrigeration and heat pumps - MAG (HTTM)\, Laborator
 y excercises (VL)\, [S2]\nLetniki: Process engineering (MAG-1)\nIzvajalci:
  Katja Klinar\, Urban Tomc\nProstor: Laboratory LAHDE K-1A-II
END:VEVENT
BEGIN:VEVENT
SUMMARY:Refrigeration and heat pumps - MAG (HTTM)\, Laboratory excercises 
 (VL)\, [S3]
DTSTART;TZID=Europe/Ljubljana:20260224T140000
DTEND;TZID=Europe/Ljubljana:20260224T160000
DTSTAMP:20260425T142444Z
UID:fs-AFLABS-URNIK:srecanje:17179-2026-02-24 14:00:00+01:00
DESCRIPTION:Predmet: Refrigeration and heat pumps - MAG (HTTM)\, Laborator
 y excercises (VL)\, [S3]\nLetniki: Process engineering (MAG-1)\nIzvajalci:
  Katja Klinar\, Urban Tomc\nProstor: Laboratory LAHDE K-1A-II
END:VEVENT
BEGIN:VEVENT
SUMMARY:Refrigeration and heat pumps - MAG (HTTM)\, Laboratory excercises 
 (VL)\, [S4]
DTSTART;TZID=Europe/Ljubljana:20260226T080000
DTEND;TZID=Europe/Ljubljana:20260226T100000
DTSTAMP:20260425T142444Z
UID:fs-AFLABS-URNIK:srecanje:17180-2026-02-26 08:00:00+01:00
DESCRIPTION:Predmet: Refrigeration and heat pumps - MAG (HTTM)\, Laborator
 y excercises (VL)\, [S4]\nLetniki: Process engineering (MAG-1)\nIzvajalci:
  Katja Klinar\, Urban Tomc\nProstor: Laboratory LAHDE K-1A-II
END:VEVENT
BEGIN:VEVENT
SUMMARY:Refrigeration and heat pumps - MAG (HTTM)\, Laboratory excercises 
 (VL)\, [S5]
DTSTART;TZID=Europe/Ljubljana:20260226T100000
DTEND;TZID=Europe/Ljubljana:20260226T120000
DTSTAMP:20260425T142444Z
UID:fs-AFLABS-URNIK:srecanje:17181-2026-02-26 10:00:00+01:00
DESCRIPTION:Predmet: Refrigeration and heat pumps - MAG (HTTM)\, Laborator
 y excercises (VL)\, [S5]\nLetniki: Process engineering (MAG-1)\nIzvajalci:
  Katja Klinar\, Urban Tomc\nProstor: Laboratory LAHDE K-1A-II
END:VEVENT
BEGIN:VEVENT
SUMMARY:Refrigeration and heat pumps - MAG (HTTM)\, Laboratory excercises 
 (VL)\, [S6]
DTSTART;TZID=Europe/Ljubljana:20260226T120000
DTEND;TZID=Europe/Ljubljana:20260226T140000
DTSTAMP:20260425T142444Z
UID:fs-AFLABS-URNIK:srecanje:17182-2026-02-26 12:00:00+01:00
DESCRIPTION:Predmet: Refrigeration and heat pumps - MAG (HTTM)\, Laborator
 y excercises (VL)\, [S6]\nLetniki: Process engineering (MAG-1)\nIzvajalci:
  Katja Klinar\, Urban Tomc\nProstor: Laboratory LAHDE K-1A-II
END:VEVENT
BEGIN:VEVENT
SUMMARY:Refrigeration and heat pumps - MAG (HTTM)\, Laboratory excercises 
 (VL)\, [S7]
DTSTART;TZID=Europe/Ljubljana:20260226T140000
DTEND;TZID=Europe/Ljubljana:20260226T160000
DTSTAMP:20260425T142444Z
UID:fs-AFLABS-URNIK:srecanje:17183-2026-02-26 14:00:00+01:00
DESCRIPTION:Predmet: Refrigeration and heat pumps - MAG (HTTM)\, Laborator
 y excercises (VL)\, [S7]\nLetniki: Process engineering (MAG-1)\nIzvajalci:
  Katja Klinar\, Urban Tomc\nProstor: Laboratory LAHDE K-1A-II
END:VEVENT
BEGIN:VEVENT
SUMMARY:Refrigeration and Heat Pumps - MAG (RHPE)\, Laboratory excercises 
 (VL)\, [S1]
DTSTART;TZID=Europe/Ljubljana:20260227T140000
DTEND;TZID=Europe/Ljubljana:20260227T160000
DTSTAMP:20260425T142444Z
UID:fs-AFLABS-URNIK:srecanje:17668-2026-02-27 14:00:00+01:00
DESCRIPTION:Predmet: Refrigeration and Heat Pumps - MAG (RHPE)\, Laborator
 y excercises (VL)\, [S1]\nLetniki: Erasmus (Erasmus)\nIzvajalci: Katja Kli
 nar\, Urban Tomc\nProstor: Laboratoriy LAHDE K-1A-I
END:VEVENT
BEGIN:VEVENT
SUMMARY:sestanek LAHDE
DTSTART;TZID=Europe/Ljubljana:20260203T080000
DTEND;TZID=Europe/Ljubljana:20260203T090000
DTSTAMP:20260425T142444Z
UID:fs-AFLABS-URNIK:rezervacija:13595
CATEGORIES:Reservation
COLOR:royalblue
DESCRIPTION:Predmeti: \nLetniki: \nIzvajalci: Katja Klinar\nProstori: Conf
 erence room
LOCATION:Conference room
ORGANIZER:Katja Klinar
X-WR-TIMEZONE:Europe/Ljubljana
END:VEVENT
BEGIN:VEVENT
SUMMARY:Sestanek LAHDE
DTSTART;TZID=Europe/Ljubljana:20260217T080000
DTEND;TZID=Europe/Ljubljana:20260217T083000
DTSTAMP:20260425T142444Z
UID:fs-AFLABS-URNIK:rezervacija:13721
CATEGORIES:Reservation
COLOR:royalblue
DESCRIPTION:Predmeti: \nLetniki: \nIzvajalci: Matija Kalin\, Katja Klinar\
 nProstori: Conference room
LOCATION:Conference room
ORGANIZER:Matija Kalin, Katja Klinar
X-WR-TIMEZONE:Europe/Ljubljana
END:VEVENT
BEGIN:VEVENT
SUMMARY:sestanek Lahde
DTSTART;TZID=Europe/Ljubljana:20260217T083000
DTEND;TZID=Europe/Ljubljana:20260217T100000
DTSTAMP:20260425T142444Z
UID:fs-AFLABS-URNIK:rezervacija:13804
CATEGORIES:Reservation
COLOR:royalblue
DESCRIPTION:Predmeti: \nLetniki: \nIzvajalci: Katja Klinar\nProstori: Conf
 erence room
LOCATION:Conference room
ORGANIZER:Katja Klinar
X-WR-TIMEZONE:Europe/Ljubljana
END:VEVENT
END:VCALENDAR
