BEGIN:VCALENDAR
VERSION:2.0
PRODID:-//AFLabs urnik izvoz - fs//aflabs.si//SI
NAME:UL FS Urnik
X-WR-CALNAME:UL FS Urnik
DTSTAMP:20260425T180902Z
REFRESH-INTERVAL:PT1H
SOURCE:https://urnik.fs.uni-lj.si/en/teacher/734/?day=2026-01-12&export=1
URL:https://urnik.fs.uni-lj.si/en/teacher/734/?day=2026-01-12&export=1
X-PUBLISHED-TTL:PT1H
X-WR-TIMEZONE:Europe/Ljubljana
BEGIN:VTIMEZONE
TZID:Europe/Ljubljana
BEGIN:DAYLIGHT
DTSTART:20260329T020000
RDATE:20260329T020000
RDATE:20270328T020000
TZNAME:CEST
TZOFFSETFROM:+0100
TZOFFSETTO:+0200
END:DAYLIGHT
BEGIN:STANDARD
DTSTART:20261025T030000
RDATE:20261025T030000
RDATE:20271031T030000
TZNAME:CET
TZOFFSETFROM:+0200
TZOFFSETTO:+0100
END:STANDARD
END:VTIMEZONE
BEGIN:VEVENT
SUMMARY:High-end computing tools (NROR)\, Lectures (P)
DTSTART;TZID=Europe/Ljubljana:20250929T100000
DTEND;TZID=Europe/Ljubljana:20250929T120000
DTSTAMP:20260425T180902Z
UID:fs-AFLABS-URNIK:srecanje:4491-2025-09-29 10:00:00+02:00
DESCRIPTION:Predmet: High-end computing tools (NROR)\, Lectures (P)\nLetni
 ki: RRP-3 (RRP-3)\nIzvajalci: Leon Kos\, Janez Povh\nProstor: Lecture hall
  IV/4
END:VEVENT
BEGIN:VEVENT
SUMMARY:High-end computing tools (NROR)\, Lectures (P)
DTSTART;TZID=Europe/Ljubljana:20251006T100000
DTEND;TZID=Europe/Ljubljana:20251006T120000
DTSTAMP:20260425T180902Z
UID:fs-AFLABS-URNIK:srecanje:4491-2025-10-06 10:00:00+02:00
DESCRIPTION:Predmet: High-end computing tools (NROR)\, Lectures (P)\nLetni
 ki: RRP-3 (RRP-3)\nIzvajalci: Leon Kos\, Janez Povh\nProstor: Lecture hall
  IV/4
END:VEVENT
BEGIN:VEVENT
SUMMARY:High-end computing tools (NROR)\, Lectures (P)
DTSTART;TZID=Europe/Ljubljana:20251013T100000
DTEND;TZID=Europe/Ljubljana:20251013T120000
DTSTAMP:20260425T180902Z
UID:fs-AFLABS-URNIK:srecanje:4491-2025-10-13 10:00:00+02:00
DESCRIPTION:Predmet: High-end computing tools (NROR)\, Lectures (P)\nLetni
 ki: RRP-3 (RRP-3)\nIzvajalci: Leon Kos\, Janez Povh\nProstor: Lecture hall
  IV/4
END:VEVENT
BEGIN:VEVENT
SUMMARY:High-end computing tools (NROR)\, Lectures (P)
DTSTART;TZID=Europe/Ljubljana:20251020T100000
DTEND;TZID=Europe/Ljubljana:20251020T120000
DTSTAMP:20260425T180902Z
UID:fs-AFLABS-URNIK:srecanje:4491-2025-10-20 10:00:00+02:00
DESCRIPTION:Predmet: High-end computing tools (NROR)\, Lectures (P)\nLetni
 ki: RRP-3 (RRP-3)\nIzvajalci: Leon Kos\, Janez Povh\nProstor: Lecture hall
  IV/4
END:VEVENT
BEGIN:VEVENT
SUMMARY:High-end computing tools (NROR)\, Lectures (P)
DTSTART;TZID=Europe/Ljubljana:20251027T100000
DTEND;TZID=Europe/Ljubljana:20251027T120000
DTSTAMP:20260425T180902Z
UID:fs-AFLABS-URNIK:srecanje:4491-2025-10-27 10:00:00+01:00
DESCRIPTION:Predmet: High-end computing tools (NROR)\, Lectures (P)\nLetni
 ki: RRP-3 (RRP-3)\nIzvajalci: Leon Kos\, Janez Povh\nProstor: Lecture hall
  IV/4
END:VEVENT
BEGIN:VEVENT
SUMMARY:High-end computing tools (NROR)\, Lectures (P)
DTSTART;TZID=Europe/Ljubljana:20251103T100000
DTEND;TZID=Europe/Ljubljana:20251103T120000
DTSTAMP:20260425T180902Z
UID:fs-AFLABS-URNIK:srecanje:4491-2025-11-03 10:00:00+01:00
DESCRIPTION:Predmet: High-end computing tools (NROR)\, Lectures (P)\nLetni
 ki: RRP-3 (RRP-3)\nIzvajalci: Leon Kos\, Janez Povh\nProstor: Lecture hall
  IV/4
END:VEVENT
BEGIN:VEVENT
SUMMARY:High-end computing tools (NROR)\, Lectures (P)
DTSTART;TZID=Europe/Ljubljana:20251110T100000
DTEND;TZID=Europe/Ljubljana:20251110T120000
DTSTAMP:20260425T180902Z
UID:fs-AFLABS-URNIK:srecanje:4491-2025-11-10 10:00:00+01:00
DESCRIPTION:Predmet: High-end computing tools (NROR)\, Lectures (P)\nLetni
 ki: RRP-3 (RRP-3)\nIzvajalci: Leon Kos\, Janez Povh\nProstor: Lecture hall
  IV/4
END:VEVENT
BEGIN:VEVENT
SUMMARY:High-end computing tools (NROR)\, Lectures (P)
DTSTART;TZID=Europe/Ljubljana:20251117T100000
DTEND;TZID=Europe/Ljubljana:20251117T120000
DTSTAMP:20260425T180902Z
UID:fs-AFLABS-URNIK:srecanje:4491-2025-11-17 10:00:00+01:00
DESCRIPTION:Predmet: High-end computing tools (NROR)\, Lectures (P)\nLetni
 ki: RRP-3 (RRP-3)\nIzvajalci: Leon Kos\, Janez Povh\nProstor: Lecture hall
  IV/4
END:VEVENT
BEGIN:VEVENT
SUMMARY:High-end computing tools (NROR)\, Lectures (P)
DTSTART;TZID=Europe/Ljubljana:20251124T100000
DTEND;TZID=Europe/Ljubljana:20251124T120000
DTSTAMP:20260425T180902Z
UID:fs-AFLABS-URNIK:srecanje:4491-2025-11-24 10:00:00+01:00
DESCRIPTION:Predmet: High-end computing tools (NROR)\, Lectures (P)\nLetni
 ki: RRP-3 (RRP-3)\nIzvajalci: Leon Kos\, Janez Povh\nProstor: Lecture hall
  IV/4
END:VEVENT
BEGIN:VEVENT
SUMMARY:High-end computing tools (NROR)\, Lectures (P)
DTSTART;TZID=Europe/Ljubljana:20251201T100000
DTEND;TZID=Europe/Ljubljana:20251201T120000
DTSTAMP:20260425T180902Z
UID:fs-AFLABS-URNIK:srecanje:4491-2025-12-01 10:00:00+01:00
DESCRIPTION:Predmet: High-end computing tools (NROR)\, Lectures (P)\nLetni
 ki: RRP-3 (RRP-3)\nIzvajalci: Leon Kos\, Janez Povh\nProstor: Lecture hall
  IV/4
END:VEVENT
BEGIN:VEVENT
SUMMARY:High-end computing tools (NROR)\, Lectures (P)
DTSTART;TZID=Europe/Ljubljana:20251208T100000
DTEND;TZID=Europe/Ljubljana:20251208T120000
DTSTAMP:20260425T180902Z
UID:fs-AFLABS-URNIK:srecanje:4491-2025-12-08 10:00:00+01:00
DESCRIPTION:Predmet: High-end computing tools (NROR)\, Lectures (P)\nLetni
 ki: RRP-3 (RRP-3)\nIzvajalci: Leon Kos\, Janez Povh\nProstor: Lecture hall
  IV/4
END:VEVENT
BEGIN:VEVENT
SUMMARY:High-end computing tools (NROR)\, Lectures (P)
DTSTART;TZID=Europe/Ljubljana:20251215T100000
DTEND;TZID=Europe/Ljubljana:20251215T120000
DTSTAMP:20260425T180902Z
UID:fs-AFLABS-URNIK:srecanje:4491-2025-12-15 10:00:00+01:00
DESCRIPTION:Predmet: High-end computing tools (NROR)\, Lectures (P)\nLetni
 ki: RRP-3 (RRP-3)\nIzvajalci: Leon Kos\, Janez Povh\nProstor: Lecture hall
  IV/4
END:VEVENT
BEGIN:VEVENT
SUMMARY:High-end computing tools (NROR)\, Lectures (P)
DTSTART;TZID=Europe/Ljubljana:20251222T100000
DTEND;TZID=Europe/Ljubljana:20251222T120000
DTSTAMP:20260425T180902Z
UID:fs-AFLABS-URNIK:srecanje:4491-2025-12-22 10:00:00+01:00
DESCRIPTION:Predmet: High-end computing tools (NROR)\, Lectures (P)\nLetni
 ki: RRP-3 (RRP-3)\nIzvajalci: Leon Kos\, Janez Povh\nProstor: Lecture hall
  IV/4
END:VEVENT
BEGIN:VEVENT
SUMMARY:High-end computing tools (NROR)\, Lectures (P)
DTSTART;TZID=Europe/Ljubljana:20260105T100000
DTEND;TZID=Europe/Ljubljana:20260105T120000
DTSTAMP:20260425T180902Z
UID:fs-AFLABS-URNIK:srecanje:4491-2026-01-05 10:00:00+01:00
DESCRIPTION:Predmet: High-end computing tools (NROR)\, Lectures (P)\nLetni
 ki: RRP-3 (RRP-3)\nIzvajalci: Leon Kos\, Janez Povh\nProstor: Lecture hall
  IV/4
END:VEVENT
BEGIN:VEVENT
SUMMARY:High-end computing tools (NROR)\, Lectures (P)
DTSTART;TZID=Europe/Ljubljana:20260112T100000
DTEND;TZID=Europe/Ljubljana:20260112T120000
DTSTAMP:20260425T180902Z
UID:fs-AFLABS-URNIK:srecanje:4491-2026-01-12 10:00:00+01:00
DESCRIPTION:Predmet: High-end computing tools (NROR)\, Lectures (P)\nLetni
 ki: RRP-3 (RRP-3)\nIzvajalci: Leon Kos\, Janez Povh\nProstor: Lecture hall
  IV/4
END:VEVENT
BEGIN:VEVENT
SUMMARY:Engineering design techniques (KNTM)\, Lectures (P)
DTSTART;TZID=Europe/Ljubljana:20250930T140000
DTEND;TZID=Europe/Ljubljana:20250930T160000
DTSTAMP:20260425T180902Z
UID:fs-AFLABS-URNIK:srecanje:7927-2025-09-30 14:00:00+02:00
DESCRIPTION:Predmet: Engineering design techniques (KNTM)\, Lectures (P)\n
 Letniki: Engineering design (MAG-1)\nIzvajalci: Ivan Demšar\, Leon Kos\, 
 Nikola Vukašinović\nProstor: Lecture hall III/2
END:VEVENT
BEGIN:VEVENT
SUMMARY:Engineering design techniques (KNTM)\, Lectures (P)
DTSTART;TZID=Europe/Ljubljana:20251007T140000
DTEND;TZID=Europe/Ljubljana:20251007T160000
DTSTAMP:20260425T180902Z
UID:fs-AFLABS-URNIK:srecanje:7927-2025-10-07 14:00:00+02:00
DESCRIPTION:Predmet: Engineering design techniques (KNTM)\, Lectures (P)\n
 Letniki: Engineering design (MAG-1)\nIzvajalci: Ivan Demšar\, Leon Kos\, 
 Nikola Vukašinović\nProstor: Lecture hall III/2
END:VEVENT
BEGIN:VEVENT
SUMMARY:Engineering design techniques (KNTM)\, Lectures (P)
DTSTART;TZID=Europe/Ljubljana:20251014T140000
DTEND;TZID=Europe/Ljubljana:20251014T160000
DTSTAMP:20260425T180902Z
UID:fs-AFLABS-URNIK:srecanje:7927-2025-10-14 14:00:00+02:00
DESCRIPTION:Predmet: Engineering design techniques (KNTM)\, Lectures (P)\n
 Letniki: Engineering design (MAG-1)\nIzvajalci: Ivan Demšar\, Leon Kos\, 
 Nikola Vukašinović\nProstor: Lecture hall III/2
END:VEVENT
BEGIN:VEVENT
SUMMARY:Engineering design techniques (KNTM)\, Lectures (P)
DTSTART;TZID=Europe/Ljubljana:20251021T140000
DTEND;TZID=Europe/Ljubljana:20251021T160000
DTSTAMP:20260425T180902Z
UID:fs-AFLABS-URNIK:srecanje:7927-2025-10-21 14:00:00+02:00
DESCRIPTION:Predmet: Engineering design techniques (KNTM)\, Lectures (P)\n
 Letniki: Engineering design (MAG-1)\nIzvajalci: Ivan Demšar\, Leon Kos\, 
 Nikola Vukašinović\nProstor: Lecture hall III/2
END:VEVENT
BEGIN:VEVENT
SUMMARY:Engineering design techniques (KNTM)\, Lectures (P)
DTSTART;TZID=Europe/Ljubljana:20251028T140000
DTEND;TZID=Europe/Ljubljana:20251028T160000
DTSTAMP:20260425T180902Z
UID:fs-AFLABS-URNIK:srecanje:7927-2025-10-28 14:00:00+01:00
DESCRIPTION:Predmet: Engineering design techniques (KNTM)\, Lectures (P)\n
 Letniki: Engineering design (MAG-1)\nIzvajalci: Ivan Demšar\, Leon Kos\, 
 Nikola Vukašinović\nProstor: Lecture hall III/2
END:VEVENT
BEGIN:VEVENT
SUMMARY:Engineering design techniques (KNTM)\, Lectures (P)
DTSTART;TZID=Europe/Ljubljana:20251104T140000
DTEND;TZID=Europe/Ljubljana:20251104T160000
DTSTAMP:20260425T180902Z
UID:fs-AFLABS-URNIK:srecanje:7927-2025-11-04 14:00:00+01:00
DESCRIPTION:Predmet: Engineering design techniques (KNTM)\, Lectures (P)\n
 Letniki: Engineering design (MAG-1)\nIzvajalci: Ivan Demšar\, Leon Kos\, 
 Nikola Vukašinović\nProstor: Lecture hall III/2
END:VEVENT
BEGIN:VEVENT
SUMMARY:Engineering design techniques (KNTM)\, Lectures (P)
DTSTART;TZID=Europe/Ljubljana:20251111T140000
DTEND;TZID=Europe/Ljubljana:20251111T160000
DTSTAMP:20260425T180902Z
UID:fs-AFLABS-URNIK:srecanje:7927-2025-11-11 14:00:00+01:00
DESCRIPTION:Predmet: Engineering design techniques (KNTM)\, Lectures (P)\n
 Letniki: Engineering design (MAG-1)\nIzvajalci: Ivan Demšar\, Leon Kos\, 
 Nikola Vukašinović\nProstor: Lecture hall III/2
END:VEVENT
BEGIN:VEVENT
SUMMARY:Engineering design techniques (KNTM)\, Lectures (P)
DTSTART;TZID=Europe/Ljubljana:20251118T140000
DTEND;TZID=Europe/Ljubljana:20251118T160000
DTSTAMP:20260425T180902Z
UID:fs-AFLABS-URNIK:srecanje:7927-2025-11-18 14:00:00+01:00
DESCRIPTION:Predmet: Engineering design techniques (KNTM)\, Lectures (P)\n
 Letniki: Engineering design (MAG-1)\nIzvajalci: Ivan Demšar\, Leon Kos\, 
 Nikola Vukašinović\nProstor: Lecture hall III/2
END:VEVENT
BEGIN:VEVENT
SUMMARY:Engineering design techniques (KNTM)\, Lectures (P)
DTSTART;TZID=Europe/Ljubljana:20251125T140000
DTEND;TZID=Europe/Ljubljana:20251125T160000
DTSTAMP:20260425T180902Z
UID:fs-AFLABS-URNIK:srecanje:7927-2025-11-25 14:00:00+01:00
DESCRIPTION:Predmet: Engineering design techniques (KNTM)\, Lectures (P)\n
 Letniki: Engineering design (MAG-1)\nIzvajalci: Ivan Demšar\, Leon Kos\, 
 Nikola Vukašinović\nProstor: Lecture hall III/2
END:VEVENT
BEGIN:VEVENT
SUMMARY:Engineering design techniques (KNTM)\, Lectures (P)
DTSTART;TZID=Europe/Ljubljana:20251202T140000
DTEND;TZID=Europe/Ljubljana:20251202T160000
DTSTAMP:20260425T180902Z
UID:fs-AFLABS-URNIK:srecanje:7927-2025-12-02 14:00:00+01:00
DESCRIPTION:Predmet: Engineering design techniques (KNTM)\, Lectures (P)\n
 Letniki: Engineering design (MAG-1)\nIzvajalci: Ivan Demšar\, Leon Kos\, 
 Nikola Vukašinović\nProstor: Lecture hall III/2
END:VEVENT
BEGIN:VEVENT
SUMMARY:Engineering design techniques (KNTM)\, Lectures (P)
DTSTART;TZID=Europe/Ljubljana:20251209T140000
DTEND;TZID=Europe/Ljubljana:20251209T160000
DTSTAMP:20260425T180902Z
UID:fs-AFLABS-URNIK:srecanje:7927-2025-12-09 14:00:00+01:00
DESCRIPTION:Predmet: Engineering design techniques (KNTM)\, Lectures (P)\n
 Letniki: Engineering design (MAG-1)\nIzvajalci: Ivan Demšar\, Leon Kos\, 
 Nikola Vukašinović\nProstor: Lecture hall III/2
END:VEVENT
BEGIN:VEVENT
SUMMARY:Engineering design techniques (KNTM)\, Lectures (P)
DTSTART;TZID=Europe/Ljubljana:20251216T140000
DTEND;TZID=Europe/Ljubljana:20251216T160000
DTSTAMP:20260425T180902Z
UID:fs-AFLABS-URNIK:srecanje:7927-2025-12-16 14:00:00+01:00
DESCRIPTION:Predmet: Engineering design techniques (KNTM)\, Lectures (P)\n
 Letniki: Engineering design (MAG-1)\nIzvajalci: Ivan Demšar\, Leon Kos\, 
 Nikola Vukašinović\nProstor: Lecture hall III/2
END:VEVENT
BEGIN:VEVENT
SUMMARY:Engineering design techniques (KNTM)\, Lectures (P)
DTSTART;TZID=Europe/Ljubljana:20251223T140000
DTEND;TZID=Europe/Ljubljana:20251223T160000
DTSTAMP:20260425T180902Z
UID:fs-AFLABS-URNIK:srecanje:7927-2025-12-23 14:00:00+01:00
DESCRIPTION:Predmet: Engineering design techniques (KNTM)\, Lectures (P)\n
 Letniki: Engineering design (MAG-1)\nIzvajalci: Ivan Demšar\, Leon Kos\, 
 Nikola Vukašinović\nProstor: Lecture hall III/2
END:VEVENT
BEGIN:VEVENT
SUMMARY:Engineering design techniques (KNTM)\, Lectures (P)
DTSTART;TZID=Europe/Ljubljana:20260106T140000
DTEND;TZID=Europe/Ljubljana:20260106T160000
DTSTAMP:20260425T180902Z
UID:fs-AFLABS-URNIK:srecanje:7927-2026-01-06 14:00:00+01:00
DESCRIPTION:Predmet: Engineering design techniques (KNTM)\, Lectures (P)\n
 Letniki: Engineering design (MAG-1)\nIzvajalci: Ivan Demšar\, Leon Kos\, 
 Nikola Vukašinović\nProstor: Lecture hall III/2
END:VEVENT
BEGIN:VEVENT
SUMMARY:Engineering design techniques (KNTM)\, Lectures (P)
DTSTART;TZID=Europe/Ljubljana:20260113T140000
DTEND;TZID=Europe/Ljubljana:20260113T160000
DTSTAMP:20260425T180902Z
UID:fs-AFLABS-URNIK:srecanje:7927-2026-01-13 14:00:00+01:00
DESCRIPTION:Predmet: Engineering design techniques (KNTM)\, Lectures (P)\n
 Letniki: Engineering design (MAG-1)\nIzvajalci: Ivan Demšar\, Leon Kos\, 
 Nikola Vukašinović\nProstor: Lecture hall III/2
END:VEVENT
BEGIN:VEVENT
SUMMARY:Engineering Design Techniques (EDTE)\, Lectures (P)
DTSTART;TZID=Europe/Ljubljana:20260119T100000
DTEND;TZID=Europe/Ljubljana:20260119T120000
DTSTAMP:20260425T180902Z
UID:fs-AFLABS-URNIK:premaknjeno-srecanje:128092
ATTENDEE:Erasmus (Erasmus)
CATEGORIES:Entry,Special
COLOR:forestgreen
DESCRIPTION:Predmet: Engineering Design Techniques (EDTE)\, Lectures (P)\n
 Letniki: Erasmus (Erasmus)\nIzvajalci: Ivan Demšar\, Leon Kos\, Nikola Vu
 kašinović\nProstor: Lecture hall I/4A
LOCATION:Lecture hall I/4A
ORGANIZER:Ivan Demšar, Leon Kos, Nikola Vukašinović
RELATED-TO:fs-AFLABS-URNIK:srecanje:17578
X-WR-TIMEZONE:Europe/Ljubljana
END:VEVENT
BEGIN:VEVENT
SUMMARY:Engineering Design Techniques (EDTE)\, Lectures (P)
DTSTART;TZID=Europe/Ljubljana:20251003T100000
DTEND;TZID=Europe/Ljubljana:20251003T120000
DTSTAMP:20260425T180902Z
UID:fs-AFLABS-URNIK:srecanje:17578-2025-10-03 10:00:00+02:00
DESCRIPTION:Predmet: Engineering Design Techniques (EDTE)\, Lectures (P)\n
 Letniki: Erasmus (Erasmus)\nIzvajalci: Ivan Demšar\, Leon Kos\, Nikola Vu
 kašinović\nProstor: Lecture hall I/4A
END:VEVENT
BEGIN:VEVENT
SUMMARY:Engineering Design Techniques (EDTE)\, Lectures (P)
DTSTART;TZID=Europe/Ljubljana:20251010T100000
DTEND;TZID=Europe/Ljubljana:20251010T120000
DTSTAMP:20260425T180902Z
UID:fs-AFLABS-URNIK:srecanje:17578-2025-10-10 10:00:00+02:00
DESCRIPTION:Predmet: Engineering Design Techniques (EDTE)\, Lectures (P)\n
 Letniki: Erasmus (Erasmus)\nIzvajalci: Ivan Demšar\, Leon Kos\, Nikola Vu
 kašinović\nProstor: Lecture hall I/4A
END:VEVENT
BEGIN:VEVENT
SUMMARY:Engineering Design Techniques (EDTE)\, Lectures (P)
DTSTART;TZID=Europe/Ljubljana:20251017T100000
DTEND;TZID=Europe/Ljubljana:20251017T120000
DTSTAMP:20260425T180902Z
UID:fs-AFLABS-URNIK:srecanje:17578-2025-10-17 10:00:00+02:00
DESCRIPTION:Predmet: Engineering Design Techniques (EDTE)\, Lectures (P)\n
 Letniki: Erasmus (Erasmus)\nIzvajalci: Ivan Demšar\, Leon Kos\, Nikola Vu
 kašinović\nProstor: Lecture hall I/4A
END:VEVENT
BEGIN:VEVENT
SUMMARY:Engineering Design Techniques (EDTE)\, Lectures (P)
DTSTART;TZID=Europe/Ljubljana:20251024T100000
DTEND;TZID=Europe/Ljubljana:20251024T120000
DTSTAMP:20260425T180902Z
UID:fs-AFLABS-URNIK:srecanje:17578-2025-10-24 10:00:00+02:00
DESCRIPTION:Predmet: Engineering Design Techniques (EDTE)\, Lectures (P)\n
 Letniki: Erasmus (Erasmus)\nIzvajalci: Ivan Demšar\, Leon Kos\, Nikola Vu
 kašinović\nProstor: Lecture hall I/4A
END:VEVENT
BEGIN:VEVENT
SUMMARY:Engineering Design Techniques (EDTE)\, Lectures (P)
DTSTART;TZID=Europe/Ljubljana:20251107T100000
DTEND;TZID=Europe/Ljubljana:20251107T120000
DTSTAMP:20260425T180902Z
UID:fs-AFLABS-URNIK:srecanje:17578-2025-11-07 10:00:00+01:00
DESCRIPTION:Predmet: Engineering Design Techniques (EDTE)\, Lectures (P)\n
 Letniki: Erasmus (Erasmus)\nIzvajalci: Ivan Demšar\, Leon Kos\, Nikola Vu
 kašinović\nProstor: Lecture hall I/4A
END:VEVENT
BEGIN:VEVENT
SUMMARY:Engineering Design Techniques (EDTE)\, Lectures (P)
DTSTART;TZID=Europe/Ljubljana:20251114T100000
DTEND;TZID=Europe/Ljubljana:20251114T120000
DTSTAMP:20260425T180902Z
UID:fs-AFLABS-URNIK:srecanje:17578-2025-11-14 10:00:00+01:00
DESCRIPTION:Predmet: Engineering Design Techniques (EDTE)\, Lectures (P)\n
 Letniki: Erasmus (Erasmus)\nIzvajalci: Ivan Demšar\, Leon Kos\, Nikola Vu
 kašinović\nProstor: Lecture hall I/4A
END:VEVENT
BEGIN:VEVENT
SUMMARY:Engineering Design Techniques (EDTE)\, Lectures (P)
DTSTART;TZID=Europe/Ljubljana:20251121T100000
DTEND;TZID=Europe/Ljubljana:20251121T120000
DTSTAMP:20260425T180902Z
UID:fs-AFLABS-URNIK:srecanje:17578-2025-11-21 10:00:00+01:00
DESCRIPTION:Predmet: Engineering Design Techniques (EDTE)\, Lectures (P)\n
 Letniki: Erasmus (Erasmus)\nIzvajalci: Ivan Demšar\, Leon Kos\, Nikola Vu
 kašinović\nProstor: Lecture hall I/4A
END:VEVENT
BEGIN:VEVENT
SUMMARY:Engineering Design Techniques (EDTE)\, Lectures (P)
DTSTART;TZID=Europe/Ljubljana:20251128T100000
DTEND;TZID=Europe/Ljubljana:20251128T120000
DTSTAMP:20260425T180902Z
UID:fs-AFLABS-URNIK:srecanje:17578-2025-11-28 10:00:00+01:00
DESCRIPTION:Predmet: Engineering Design Techniques (EDTE)\, Lectures (P)\n
 Letniki: Erasmus (Erasmus)\nIzvajalci: Ivan Demšar\, Leon Kos\, Nikola Vu
 kašinović\nProstor: Lecture hall I/4A
END:VEVENT
BEGIN:VEVENT
SUMMARY:Engineering Design Techniques (EDTE)\, Lectures (P)
DTSTART;TZID=Europe/Ljubljana:20251205T100000
DTEND;TZID=Europe/Ljubljana:20251205T120000
DTSTAMP:20260425T180902Z
UID:fs-AFLABS-URNIK:srecanje:17578-2025-12-05 10:00:00+01:00
DESCRIPTION:Predmet: Engineering Design Techniques (EDTE)\, Lectures (P)\n
 Letniki: Erasmus (Erasmus)\nIzvajalci: Ivan Demšar\, Leon Kos\, Nikola Vu
 kašinović\nProstor: Lecture hall I/4A
END:VEVENT
BEGIN:VEVENT
SUMMARY:Engineering Design Techniques (EDTE)\, Lectures (P)
DTSTART;TZID=Europe/Ljubljana:20251212T100000
DTEND;TZID=Europe/Ljubljana:20251212T120000
DTSTAMP:20260425T180902Z
UID:fs-AFLABS-URNIK:srecanje:17578-2025-12-12 10:00:00+01:00
DESCRIPTION:Predmet: Engineering Design Techniques (EDTE)\, Lectures (P)\n
 Letniki: Erasmus (Erasmus)\nIzvajalci: Ivan Demšar\, Leon Kos\, Nikola Vu
 kašinović\nProstor: Lecture hall I/4A
END:VEVENT
BEGIN:VEVENT
SUMMARY:Engineering Design Techniques (EDTE)\, Lectures (P)
DTSTART;TZID=Europe/Ljubljana:20251219T100000
DTEND;TZID=Europe/Ljubljana:20251219T120000
DTSTAMP:20260425T180902Z
UID:fs-AFLABS-URNIK:srecanje:17578-2025-12-19 10:00:00+01:00
DESCRIPTION:Predmet: Engineering Design Techniques (EDTE)\, Lectures (P)\n
 Letniki: Erasmus (Erasmus)\nIzvajalci: Ivan Demšar\, Leon Kos\, Nikola Vu
 kašinović\nProstor: Lecture hall I/4A
END:VEVENT
BEGIN:VEVENT
SUMMARY:Engineering Design Techniques (EDTE)\, Lectures (P)
DTSTART;TZID=Europe/Ljubljana:20251226T100000
DTEND;TZID=Europe/Ljubljana:20251226T120000
DTSTAMP:20260425T180902Z
UID:fs-AFLABS-URNIK:srecanje:17578-2025-12-26 10:00:00+01:00
DESCRIPTION:Predmet: Engineering Design Techniques (EDTE)\, Lectures (P)\n
 Letniki: Erasmus (Erasmus)\nIzvajalci: Ivan Demšar\, Leon Kos\, Nikola Vu
 kašinović\nProstor: Lecture hall I/4A
END:VEVENT
BEGIN:VEVENT
SUMMARY:Engineering Design Techniques (EDTE)\, Lectures (P)
DTSTART;TZID=Europe/Ljubljana:20260109T100000
DTEND;TZID=Europe/Ljubljana:20260109T120000
DTSTAMP:20260425T180902Z
UID:fs-AFLABS-URNIK:srecanje:17578-2026-01-09 10:00:00+01:00
DESCRIPTION:Predmet: Engineering Design Techniques (EDTE)\, Lectures (P)\n
 Letniki: Erasmus (Erasmus)\nIzvajalci: Ivan Demšar\, Leon Kos\, Nikola Vu
 kašinović\nProstor: Lecture hall I/4A
END:VEVENT
BEGIN:VEVENT
SUMMARY:Engineering Design Techniques (EDTE)\, Lectures (P)
DTSTART;TZID=Europe/Ljubljana:20260116T100000
DTEND;TZID=Europe/Ljubljana:20260116T120000
DTSTAMP:20260425T180902Z
UID:fs-AFLABS-URNIK:srecanje:17578-2026-01-16 10:00:00+01:00
DESCRIPTION:Predmet: Engineering Design Techniques (EDTE)\, Lectures (P)\n
 Letniki: Erasmus (Erasmus)\nIzvajalci: Ivan Demšar\, Leon Kos\, Nikola Vu
 kašinović\nProstor: Lecture hall I/4A
END:VEVENT
BEGIN:VEVENT
SUMMARY:Izpit: Napredna računalniška orodja
DTSTART;TZID=Europe/Ljubljana:20260128T080000
DTEND;TZID=Europe/Ljubljana:20260128T100000
DTSTAMP:20260425T180902Z
UID:fs-AFLABS-URNIK:rezervacija:12363
ATTENDEE:RRP-3 (RRP-3)
CATEGORIES:Reservation
COLOR:royalblue
DESCRIPTION:Predmeti: High-end computing tools (NROR)\nLetniki: RRP-3 (RRP
 -3)\nIzvajalci: Leon Kos\nProstori: Lecture hall V/8
LOCATION:Lecture hall V/8
ORGANIZER:Leon Kos
X-WR-TIMEZONE:Europe/Ljubljana
END:VEVENT
BEGIN:VEVENT
SUMMARY:Izpit: Konstrukcijske tehnike
DTSTART;TZID=Europe/Ljubljana:20260128T180000
DTEND;TZID=Europe/Ljubljana:20260128T200000
DTSTAMP:20260425T180902Z
UID:fs-AFLABS-URNIK:rezervacija:12356
ATTENDEE:Engineering design (MAG-1)
CATEGORIES:Reservation
COLOR:royalblue
DESCRIPTION:Predmeti: Engineering design techniques (KNTM)\nLetniki: Engin
 eering design (MAG-1)\nIzvajalci: Leon Kos\nProstori: Lecture hall IV/4
LOCATION:Lecture hall IV/4
ORGANIZER:Leon Kos
X-WR-TIMEZONE:Europe/Ljubljana
END:VEVENT
BEGIN:VEVENT
SUMMARY:Izpit: Konstrukcijske tehnike
DTSTART;TZID=Europe/Ljubljana:20260211T170000
DTEND;TZID=Europe/Ljubljana:20260211T190000
DTSTAMP:20260425T180902Z
UID:fs-AFLABS-URNIK:rezervacija:11554
ATTENDEE:Engineering design (MAG-1)
CATEGORIES:Reservation
COLOR:royalblue
DESCRIPTION:Predmeti: Engineering design techniques (KNTM)\nLetniki: Engin
 eering design (MAG-1)\nIzvajalci: Leon Kos\nProstori: Lecture hall III/4
LOCATION:Lecture hall III/4
ORGANIZER:Leon Kos
X-WR-TIMEZONE:Europe/Ljubljana
END:VEVENT
BEGIN:VEVENT
SUMMARY:Izpit: Konstrukcijske tehnike
DTSTART;TZID=Europe/Ljubljana:20260211T170000
DTEND;TZID=Europe/Ljubljana:20260211T190000
DTSTAMP:20260425T180902Z
UID:fs-AFLABS-URNIK:rezervacija:11555
ATTENDEE:Engineering design (MAG-1)
CATEGORIES:Reservation
COLOR:royalblue
DESCRIPTION:Predmeti: Engineering design techniques (KNTM)\nLetniki: Engin
 eering design (MAG-1)\nIzvajalci: Leon Kos\nProstori: Lecture hall III/4
LOCATION:Lecture hall III/4
ORGANIZER:Leon Kos
X-WR-TIMEZONE:Europe/Ljubljana
END:VEVENT
BEGIN:VEVENT
SUMMARY:Kolokvij KNTM\, EDTE
DTSTART;TZID=Europe/Ljubljana:20251125T180000
DTEND;TZID=Europe/Ljubljana:20251125T193000
DTSTAMP:20260425T180902Z
UID:fs-AFLABS-URNIK:rezervacija:11272
ATTENDEE:Engineering design (MAG-1)
ATTENDEE:Erasmus (Erasmus)
CATEGORIES:Reservation
COLOR:royalblue
DESCRIPTION:Predmeti: Engineering design techniques (KNTM)\, Engineering D
 esign Techniques (EDTE)\nLetniki: Erasmus (Erasmus)\, Engineering design (
 MAG-1)\nIzvajalci: Ivan Demšar\, Leon Kos\, Nikola Vukašinović\nProstor
 i: Lecture hall III/2\, Lecture hall III/4
LOCATION:Lecture hall III/2\, Lecture hall III/4
ORGANIZER:Ivan Demšar, Leon Kos, Nikola Vukašinović
X-WR-TIMEZONE:Europe/Ljubljana
END:VEVENT
BEGIN:VEVENT
SUMMARY:Izpit: Engineering Design Techniques
DTSTART;TZID=Europe/Ljubljana:20260128T180000
DTEND;TZID=Europe/Ljubljana:20260128T200000
DTSTAMP:20260425T180902Z
UID:fs-AFLABS-URNIK:rezervacija:12354
ATTENDEE:Erasmus (Erasmus)
CATEGORIES:Reservation
COLOR:royalblue
DESCRIPTION:Predmeti: Engineering Design Techniques (EDTE)\nLetniki: Erasm
 us (Erasmus)\nIzvajalci: Leon Kos\nProstori: Lecture hall IV/4
LOCATION:Lecture hall IV/4
ORGANIZER:Leon Kos
X-WR-TIMEZONE:Europe/Ljubljana
END:VEVENT
BEGIN:VEVENT
SUMMARY:Izpit: Konstrukcijske tehnike
DTSTART;TZID=Europe/Ljubljana:20260128T180000
DTEND;TZID=Europe/Ljubljana:20260128T200000
DTSTAMP:20260425T180902Z
UID:fs-AFLABS-URNIK:rezervacija:12357
ATTENDEE:Engineering design (MAG-1)
CATEGORIES:Reservation
COLOR:royalblue
DESCRIPTION:Predmeti: Engineering design techniques (KNTM)\nLetniki: Engin
 eering design (MAG-1)\nIzvajalci: Leon Kos\nProstori: Lecture hall IV/4
LOCATION:Lecture hall IV/4
ORGANIZER:Leon Kos
X-WR-TIMEZONE:Europe/Ljubljana
END:VEVENT
BEGIN:VEVENT
SUMMARY:Kolokvij KNTM\, EDTE
DTSTART;TZID=Europe/Ljubljana:20260106T180000
DTEND;TZID=Europe/Ljubljana:20260106T193000
DTSTAMP:20260425T180902Z
UID:fs-AFLABS-URNIK:rezervacija:11273
ATTENDEE:Engineering design (MAG-1)
ATTENDEE:Erasmus (Erasmus)
CATEGORIES:Reservation
COLOR:royalblue
DESCRIPTION:Predmeti: Engineering design techniques (KNTM)\, Engineering D
 esign Techniques (EDTE)\nLetniki: Erasmus (Erasmus)\, Engineering design (
 MAG-1)\nIzvajalci: Ivan Demšar\, Leon Kos\, Nikola Vukašinović\nProstor
 i: Lecture hall III/2\, Lecture hall III/4
LOCATION:Lecture hall III/2\, Lecture hall III/4
ORGANIZER:Ivan Demšar, Leon Kos, Nikola Vukašinović
X-WR-TIMEZONE:Europe/Ljubljana
END:VEVENT
BEGIN:VEVENT
SUMMARY:Izpit: Engineering Design Techniques
DTSTART;TZID=Europe/Ljubljana:20260211T170000
DTEND;TZID=Europe/Ljubljana:20260211T190000
DTSTAMP:20260425T180902Z
UID:fs-AFLABS-URNIK:rezervacija:11553
ATTENDEE:Erasmus (Erasmus)
CATEGORIES:Reservation
COLOR:royalblue
DESCRIPTION:Predmeti: Engineering Design Techniques (EDTE)\nLetniki: Erasm
 us (Erasmus)\nIzvajalci: Leon Kos\nProstori: Lecture hall III/4
LOCATION:Lecture hall III/4
ORGANIZER:Leon Kos
X-WR-TIMEZONE:Europe/Ljubljana
END:VEVENT
BEGIN:VEVENT
SUMMARY:Izpit: Konstrukcijske tehnike
DTSTART;TZID=Europe/Ljubljana:20260128T180000
DTEND;TZID=Europe/Ljubljana:20260128T200000
DTSTAMP:20260425T180902Z
UID:fs-AFLABS-URNIK:rezervacija:12355
CATEGORIES:Reservation
COLOR:royalblue
DESCRIPTION:Predmeti: \nLetniki: \nIzvajalci: Leon Kos\nProstori: Lecture 
 hall IV/4
LOCATION:Lecture hall IV/4
ORGANIZER:Leon Kos
X-WR-TIMEZONE:Europe/Ljubljana
END:VEVENT
BEGIN:VEVENT
SUMMARY:Izpit: Napredna računalniška orodja
DTSTART;TZID=Europe/Ljubljana:20260211T100000
DTEND;TZID=Europe/Ljubljana:20260211T120000
DTSTAMP:20260425T180902Z
UID:fs-AFLABS-URNIK:rezervacija:11568
ATTENDEE:RRP-3 (RRP-3)
CATEGORIES:Reservation
COLOR:royalblue
DESCRIPTION:Predmeti: High-end computing tools (NROR)\nLetniki: RRP-3 (RRP
 -3)\nIzvajalci: Leon Kos\nProstori: Lecture hall IV/4
LOCATION:Lecture hall IV/4
ORGANIZER:Leon Kos
X-WR-TIMEZONE:Europe/Ljubljana
END:VEVENT
END:VCALENDAR
