BEGIN:VCALENDAR
VERSION:2.0
PRODID:-//AFLabs urnik izvoz - fs//aflabs.si//SI
NAME:UL FS Urnik
X-WR-CALNAME:UL FS Urnik
DTSTAMP:20260424T212420Z
REFRESH-INTERVAL:PT1H
SOURCE:https://urnik.fs.uni-lj.si/en/teacher/738/?day=2026-01-05&export=1
URL:https://urnik.fs.uni-lj.si/en/teacher/738/?day=2026-01-05&export=1
X-PUBLISHED-TTL:PT1H
X-WR-TIMEZONE:Europe/Ljubljana
BEGIN:VTIMEZONE
TZID:Europe/Ljubljana
BEGIN:DAYLIGHT
DTSTART:20260329T020000
RDATE:20260329T020000
RDATE:20270328T020000
TZNAME:CEST
TZOFFSETFROM:+0100
TZOFFSETTO:+0200
END:DAYLIGHT
BEGIN:STANDARD
DTSTART:20261025T030000
RDATE:20261025T030000
RDATE:20271031T030000
TZNAME:CET
TZOFFSETFROM:+0200
TZOFFSETTO:+0100
END:STANDARD
END:VTIMEZONE
BEGIN:VEVENT
SUMMARY:CorrasBlue
DTSTART;TZID=Europe/Ljubljana:20251028T120000
DTEND;TZID=Europe/Ljubljana:20251028T130000
DTSTAMP:20260424T212420Z
UID:fs-AFLABS-URNIK:rezervacija:11437
CATEGORIES:Reservation
COLOR:royalblue
DESCRIPTION:Predmeti: \nLetniki: \nIzvajalci: Jernej Kovač\, Uroš Trdan\
 nProstori: Conference room
LOCATION:Conference room
ORGANIZER:Jernej Kovač, Uroš Trdan
X-WR-TIMEZONE:Europe/Ljubljana
END:VEVENT
BEGIN:VEVENT
SUMMARY:Prijava ERC
DTSTART;TZID=Europe/Ljubljana:20251229T093000
DTEND;TZID=Europe/Ljubljana:20251229T113000
DTSTAMP:20260424T212420Z
UID:fs-AFLABS-URNIK:rezervacija:13414
CATEGORIES:Reservation
COLOR:royalblue
DESCRIPTION:Predmeti: \nLetniki: \nIzvajalci: Jernej Kovač\nProstori: Con
 ference room
LOCATION:Conference room
ORGANIZER:Jernej Kovač
X-WR-TIMEZONE:Europe/Ljubljana
END:VEVENT
BEGIN:VEVENT
SUMMARY:ERC prijava Primož
DTSTART;TZID=Europe/Ljubljana:20260108T103000
DTEND;TZID=Europe/Ljubljana:20260108T123000
DTSTAMP:20260424T212420Z
UID:fs-AFLABS-URNIK:rezervacija:13458
CATEGORIES:Reservation
COLOR:royalblue
DESCRIPTION:Predmeti: \nLetniki: \nIzvajalci: Jernej Kovač\, Primož Pore
 doš\nProstori: Conference room
LOCATION:Conference room
ORGANIZER:Jernej Kovač, Primož Poredoš
X-WR-TIMEZONE:Europe/Ljubljana
END:VEVENT
BEGIN:VEVENT
SUMMARY:ESA pogajanja JVP-D
DTSTART;TZID=Europe/Ljubljana:20260122T090000
DTEND;TZID=Europe/Ljubljana:20260122T123000
DTSTAMP:20260424T212420Z
UID:fs-AFLABS-URNIK:rezervacija:13566
CATEGORIES:Reservation
COLOR:royalblue
DESCRIPTION:Predmeti: \nLetniki: \nIzvajalci: Jernej Kovač\, Janez Urevc\
 nProstori: Conference room
LOCATION:Conference room
ORGANIZER:Jernej Kovač, Janez Urevc
X-WR-TIMEZONE:Europe/Ljubljana
END:VEVENT
BEGIN:VEVENT
SUMMARY:EUTOPIA intervju
DTSTART;TZID=Europe/Ljubljana:20251121T133000
DTEND;TZID=Europe/Ljubljana:20251121T150000
DTSTAMP:20260424T212420Z
UID:fs-AFLABS-URNIK:rezervacija:13140
CATEGORIES:Reservation
COLOR:royalblue
DESCRIPTION:Predmeti: \nLetniki: \nIzvajalci: Jernej Kovač\nProstori: Con
 ference room
LOCATION:Conference room
ORGANIZER:Jernej Kovač
X-WR-TIMEZONE:Europe/Ljubljana
END:VEVENT
BEGIN:VEVENT
SUMMARY:CorrasBlue
DTSTART;TZID=Europe/Ljubljana:20251015T130000
DTEND;TZID=Europe/Ljubljana:20251015T143000
DTSTAMP:20260424T212420Z
UID:fs-AFLABS-URNIK:rezervacija:11290
CATEGORIES:Reservation
COLOR:royalblue
DESCRIPTION:Predmeti: \nLetniki: \nIzvajalci: Jernej Kovač\, Uroš Trdan\
 nProstori: Conference room
LOCATION:Conference room
ORGANIZER:Jernej Kovač, Uroš Trdan
X-WR-TIMEZONE:Europe/Ljubljana
END:VEVENT
END:VCALENDAR
