BEGIN:VCALENDAR
VERSION:2.0
PRODID:-//AFLabs urnik izvoz - fs//aflabs.si//SI
NAME:UL FS Urnik
X-WR-CALNAME:UL FS Urnik
DTSTAMP:20260422T022512Z
REFRESH-INTERVAL:PT1H
SOURCE:https://urnik.fs.uni-lj.si/en/teacher/747/?day=2024-01-29&export=1
URL:https://urnik.fs.uni-lj.si/en/teacher/747/?day=2024-01-29&export=1
X-PUBLISHED-TTL:PT1H
X-WR-TIMEZONE:Europe/Ljubljana
BEGIN:VTIMEZONE
TZID:Europe/Ljubljana
BEGIN:DAYLIGHT
DTSTART:20260329T020000
RDATE:20260329T020000
RDATE:20270328T020000
TZNAME:CEST
TZOFFSETFROM:+0100
TZOFFSETTO:+0200
END:DAYLIGHT
BEGIN:STANDARD
DTSTART:20261025T030000
RDATE:20261025T030000
RDATE:20271031T030000
TZNAME:CET
TZOFFSETFROM:+0200
TZOFFSETTO:+0100
END:STANDARD
END:VTIMEZONE
BEGIN:VEVENT
SUMMARY:Dynamics of machines and structures (DSKM)\, Laboratory excercises
  (VL)\, [S1]
DTSTART;TZID=Europe/Ljubljana:20240220T080000
DTEND;TZID=Europe/Ljubljana:20240220T100000
DTSTAMP:20260422T022512Z
UID:fs-AFLABS-URNIK:srecanje:8931-2024-02-20 08:00:00+01:00
DESCRIPTION:Predmet: Dynamics of machines and structures (DSKM)\, Laborato
 ry excercises (VL)\, [S1]\nLetniki: Mechanics (MAG-1)\nIzvajalci: Martin 
 Česnik\, Miha Kodrič\, Gašper Krivic\, Miha Pogačar\nProstor: Computer
  lecture room LNMS II/1
END:VEVENT
BEGIN:VEVENT
SUMMARY:Dynamics of machines and structures (DSKM)\, Laboratory excercises
  (VL)\, [S1]
DTSTART;TZID=Europe/Ljubljana:20240227T080000
DTEND;TZID=Europe/Ljubljana:20240227T100000
DTSTAMP:20260422T022512Z
UID:fs-AFLABS-URNIK:srecanje:8931-2024-02-27 08:00:00+01:00
DESCRIPTION:Predmet: Dynamics of machines and structures (DSKM)\, Laborato
 ry excercises (VL)\, [S1]\nLetniki: Mechanics (MAG-1)\nIzvajalci: Martin 
 Česnik\, Miha Kodrič\, Gašper Krivic\, Miha Pogačar\nProstor: Computer
  lecture room LNMS II/1
END:VEVENT
BEGIN:VEVENT
SUMMARY:Dynamics of machines and structures (DSKM)\, Laboratory excercises
  (VL)\, [S2]
DTSTART;TZID=Europe/Ljubljana:20240220T100000
DTEND;TZID=Europe/Ljubljana:20240220T120000
DTSTAMP:20260422T022512Z
UID:fs-AFLABS-URNIK:srecanje:9298-2024-02-20 10:00:00+01:00
DESCRIPTION:Predmet: Dynamics of machines and structures (DSKM)\, Laborato
 ry excercises (VL)\, [S2]\nLetniki: Mechanics (MAG-1)\nIzvajalci: Martin 
 Česnik\, Miha Kodrič\, Gašper Krivic\, Miha Pogačar\nProstor: Computer
  lecture room LADISK  I/4B
END:VEVENT
BEGIN:VEVENT
SUMMARY:Dynamics of machines and structures (DSKM)\, Laboratory excercises
  (VL)\, [S2]
DTSTART;TZID=Europe/Ljubljana:20240227T100000
DTEND;TZID=Europe/Ljubljana:20240227T120000
DTSTAMP:20260422T022512Z
UID:fs-AFLABS-URNIK:srecanje:9298-2024-02-27 10:00:00+01:00
DESCRIPTION:Predmet: Dynamics of machines and structures (DSKM)\, Laborato
 ry excercises (VL)\, [S2]\nLetniki: Mechanics (MAG-1)\nIzvajalci: Martin 
 Česnik\, Miha Kodrič\, Gašper Krivic\, Miha Pogačar\nProstor: Computer
  lecture room LADISK  I/4B
END:VEVENT
BEGIN:VEVENT
SUMMARY:Signal processing (PRSM)\, Laboratory excercises (VL)\, [S1]
DTSTART;TZID=Europe/Ljubljana:20240221T080000
DTEND;TZID=Europe/Ljubljana:20240221T100000
DTSTAMP:20260422T022512Z
UID:fs-AFLABS-URNIK:srecanje:8938-2024-02-21 08:00:00+01:00
DESCRIPTION:Predmet: Signal processing (PRSM)\, Laboratory excercises (VL)
 \, [S1]\nLetniki: Mechanics (MAG-1)\nIzvajalci: Martin Česnik\, Domen Gor
 jup\, Gašper Krivic\, Klemen Zaletelj\nProstor: Computer lecture room LNM
 S II/1
END:VEVENT
BEGIN:VEVENT
SUMMARY:Signal processing (PRSM)\, Laboratory excercises (VL)\, [S1]
DTSTART;TZID=Europe/Ljubljana:20240228T080000
DTEND;TZID=Europe/Ljubljana:20240228T100000
DTSTAMP:20260422T022512Z
UID:fs-AFLABS-URNIK:srecanje:8938-2024-02-28 08:00:00+01:00
DESCRIPTION:Predmet: Signal processing (PRSM)\, Laboratory excercises (VL)
 \, [S1]\nLetniki: Mechanics (MAG-1)\nIzvajalci: Martin Česnik\, Domen Gor
 jup\, Gašper Krivic\, Klemen Zaletelj\nProstor: Computer lecture room LNM
 S II/1
END:VEVENT
BEGIN:VEVENT
SUMMARY:Signal processing (PRSM)\, Laboratory excercises (VL)\, [S2]
DTSTART;TZID=Europe/Ljubljana:20240221T100000
DTEND;TZID=Europe/Ljubljana:20240221T120000
DTSTAMP:20260422T022512Z
UID:fs-AFLABS-URNIK:srecanje:8939-2024-02-21 10:00:00+01:00
DESCRIPTION:Predmet: Signal processing (PRSM)\, Laboratory excercises (VL)
 \, [S2]\nLetniki: Mechanics (MAG-1)\nIzvajalci: Martin Česnik\, Domen Gor
 jup\, Gašper Krivic\, Klemen Zaletelj\nProstor: Computer lecture room LNM
 S II/1
END:VEVENT
BEGIN:VEVENT
SUMMARY:Signal processing (PRSM)\, Laboratory excercises (VL)\, [S2]
DTSTART;TZID=Europe/Ljubljana:20240228T100000
DTEND;TZID=Europe/Ljubljana:20240228T120000
DTSTAMP:20260422T022512Z
UID:fs-AFLABS-URNIK:srecanje:8939-2024-02-28 10:00:00+01:00
DESCRIPTION:Predmet: Signal processing (PRSM)\, Laboratory excercises (VL)
 \, [S2]\nLetniki: Mechanics (MAG-1)\nIzvajalci: Martin Česnik\, Domen Gor
 jup\, Gašper Krivic\, Klemen Zaletelj\nProstor: Computer lecture room LNM
 S II/1
END:VEVENT
BEGIN:VEVENT
SUMMARY:Dynamics of machines and structures (DSKM)\, Laboratory excercises
  (VL)\, [S3]
DTSTART;TZID=Europe/Ljubljana:20240223T100000
DTEND;TZID=Europe/Ljubljana:20240223T120000
DTSTAMP:20260422T022512Z
UID:fs-AFLABS-URNIK:srecanje:8934-2024-02-23 10:00:00+01:00
DESCRIPTION:Predmet: Dynamics of machines and structures (DSKM)\, Laborato
 ry excercises (VL)\, [S3]\nLetniki: Mechanics (MAG-1)\nIzvajalci: Miha Kod
 rič\, Gašper Krivic\, Miha Pogačar\nProstor: Computer lecture room LADI
 SK  I/4B
END:VEVENT
BEGIN:VEVENT
SUMMARY:Dynamics of machines and structures (DSKM)\, Laboratory excercises
  (VL)\, [S3]
DTSTART;TZID=Europe/Ljubljana:20240301T100000
DTEND;TZID=Europe/Ljubljana:20240301T120000
DTSTAMP:20260422T022512Z
UID:fs-AFLABS-URNIK:srecanje:8934-2024-03-01 10:00:00+01:00
DESCRIPTION:Predmet: Dynamics of machines and structures (DSKM)\, Laborato
 ry excercises (VL)\, [S3]\nLetniki: Mechanics (MAG-1)\nIzvajalci: Miha Kod
 rič\, Gašper Krivic\, Miha Pogačar\nProstor: Computer lecture room LADI
 SK  I/4B
END:VEVENT
BEGIN:VEVENT
SUMMARY:Dynamics of machines and structures (DSKM)\, Laboratory excercises
  (VL)\, [S4]
DTSTART;TZID=Europe/Ljubljana:20240223T120000
DTEND;TZID=Europe/Ljubljana:20240223T140000
DTSTAMP:20260422T022512Z
UID:fs-AFLABS-URNIK:srecanje:8937-2024-02-23 12:00:00+01:00
DESCRIPTION:Predmet: Dynamics of machines and structures (DSKM)\, Laborato
 ry excercises (VL)\, [S4]\nLetniki: Mechanics (MAG-1)\nIzvajalci: Gašper 
 Krivic\, Miha Pogačar\nProstor: Computer lecture room LADISK  I/4B
END:VEVENT
BEGIN:VEVENT
SUMMARY:Dynamics of machines and structures (DSKM)\, Laboratory excercises
  (VL)\, [S4]
DTSTART;TZID=Europe/Ljubljana:20240301T120000
DTEND;TZID=Europe/Ljubljana:20240301T140000
DTSTAMP:20260422T022512Z
UID:fs-AFLABS-URNIK:srecanje:8937-2024-03-01 12:00:00+01:00
DESCRIPTION:Predmet: Dynamics of machines and structures (DSKM)\, Laborato
 ry excercises (VL)\, [S4]\nLetniki: Mechanics (MAG-1)\nIzvajalci: Gašper 
 Krivic\, Miha Pogačar\nProstor: Computer lecture room LADISK  I/4B
END:VEVENT
BEGIN:VEVENT
SUMMARY:Signal processing (PRSM)\, Laboratory excercises (VL)\, [S3]
DTSTART;TZID=Europe/Ljubljana:20240223T080000
DTEND;TZID=Europe/Ljubljana:20240223T100000
DTSTAMP:20260422T022512Z
UID:fs-AFLABS-URNIK:srecanje:8940-2024-02-23 08:00:00+01:00
DESCRIPTION:Predmet: Signal processing (PRSM)\, Laboratory excercises (VL)
 \, [S3]\nLetniki: Mechanics (MAG-1)\nIzvajalci: Martin Česnik\, Domen Gor
 jup\, Gašper Krivic\, Klemen Zaletelj\nProstor: Computer lecture room LNM
 S II/1
END:VEVENT
BEGIN:VEVENT
SUMMARY:Signal processing (PRSM)\, Laboratory excercises (VL)\, [S3]
DTSTART;TZID=Europe/Ljubljana:20240301T080000
DTEND;TZID=Europe/Ljubljana:20240301T100000
DTSTAMP:20260422T022512Z
UID:fs-AFLABS-URNIK:srecanje:8940-2024-03-01 08:00:00+01:00
DESCRIPTION:Predmet: Signal processing (PRSM)\, Laboratory excercises (VL)
 \, [S3]\nLetniki: Mechanics (MAG-1)\nIzvajalci: Martin Česnik\, Domen Gor
 jup\, Gašper Krivic\, Klemen Zaletelj\nProstor: Computer lecture room LNM
 S II/1
END:VEVENT
END:VCALENDAR
