BEGIN:VCALENDAR
VERSION:2.0
PRODID:-//AFLabs urnik izvoz - fs//aflabs.si//SI
NAME:UL FS Urnik
X-WR-CALNAME:UL FS Urnik
DTSTAMP:20260425T202957Z
REFRESH-INTERVAL:PT1H
SOURCE:https://urnik.fs.uni-lj.si/en/teacher/747/?day=2026-02-02&export=1
URL:https://urnik.fs.uni-lj.si/en/teacher/747/?day=2026-02-02&export=1
X-PUBLISHED-TTL:PT1H
X-WR-TIMEZONE:Europe/Ljubljana
BEGIN:VTIMEZONE
TZID:Europe/Ljubljana
BEGIN:DAYLIGHT
DTSTART:20260329T020000
RDATE:20260329T020000
RDATE:20270328T020000
TZNAME:CEST
TZOFFSETFROM:+0100
TZOFFSETTO:+0200
END:DAYLIGHT
BEGIN:STANDARD
DTSTART:20261025T030000
RDATE:20261025T030000
RDATE:20271031T030000
TZNAME:CET
TZOFFSETFROM:+0200
TZOFFSETTO:+0100
END:STANDARD
END:VTIMEZONE
BEGIN:VEVENT
SUMMARY:Dynamics of machines and structures (DSKM)\, Laboratory excercises
  (VL)\, [S1]
DTSTART;TZID=Europe/Ljubljana:20260217T080000
DTEND;TZID=Europe/Ljubljana:20260217T100000
DTSTAMP:20260425T202957Z
UID:fs-AFLABS-URNIK:srecanje:17234-2026-02-17 08:00:00+01:00
DESCRIPTION:Predmet: Dynamics of machines and structures (DSKM)\, Laborato
 ry excercises (VL)\, [S1]\nLetniki: Mechanics (MAG-1)\nIzvajalci: Martin 
 Česnik\, Miha Kodrič\, Jure Korbar\, Gašper Krivic\, Matic Mlinarič\, 
 Miha Pogačar\nProstor: Computer lecture room LADISK  I/4B
END:VEVENT
BEGIN:VEVENT
SUMMARY:Dynamics of machines and structures (DSKM)\, Laboratory excercises
  (VL)\, [S1]
DTSTART;TZID=Europe/Ljubljana:20260224T080000
DTEND;TZID=Europe/Ljubljana:20260224T100000
DTSTAMP:20260425T202957Z
UID:fs-AFLABS-URNIK:srecanje:17234-2026-02-24 08:00:00+01:00
DESCRIPTION:Predmet: Dynamics of machines and structures (DSKM)\, Laborato
 ry excercises (VL)\, [S1]\nLetniki: Mechanics (MAG-1)\nIzvajalci: Martin 
 Česnik\, Miha Kodrič\, Jure Korbar\, Gašper Krivic\, Matic Mlinarič\, 
 Miha Pogačar\nProstor: Computer lecture room LADISK  I/4B
END:VEVENT
BEGIN:VEVENT
SUMMARY:Dynamics of machines and structures (DSKM)\, Laboratory excercises
  (VL)\, [S1]
DTSTART;TZID=Europe/Ljubljana:20260303T080000
DTEND;TZID=Europe/Ljubljana:20260303T100000
DTSTAMP:20260425T202957Z
UID:fs-AFLABS-URNIK:srecanje:17234-2026-03-03 08:00:00+01:00
DESCRIPTION:Predmet: Dynamics of machines and structures (DSKM)\, Laborato
 ry excercises (VL)\, [S1]\nLetniki: Mechanics (MAG-1)\nIzvajalci: Martin 
 Česnik\, Miha Kodrič\, Jure Korbar\, Gašper Krivic\, Matic Mlinarič\, 
 Miha Pogačar\nProstor: Computer lecture room LADISK  I/4B
END:VEVENT
BEGIN:VEVENT
SUMMARY:Dynamics of machines and structures (DSKM)\, Laboratory excercises
  (VL)\, [S2]
DTSTART;TZID=Europe/Ljubljana:20260217T100000
DTEND;TZID=Europe/Ljubljana:20260217T120000
DTSTAMP:20260425T202957Z
UID:fs-AFLABS-URNIK:srecanje:17235-2026-02-17 10:00:00+01:00
DESCRIPTION:Predmet: Dynamics of machines and structures (DSKM)\, Laborato
 ry excercises (VL)\, [S2]\nLetniki: Mechanics (MAG-1)\nIzvajalci: Martin 
 Česnik\, Miha Kodrič\, Jure Korbar\, Gašper Krivic\, Matic Mlinarič\, 
 Miha Pogačar\nProstor: Computer lecture room LADISK  I/4B
END:VEVENT
BEGIN:VEVENT
SUMMARY:Dynamics of machines and structures (DSKM)\, Laboratory excercises
  (VL)\, [S2]
DTSTART;TZID=Europe/Ljubljana:20260224T100000
DTEND;TZID=Europe/Ljubljana:20260224T120000
DTSTAMP:20260425T202957Z
UID:fs-AFLABS-URNIK:srecanje:17235-2026-02-24 10:00:00+01:00
DESCRIPTION:Predmet: Dynamics of machines and structures (DSKM)\, Laborato
 ry excercises (VL)\, [S2]\nLetniki: Mechanics (MAG-1)\nIzvajalci: Martin 
 Česnik\, Miha Kodrič\, Jure Korbar\, Gašper Krivic\, Matic Mlinarič\, 
 Miha Pogačar\nProstor: Computer lecture room LADISK  I/4B
END:VEVENT
BEGIN:VEVENT
SUMMARY:Dynamics of machines and structures (DSKM)\, Laboratory excercises
  (VL)\, [S2]
DTSTART;TZID=Europe/Ljubljana:20260303T100000
DTEND;TZID=Europe/Ljubljana:20260303T120000
DTSTAMP:20260425T202957Z
UID:fs-AFLABS-URNIK:srecanje:17235-2026-03-03 10:00:00+01:00
DESCRIPTION:Predmet: Dynamics of machines and structures (DSKM)\, Laborato
 ry excercises (VL)\, [S2]\nLetniki: Mechanics (MAG-1)\nIzvajalci: Martin 
 Česnik\, Miha Kodrič\, Jure Korbar\, Gašper Krivic\, Matic Mlinarič\, 
 Miha Pogačar\nProstor: Computer lecture room LADISK  I/4B
END:VEVENT
BEGIN:VEVENT
SUMMARY:Signal processing (PRSM)\, Laboratory excercises (VL)\, [S1]
DTSTART;TZID=Europe/Ljubljana:20260218T080000
DTEND;TZID=Europe/Ljubljana:20260218T100000
DTSTAMP:20260425T202957Z
UID:fs-AFLABS-URNIK:srecanje:17247-2026-02-18 08:00:00+01:00
DESCRIPTION:Predmet: Signal processing (PRSM)\, Laboratory excercises (VL)
 \, [S1]\nLetniki: Mechanics (MAG-1)\nIzvajalci: Martin Česnik\, Domen Gor
 jup\, Gašper Krivic\, Klemen Zaletelj\nProstor: Computer lecture room LAD
 ISK  I/4B
END:VEVENT
BEGIN:VEVENT
SUMMARY:Signal processing (PRSM)\, Laboratory excercises (VL)\, [S1]
DTSTART;TZID=Europe/Ljubljana:20260225T080000
DTEND;TZID=Europe/Ljubljana:20260225T100000
DTSTAMP:20260425T202957Z
UID:fs-AFLABS-URNIK:srecanje:17247-2026-02-25 08:00:00+01:00
DESCRIPTION:Predmet: Signal processing (PRSM)\, Laboratory excercises (VL)
 \, [S1]\nLetniki: Mechanics (MAG-1)\nIzvajalci: Martin Česnik\, Domen Gor
 jup\, Gašper Krivic\, Klemen Zaletelj\nProstor: Computer lecture room LAD
 ISK  I/4B
END:VEVENT
BEGIN:VEVENT
SUMMARY:Signal processing (PRSM)\, Laboratory excercises (VL)\, [S1]
DTSTART;TZID=Europe/Ljubljana:20260304T080000
DTEND;TZID=Europe/Ljubljana:20260304T100000
DTSTAMP:20260425T202957Z
UID:fs-AFLABS-URNIK:srecanje:17247-2026-03-04 08:00:00+01:00
DESCRIPTION:Predmet: Signal processing (PRSM)\, Laboratory excercises (VL)
 \, [S1]\nLetniki: Mechanics (MAG-1)\nIzvajalci: Martin Česnik\, Domen Gor
 jup\, Gašper Krivic\, Klemen Zaletelj\nProstor: Computer lecture room LAD
 ISK  I/4B
END:VEVENT
BEGIN:VEVENT
SUMMARY:Signal processing (PRSM)\, Laboratory excercises (VL)\, [S2]
DTSTART;TZID=Europe/Ljubljana:20260218T100000
DTEND;TZID=Europe/Ljubljana:20260218T120000
DTSTAMP:20260425T202957Z
UID:fs-AFLABS-URNIK:srecanje:17248-2026-02-18 10:00:00+01:00
DESCRIPTION:Predmet: Signal processing (PRSM)\, Laboratory excercises (VL)
 \, [S2]\nLetniki: Mechanics (MAG-1)\nIzvajalci: Martin Česnik\, Domen Gor
 jup\, Gašper Krivic\, Klemen Zaletelj\nProstor: Computer lecture room LAD
 ISK  I/4B
END:VEVENT
BEGIN:VEVENT
SUMMARY:Signal processing (PRSM)\, Laboratory excercises (VL)\, [S2]
DTSTART;TZID=Europe/Ljubljana:20260225T100000
DTEND;TZID=Europe/Ljubljana:20260225T120000
DTSTAMP:20260425T202957Z
UID:fs-AFLABS-URNIK:srecanje:17248-2026-02-25 10:00:00+01:00
DESCRIPTION:Predmet: Signal processing (PRSM)\, Laboratory excercises (VL)
 \, [S2]\nLetniki: Mechanics (MAG-1)\nIzvajalci: Martin Česnik\, Domen Gor
 jup\, Gašper Krivic\, Klemen Zaletelj\nProstor: Computer lecture room LAD
 ISK  I/4B
END:VEVENT
BEGIN:VEVENT
SUMMARY:Signal processing (PRSM)\, Laboratory excercises (VL)\, [S2]
DTSTART;TZID=Europe/Ljubljana:20260304T100000
DTEND;TZID=Europe/Ljubljana:20260304T120000
DTSTAMP:20260425T202957Z
UID:fs-AFLABS-URNIK:srecanje:17248-2026-03-04 10:00:00+01:00
DESCRIPTION:Predmet: Signal processing (PRSM)\, Laboratory excercises (VL)
 \, [S2]\nLetniki: Mechanics (MAG-1)\nIzvajalci: Martin Česnik\, Domen Gor
 jup\, Gašper Krivic\, Klemen Zaletelj\nProstor: Computer lecture room LAD
 ISK  I/4B
END:VEVENT
BEGIN:VEVENT
SUMMARY:Dynamics of machines and structures (DSKM)\, Laboratory excercises
  (VL)\, [S3]
DTSTART;TZID=Europe/Ljubljana:20260219T120000
DTEND;TZID=Europe/Ljubljana:20260219T140000
DTSTAMP:20260425T202957Z
UID:fs-AFLABS-URNIK:srecanje:17237-2026-02-19 12:00:00+01:00
DESCRIPTION:Predmet: Dynamics of machines and structures (DSKM)\, Laborato
 ry excercises (VL)\, [S3]\nLetniki: Mechanics (MAG-1)\nIzvajalci: Martin 
 Česnik\, Miha Kodrič\, Jure Korbar\, Gašper Krivic\, Matic Mlinarič\, 
 Miha Pogačar\nProstor: Computer lecture room LADISK  I/4B
END:VEVENT
BEGIN:VEVENT
SUMMARY:Dynamics of machines and structures (DSKM)\, Laboratory excercises
  (VL)\, [S3]
DTSTART;TZID=Europe/Ljubljana:20260226T120000
DTEND;TZID=Europe/Ljubljana:20260226T140000
DTSTAMP:20260425T202957Z
UID:fs-AFLABS-URNIK:srecanje:17237-2026-02-26 12:00:00+01:00
DESCRIPTION:Predmet: Dynamics of machines and structures (DSKM)\, Laborato
 ry excercises (VL)\, [S3]\nLetniki: Mechanics (MAG-1)\nIzvajalci: Martin 
 Česnik\, Miha Kodrič\, Jure Korbar\, Gašper Krivic\, Matic Mlinarič\, 
 Miha Pogačar\nProstor: Computer lecture room LADISK  I/4B
END:VEVENT
BEGIN:VEVENT
SUMMARY:Dynamics of machines and structures (DSKM)\, Laboratory excercises
  (VL)\, [S3]
DTSTART;TZID=Europe/Ljubljana:20260305T120000
DTEND;TZID=Europe/Ljubljana:20260305T140000
DTSTAMP:20260425T202957Z
UID:fs-AFLABS-URNIK:srecanje:17237-2026-03-05 12:00:00+01:00
DESCRIPTION:Predmet: Dynamics of machines and structures (DSKM)\, Laborato
 ry excercises (VL)\, [S3]\nLetniki: Mechanics (MAG-1)\nIzvajalci: Martin 
 Česnik\, Miha Kodrič\, Jure Korbar\, Gašper Krivic\, Matic Mlinarič\, 
 Miha Pogačar\nProstor: Computer lecture room LADISK  I/4B
END:VEVENT
BEGIN:VEVENT
SUMMARY:Signal processing (PRSM)\, Laboratory excercises (VL)\, [S3]
DTSTART;TZID=Europe/Ljubljana:20260219T100000
DTEND;TZID=Europe/Ljubljana:20260219T120000
DTSTAMP:20260425T202957Z
UID:fs-AFLABS-URNIK:srecanje:17249-2026-02-19 10:00:00+01:00
DESCRIPTION:Predmet: Signal processing (PRSM)\, Laboratory excercises (VL)
 \, [S3]\nLetniki: Mechanics (MAG-1)\nIzvajalci: Martin Česnik\, Domen Gor
 jup\, Gašper Krivic\, Klemen Zaletelj\nProstor: Computer lecture room LAD
 ISK  I/4B
END:VEVENT
BEGIN:VEVENT
SUMMARY:Signal processing (PRSM)\, Laboratory excercises (VL)\, [S3]
DTSTART;TZID=Europe/Ljubljana:20260226T100000
DTEND;TZID=Europe/Ljubljana:20260226T120000
DTSTAMP:20260425T202957Z
UID:fs-AFLABS-URNIK:srecanje:17249-2026-02-26 10:00:00+01:00
DESCRIPTION:Predmet: Signal processing (PRSM)\, Laboratory excercises (VL)
 \, [S3]\nLetniki: Mechanics (MAG-1)\nIzvajalci: Martin Česnik\, Domen Gor
 jup\, Gašper Krivic\, Klemen Zaletelj\nProstor: Computer lecture room LAD
 ISK  I/4B
END:VEVENT
BEGIN:VEVENT
SUMMARY:Signal processing (PRSM)\, Laboratory excercises (VL)\, [S3]
DTSTART;TZID=Europe/Ljubljana:20260305T100000
DTEND;TZID=Europe/Ljubljana:20260305T120000
DTSTAMP:20260425T202957Z
UID:fs-AFLABS-URNIK:srecanje:17249-2026-03-05 10:00:00+01:00
DESCRIPTION:Predmet: Signal processing (PRSM)\, Laboratory excercises (VL)
 \, [S3]\nLetniki: Mechanics (MAG-1)\nIzvajalci: Martin Česnik\, Domen Gor
 jup\, Gašper Krivic\, Klemen Zaletelj\nProstor: Computer lecture room LAD
 ISK  I/4B
END:VEVENT
BEGIN:VEVENT
SUMMARY:Dynamics of machines and structures (DSKM)\, Laboratory excercises
  (VL)\, [S4]
DTSTART;TZID=Europe/Ljubljana:20260220T100000
DTEND;TZID=Europe/Ljubljana:20260220T120000
DTSTAMP:20260425T202957Z
UID:fs-AFLABS-URNIK:srecanje:17239-2026-02-20 10:00:00+01:00
DESCRIPTION:Predmet: Dynamics of machines and structures (DSKM)\, Laborato
 ry excercises (VL)\, [S4]\nLetniki: Mechanics (MAG-1)\nIzvajalci: Martin 
 Česnik\, Miha Kodrič\, Jure Korbar\, Gašper Krivic\, Matic Mlinarič\, 
 Miha Pogačar\nProstor: Computer lecture room LADISK  I/4B
END:VEVENT
BEGIN:VEVENT
SUMMARY:Dynamics of machines and structures (DSKM)\, Laboratory excercises
  (VL)\, [S4]
DTSTART;TZID=Europe/Ljubljana:20260227T100000
DTEND;TZID=Europe/Ljubljana:20260227T120000
DTSTAMP:20260425T202957Z
UID:fs-AFLABS-URNIK:srecanje:17239-2026-02-27 10:00:00+01:00
DESCRIPTION:Predmet: Dynamics of machines and structures (DSKM)\, Laborato
 ry excercises (VL)\, [S4]\nLetniki: Mechanics (MAG-1)\nIzvajalci: Martin 
 Česnik\, Miha Kodrič\, Jure Korbar\, Gašper Krivic\, Matic Mlinarič\, 
 Miha Pogačar\nProstor: Computer lecture room LADISK  I/4B
END:VEVENT
BEGIN:VEVENT
SUMMARY:Dynamics of machines and structures (DSKM)\, Laboratory excercises
  (VL)\, [S4]
DTSTART;TZID=Europe/Ljubljana:20260306T100000
DTEND;TZID=Europe/Ljubljana:20260306T120000
DTSTAMP:20260425T202957Z
UID:fs-AFLABS-URNIK:srecanje:17239-2026-03-06 10:00:00+01:00
DESCRIPTION:Predmet: Dynamics of machines and structures (DSKM)\, Laborato
 ry excercises (VL)\, [S4]\nLetniki: Mechanics (MAG-1)\nIzvajalci: Martin 
 Česnik\, Miha Kodrič\, Jure Korbar\, Gašper Krivic\, Matic Mlinarič\, 
 Miha Pogačar\nProstor: Computer lecture room LADISK  I/4B
END:VEVENT
BEGIN:VEVENT
SUMMARY:Dynamics of machines and structures (DSKM)\, Laboratory excercises
  (VL)\, [S5]
DTSTART;TZID=Europe/Ljubljana:20260220T120000
DTEND;TZID=Europe/Ljubljana:20260220T140000
DTSTAMP:20260425T202957Z
UID:fs-AFLABS-URNIK:srecanje:17241-2026-02-20 12:00:00+01:00
DESCRIPTION:Predmet: Dynamics of machines and structures (DSKM)\, Laborato
 ry excercises (VL)\, [S5]\nLetniki: Mechanics (MAG-1)\nIzvajalci: Martin 
 Česnik\, Miha Kodrič\, Jure Korbar\, Gašper Krivic\, Matic Mlinarič\, 
 Miha Pogačar\nProstor: Computer lecture room LADISK  I/4B
END:VEVENT
BEGIN:VEVENT
SUMMARY:Dynamics of machines and structures (DSKM)\, Laboratory excercises
  (VL)\, [S5]
DTSTART;TZID=Europe/Ljubljana:20260227T120000
DTEND;TZID=Europe/Ljubljana:20260227T140000
DTSTAMP:20260425T202957Z
UID:fs-AFLABS-URNIK:srecanje:17241-2026-02-27 12:00:00+01:00
DESCRIPTION:Predmet: Dynamics of machines and structures (DSKM)\, Laborato
 ry excercises (VL)\, [S5]\nLetniki: Mechanics (MAG-1)\nIzvajalci: Martin 
 Česnik\, Miha Kodrič\, Jure Korbar\, Gašper Krivic\, Matic Mlinarič\, 
 Miha Pogačar\nProstor: Computer lecture room LADISK  I/4B
END:VEVENT
BEGIN:VEVENT
SUMMARY:Dynamics of machines and structures (DSKM)\, Laboratory excercises
  (VL)\, [S5]
DTSTART;TZID=Europe/Ljubljana:20260306T120000
DTEND;TZID=Europe/Ljubljana:20260306T140000
DTSTAMP:20260425T202957Z
UID:fs-AFLABS-URNIK:srecanje:17241-2026-03-06 12:00:00+01:00
DESCRIPTION:Predmet: Dynamics of machines and structures (DSKM)\, Laborato
 ry excercises (VL)\, [S5]\nLetniki: Mechanics (MAG-1)\nIzvajalci: Martin 
 Česnik\, Miha Kodrič\, Jure Korbar\, Gašper Krivic\, Matic Mlinarič\, 
 Miha Pogačar\nProstor: Computer lecture room LADISK  I/4B
END:VEVENT
BEGIN:VEVENT
SUMMARY:Signal processing (PRSM)\, Laboratory excercises (VL)\, [S4]
DTSTART;TZID=Europe/Ljubljana:20260220T080000
DTEND;TZID=Europe/Ljubljana:20260220T100000
DTSTAMP:20260425T202957Z
UID:fs-AFLABS-URNIK:srecanje:17250-2026-02-20 08:00:00+01:00
DESCRIPTION:Predmet: Signal processing (PRSM)\, Laboratory excercises (VL)
 \, [S4]\nLetniki: Mechanics (MAG-1)\nIzvajalci: Martin Česnik\, Domen Gor
 jup\, Gašper Krivic\, Klemen Zaletelj\nProstor: Computer lecture room LAD
 ISK  I/4B
END:VEVENT
BEGIN:VEVENT
SUMMARY:Signal processing (PRSM)\, Laboratory excercises (VL)\, [S4]
DTSTART;TZID=Europe/Ljubljana:20260227T080000
DTEND;TZID=Europe/Ljubljana:20260227T100000
DTSTAMP:20260425T202957Z
UID:fs-AFLABS-URNIK:srecanje:17250-2026-02-27 08:00:00+01:00
DESCRIPTION:Predmet: Signal processing (PRSM)\, Laboratory excercises (VL)
 \, [S4]\nLetniki: Mechanics (MAG-1)\nIzvajalci: Martin Česnik\, Domen Gor
 jup\, Gašper Krivic\, Klemen Zaletelj\nProstor: Computer lecture room LAD
 ISK  I/4B
END:VEVENT
BEGIN:VEVENT
SUMMARY:Signal processing (PRSM)\, Laboratory excercises (VL)\, [S4]
DTSTART;TZID=Europe/Ljubljana:20260306T080000
DTEND;TZID=Europe/Ljubljana:20260306T100000
DTSTAMP:20260425T202957Z
UID:fs-AFLABS-URNIK:srecanje:17250-2026-03-06 08:00:00+01:00
DESCRIPTION:Predmet: Signal processing (PRSM)\, Laboratory excercises (VL)
 \, [S4]\nLetniki: Mechanics (MAG-1)\nIzvajalci: Martin Česnik\, Domen Gor
 jup\, Gašper Krivic\, Klemen Zaletelj\nProstor: Computer lecture room LAD
 ISK  I/4B
END:VEVENT
BEGIN:VEVENT
SUMMARY:Signal processing (PRSM)\, Laboratory excercises (VL)\, [S5]
DTSTART;TZID=Europe/Ljubljana:20260220T100000
DTEND;TZID=Europe/Ljubljana:20260220T120000
DTSTAMP:20260425T202957Z
UID:fs-AFLABS-URNIK:srecanje:17416-2026-02-20 10:00:00+01:00
DESCRIPTION:Predmet: Signal processing (PRSM)\, Laboratory excercises (VL)
 \, [S5]\nLetniki: Mechanics (MAG-1)\nIzvajalci: Martin Česnik\, Domen Gor
 jup\, Gašper Krivic\, Klemen Zaletelj\nProstor: Computer lecture room SP-
 24
END:VEVENT
BEGIN:VEVENT
SUMMARY:Signal processing (PRSM)\, Laboratory excercises (VL)\, [S5]
DTSTART;TZID=Europe/Ljubljana:20260227T100000
DTEND;TZID=Europe/Ljubljana:20260227T120000
DTSTAMP:20260425T202957Z
UID:fs-AFLABS-URNIK:srecanje:17416-2026-02-27 10:00:00+01:00
DESCRIPTION:Predmet: Signal processing (PRSM)\, Laboratory excercises (VL)
 \, [S5]\nLetniki: Mechanics (MAG-1)\nIzvajalci: Martin Česnik\, Domen Gor
 jup\, Gašper Krivic\, Klemen Zaletelj\nProstor: Computer lecture room SP-
 24
END:VEVENT
BEGIN:VEVENT
SUMMARY:Signal processing (PRSM)\, Laboratory excercises (VL)\, [S5]
DTSTART;TZID=Europe/Ljubljana:20260306T100000
DTEND;TZID=Europe/Ljubljana:20260306T120000
DTSTAMP:20260425T202957Z
UID:fs-AFLABS-URNIK:srecanje:17416-2026-03-06 10:00:00+01:00
DESCRIPTION:Predmet: Signal processing (PRSM)\, Laboratory excercises (VL)
 \, [S5]\nLetniki: Mechanics (MAG-1)\nIzvajalci: Martin Česnik\, Domen Gor
 jup\, Gašper Krivic\, Klemen Zaletelj\nProstor: Computer lecture room SP-
 24
END:VEVENT
END:VCALENDAR
