BEGIN:VCALENDAR
VERSION:2.0
PRODID:-//AFLabs urnik izvoz - fs//aflabs.si//SI
NAME:UL FS Urnik
X-WR-CALNAME:UL FS Urnik
DTSTAMP:20260425T015231Z
REFRESH-INTERVAL:PT1H
SOURCE:https://urnik.fs.uni-lj.si/en/teacher/749/?day=2024-02-05&export=1
URL:https://urnik.fs.uni-lj.si/en/teacher/749/?day=2024-02-05&export=1
X-PUBLISHED-TTL:PT1H
X-WR-TIMEZONE:Europe/Ljubljana
BEGIN:VTIMEZONE
TZID:Europe/Ljubljana
BEGIN:DAYLIGHT
DTSTART:20260329T020000
RDATE:20260329T020000
RDATE:20270328T020000
TZNAME:CEST
TZOFFSETFROM:+0100
TZOFFSETTO:+0200
END:DAYLIGHT
BEGIN:STANDARD
DTSTART:20261025T030000
RDATE:20261025T030000
RDATE:20271031T030000
TZNAME:CET
TZOFFSETFROM:+0200
TZOFFSETTO:+0100
END:STANDARD
END:VTIMEZONE
BEGIN:VEVENT
SUMMARY:Geometric product specifications (GSPM)\, Lectures (P)
DTSTART;TZID=Europe/Ljubljana:20240221T100000
DTEND;TZID=Europe/Ljubljana:20240221T120000
DTSTAMP:20260425T015231Z
UID:fs-AFLABS-URNIK:srecanje:3660-2024-02-21 10:00:00+01:00
DESCRIPTION:Predmet: Geometric product specifications (GSPM)\, Lectures (P
 )\nLetniki: Engineering design (MAG-1)\nIzvajalci: Robert Kunc\, Samo Zupa
 n\nProstor: Lecture hall III/4
END:VEVENT
BEGIN:VEVENT
SUMMARY:Geometric product specifications (GSPM)\, Lectures (P)
DTSTART;TZID=Europe/Ljubljana:20240228T100000
DTEND;TZID=Europe/Ljubljana:20240228T120000
DTSTAMP:20260425T015231Z
UID:fs-AFLABS-URNIK:srecanje:3660-2024-02-28 10:00:00+01:00
DESCRIPTION:Predmet: Geometric product specifications (GSPM)\, Lectures (P
 )\nLetniki: Engineering design (MAG-1)\nIzvajalci: Robert Kunc\, Samo Zupa
 n\nProstor: Lecture hall III/4
END:VEVENT
BEGIN:VEVENT
SUMMARY:Geometric product specifications (GSPM)\, Lectures (P)
DTSTART;TZID=Europe/Ljubljana:20240306T100000
DTEND;TZID=Europe/Ljubljana:20240306T120000
DTSTAMP:20260425T015231Z
UID:fs-AFLABS-URNIK:srecanje:3660-2024-03-06 10:00:00+01:00
DESCRIPTION:Predmet: Geometric product specifications (GSPM)\, Lectures (P
 )\nLetniki: Engineering design (MAG-1)\nIzvajalci: Robert Kunc\, Samo Zupa
 n\nProstor: Lecture hall III/4
END:VEVENT
BEGIN:VEVENT
SUMMARY:Geometric Product Specifications (GPSE)\, Lectures (P)
DTSTART;TZID=Europe/Ljubljana:20240221T080000
DTEND;TZID=Europe/Ljubljana:20240221T100000
DTSTAMP:20260425T015231Z
UID:fs-AFLABS-URNIK:srecanje:6112-2024-02-21 08:00:00+01:00
DESCRIPTION:Predmet: Geometric Product Specifications (GPSE)\, Lectures (P
 )\nLetniki: Erasmus (Erasmus)\nIzvajalci: Robert Kunc\nProstor: Lecture ha
 ll I/4A
END:VEVENT
BEGIN:VEVENT
SUMMARY:Geometric Product Specifications (GPSE)\, Lectures (P)
DTSTART;TZID=Europe/Ljubljana:20240228T080000
DTEND;TZID=Europe/Ljubljana:20240228T100000
DTSTAMP:20260425T015231Z
UID:fs-AFLABS-URNIK:srecanje:6112-2024-02-28 08:00:00+01:00
DESCRIPTION:Predmet: Geometric Product Specifications (GPSE)\, Lectures (P
 )\nLetniki: Erasmus (Erasmus)\nIzvajalci: Robert Kunc\nProstor: Lecture ha
 ll I/4A
END:VEVENT
BEGIN:VEVENT
SUMMARY:Geometric Product Specifications (GPSE)\, Lectures (P)
DTSTART;TZID=Europe/Ljubljana:20240306T080000
DTEND;TZID=Europe/Ljubljana:20240306T100000
DTSTAMP:20260425T015231Z
UID:fs-AFLABS-URNIK:srecanje:6112-2024-03-06 08:00:00+01:00
DESCRIPTION:Predmet: Geometric Product Specifications (GPSE)\, Lectures (P
 )\nLetniki: Erasmus (Erasmus)\nIzvajalci: Robert Kunc\nProstor: Lecture ha
 ll I/4A
END:VEVENT
BEGIN:VEVENT
SUMMARY:Documentation and document management system (DDSP)\, Lectures (P)
DTSTART;TZID=Europe/Ljubljana:20240222T153000
DTEND;TZID=Europe/Ljubljana:20240222T173000
DTSTAMP:20260425T015231Z
UID:fs-AFLABS-URNIK:srecanje:8457-2024-02-22 15:30:00+01:00
DESCRIPTION:Predmet: Documentation and document management system (DDSP)\,
  Lectures (P)\nLetniki: Design of machines and devices (PAP-2)\nIzvajalci:
  Robert Kunc\, Samo Zupan\nProstor: Lecture hall III/3A
END:VEVENT
BEGIN:VEVENT
SUMMARY:Documentation and document management system (DDSP)\, Lectures (P)
DTSTART;TZID=Europe/Ljubljana:20240229T153000
DTEND;TZID=Europe/Ljubljana:20240229T173000
DTSTAMP:20260425T015231Z
UID:fs-AFLABS-URNIK:srecanje:8457-2024-02-29 15:30:00+01:00
DESCRIPTION:Predmet: Documentation and document management system (DDSP)\,
  Lectures (P)\nLetniki: Design of machines and devices (PAP-2)\nIzvajalci:
  Robert Kunc\, Samo Zupan\nProstor: Lecture hall III/3A
END:VEVENT
BEGIN:VEVENT
SUMMARY:Documentation and document management system (DDSP)\, Lectures (P)
DTSTART;TZID=Europe/Ljubljana:20240307T153000
DTEND;TZID=Europe/Ljubljana:20240307T173000
DTSTAMP:20260425T015231Z
UID:fs-AFLABS-URNIK:srecanje:8457-2024-03-07 15:30:00+01:00
DESCRIPTION:Predmet: Documentation and document management system (DDSP)\,
  Lectures (P)\nLetniki: Design of machines and devices (PAP-2)\nIzvajalci:
  Robert Kunc\, Samo Zupan\nProstor: Lecture hall III/3A
END:VEVENT
BEGIN:VEVENT
SUMMARY:Izpit: Mehanizmi (6043)
DTSTART;TZID=Europe/Ljubljana:20240125T130000
DTEND;TZID=Europe/Ljubljana:20240125T160000
DTSTAMP:20260425T015231Z
UID:fs-AFLABS-URNIK:rezervacija:3642
CATEGORIES:Reservation
COLOR:royalblue
DESCRIPTION:Predmeti: \nLetniki: \nIzvajalci: Robert Kunc\nProstori: Lectu
 re hall II/5
LOCATION:Lecture hall II/5
ORGANIZER:Robert Kunc
X-WR-TIMEZONE:Europe/Ljubljana
END:VEVENT
BEGIN:VEVENT
SUMMARY:Izpit: Mehanizmi (6043) - 1. letnik
DTSTART;TZID=Europe/Ljubljana:20240125T130000
DTEND;TZID=Europe/Ljubljana:20240125T160000
DTSTAMP:20260425T015231Z
UID:fs-AFLABS-URNIK:rezervacija:3643
CATEGORIES:Reservation
COLOR:royalblue
DESCRIPTION:Predmeti: \nLetniki: \nIzvajalci: Robert Kunc\nProstori: Lectu
 re hall II/5
LOCATION:Lecture hall II/5
ORGANIZER:Robert Kunc
X-WR-TIMEZONE:Europe/Ljubljana
END:VEVENT
BEGIN:VEVENT
SUMMARY:Izpit: Tehnično risanje
DTSTART;TZID=Europe/Ljubljana:20240126T150000
DTEND;TZID=Europe/Ljubljana:20240126T180000
DTSTAMP:20260425T015231Z
UID:fs-AFLABS-URNIK:rezervacija:3699
ATTENDEE:PAP-1 (PAP-1)
CATEGORIES:Reservation
COLOR:royalblue
DESCRIPTION:Predmeti: Technical drawing (THRP)\nLetniki: PAP-1 (PAP-1)\nIz
 vajalci: Robert Kunc\nProstori: Lecture hall V/2\, Lecture hall V/8
LOCATION:Lecture hall V/2\, Lecture hall V/8
ORGANIZER:Robert Kunc
X-WR-TIMEZONE:Europe/Ljubljana
END:VEVENT
BEGIN:VEVENT
SUMMARY:Izpit: Finomehanika (3107)
DTSTART;TZID=Europe/Ljubljana:20240201T080000
DTEND;TZID=Europe/Ljubljana:20240201T110000
DTSTAMP:20260425T015231Z
UID:fs-AFLABS-URNIK:rezervacija:3746
CATEGORIES:Reservation
COLOR:royalblue
DESCRIPTION:Predmeti: \nLetniki: \nIzvajalci: Robert Kunc\nProstori: Lectu
 re hall III/2
LOCATION:Lecture hall III/2
ORGANIZER:Robert Kunc
X-WR-TIMEZONE:Europe/Ljubljana
END:VEVENT
BEGIN:VEVENT
SUMMARY:Izpit: Mehanizmi (3064)
DTSTART;TZID=Europe/Ljubljana:20240201T080000
DTEND;TZID=Europe/Ljubljana:20240201T110000
DTSTAMP:20260425T015231Z
UID:fs-AFLABS-URNIK:rezervacija:3747
CATEGORIES:Reservation
COLOR:royalblue
DESCRIPTION:Predmeti: \nLetniki: \nIzvajalci: Robert Kunc\nProstori: Lectu
 re hall III/2
LOCATION:Lecture hall III/2
ORGANIZER:Robert Kunc
X-WR-TIMEZONE:Europe/Ljubljana
END:VEVENT
BEGIN:VEVENT
SUMMARY:Izpit: Analiza in sinteza mehanizmov
DTSTART;TZID=Europe/Ljubljana:20240201T080000
DTEND;TZID=Europe/Ljubljana:20240201T110000
DTSTAMP:20260425T015231Z
UID:fs-AFLABS-URNIK:rezervacija:3748
ATTENDEE:Design of machines and devices (PAP-3)
CATEGORIES:Reservation
COLOR:royalblue
DESCRIPTION:Predmeti: Mechanisms analysis and synthesis (ASMP)\nLetniki: D
 esign of machines and devices (PAP-3)\nIzvajalci: Robert Kunc\nProstori: L
 ecture hall III/2
LOCATION:Lecture hall III/2
ORGANIZER:Robert Kunc
X-WR-TIMEZONE:Europe/Ljubljana
END:VEVENT
BEGIN:VEVENT
SUMMARY:Izpit: Tehnično risanje in računalniško modeliranje geometrije
DTSTART;TZID=Europe/Ljubljana:20240130T140000
DTEND;TZID=Europe/Ljubljana:20240130T170000
DTSTAMP:20260425T015231Z
UID:fs-AFLABS-URNIK:rezervacija:3767
ATTENDEE:RRP-1 (RRP-1)
CATEGORIES:Reservation
COLOR:royalblue
DESCRIPTION:Predmeti: Technical drawing and computer aided modelling of ge
 ometry (TRRR)\nLetniki: RRP-1 (RRP-1)\nIzvajalci: Robert Kunc\nProstori: L
 ecture hall III/4\, Lecture hall IV/2\, Lecture hall IV/4\, Lecture hall V
 /2\, Lecture hall V/8
LOCATION:Lecture hall III/4\, Lecture hall IV/2\, Lecture hall IV/4\, Lect
 ure hall V/2\, Lecture hall V/8
ORGANIZER:Robert Kunc
X-WR-TIMEZONE:Europe/Ljubljana
END:VEVENT
BEGIN:VEVENT
SUMMARY:Izpit: Tehniška dokumentacija (3003)
DTSTART;TZID=Europe/Ljubljana:20240209T080000
DTEND;TZID=Europe/Ljubljana:20240209T110000
DTSTAMP:20260425T015231Z
UID:fs-AFLABS-URNIK:rezervacija:3880
CATEGORIES:Reservation
COLOR:royalblue
DESCRIPTION:Predmeti: \nLetniki: \nIzvajalci: Robert Kunc\nProstori: Lectu
 re hall V/2
LOCATION:Lecture hall V/2
ORGANIZER:Robert Kunc
X-WR-TIMEZONE:Europe/Ljubljana
END:VEVENT
BEGIN:VEVENT
SUMMARY:Izpit: Tehnično risanje
DTSTART;TZID=Europe/Ljubljana:20240209T080000
DTEND;TZID=Europe/Ljubljana:20240209T110000
DTSTAMP:20260425T015231Z
UID:fs-AFLABS-URNIK:rezervacija:3923
ATTENDEE:PAP-1 (PAP-1)
CATEGORIES:Reservation
COLOR:royalblue
DESCRIPTION:Predmeti: Technical drawing (THRP)\nLetniki: PAP-1 (PAP-1)\nIz
 vajalci: Robert Kunc\nProstori: Lecture hall V/2\, Lecture hall V/8
LOCATION:Lecture hall V/2\, Lecture hall V/8
ORGANIZER:Robert Kunc
X-WR-TIMEZONE:Europe/Ljubljana
END:VEVENT
BEGIN:VEVENT
SUMMARY:Izpit: Analiza in sinteza mehanizmov
DTSTART;TZID=Europe/Ljubljana:20240215T120000
DTEND;TZID=Europe/Ljubljana:20240215T150000
DTSTAMP:20260425T015231Z
UID:fs-AFLABS-URNIK:rezervacija:3973
ATTENDEE:Design of machines and devices (PAP-3)
CATEGORIES:Reservation
COLOR:royalblue
DESCRIPTION:Predmeti: Mechanisms analysis and synthesis (ASMP)\nLetniki: D
 esign of machines and devices (PAP-3)\nIzvajalci: Robert Kunc\nProstori: L
 ecture hall III/2
LOCATION:Lecture hall III/2
ORGANIZER:Robert Kunc
X-WR-TIMEZONE:Europe/Ljubljana
END:VEVENT
BEGIN:VEVENT
SUMMARY:Izpit: Tehnično risanje in računalniško modeliranje geometrije 
 (2005-U)
DTSTART;TZID=Europe/Ljubljana:20240213T140000
DTEND;TZID=Europe/Ljubljana:20240213T170000
DTSTAMP:20260425T015231Z
UID:fs-AFLABS-URNIK:rezervacija:4258
CATEGORIES:Reservation
COLOR:royalblue
DESCRIPTION:Predmeti: \nLetniki: \nIzvajalci: Robert Kunc\nProstori: Lectu
 re hall V/2\, Lecture hall V/8
LOCATION:Lecture hall V/2\, Lecture hall V/8
ORGANIZER:Robert Kunc
X-WR-TIMEZONE:Europe/Ljubljana
END:VEVENT
END:VCALENDAR
