BEGIN:VCALENDAR
VERSION:2.0
PRODID:-//AFLabs urnik izvoz - fs//aflabs.si//SI
NAME:UL FS Urnik
X-WR-CALNAME:UL FS Urnik
DTSTAMP:20260425T140108Z
REFRESH-INTERVAL:PT1H
SOURCE:https://urnik.fs.uni-lj.si/en/teacher/749/?day=2026-04-27&export=1
URL:https://urnik.fs.uni-lj.si/en/teacher/749/?day=2026-04-27&export=1
X-PUBLISHED-TTL:PT1H
X-WR-TIMEZONE:Europe/Ljubljana
BEGIN:VTIMEZONE
TZID:Europe/Ljubljana
BEGIN:DAYLIGHT
DTSTART:20260329T020000
RDATE:20260329T020000
RDATE:20270328T020000
TZNAME:CEST
TZOFFSETFROM:+0100
TZOFFSETTO:+0200
END:DAYLIGHT
BEGIN:STANDARD
DTSTART:20261025T030000
RDATE:20261025T030000
RDATE:20271031T030000
TZNAME:CET
TZOFFSETFROM:+0200
TZOFFSETTO:+0100
END:STANDARD
END:VTIMEZONE
BEGIN:VEVENT
SUMMARY:Geometric product specifications (GSPM)\, Lectures (P)
DTSTART;TZID=Europe/Ljubljana:20260218T100000
DTEND;TZID=Europe/Ljubljana:20260218T120000
DTSTAMP:20260425T140108Z
UID:fs-AFLABS-URNIK:srecanje:16407-2026-02-18 10:00:00+01:00
DESCRIPTION:Predmet: Geometric product specifications (GSPM)\, Lectures (P
 )\nLetniki: Engineering design (MAG-1)\nIzvajalci: Robert Kunc\, Samo Zupa
 n\nProstor: Lecture hall IV/2
END:VEVENT
BEGIN:VEVENT
SUMMARY:Geometric product specifications (GSPM)\, Lectures (P)
DTSTART;TZID=Europe/Ljubljana:20260225T100000
DTEND;TZID=Europe/Ljubljana:20260225T120000
DTSTAMP:20260425T140108Z
UID:fs-AFLABS-URNIK:srecanje:16407-2026-02-25 10:00:00+01:00
DESCRIPTION:Predmet: Geometric product specifications (GSPM)\, Lectures (P
 )\nLetniki: Engineering design (MAG-1)\nIzvajalci: Robert Kunc\, Samo Zupa
 n\nProstor: Lecture hall IV/2
END:VEVENT
BEGIN:VEVENT
SUMMARY:Geometric product specifications (GSPM)\, Lectures (P)
DTSTART;TZID=Europe/Ljubljana:20260304T100000
DTEND;TZID=Europe/Ljubljana:20260304T120000
DTSTAMP:20260425T140108Z
UID:fs-AFLABS-URNIK:srecanje:16407-2026-03-04 10:00:00+01:00
DESCRIPTION:Predmet: Geometric product specifications (GSPM)\, Lectures (P
 )\nLetniki: Engineering design (MAG-1)\nIzvajalci: Robert Kunc\, Samo Zupa
 n\nProstor: Lecture hall IV/2
END:VEVENT
BEGIN:VEVENT
SUMMARY:Geometric product specifications (GSPM)\, Lectures (P)
DTSTART;TZID=Europe/Ljubljana:20260311T100000
DTEND;TZID=Europe/Ljubljana:20260311T120000
DTSTAMP:20260425T140108Z
UID:fs-AFLABS-URNIK:srecanje:16407-2026-03-11 10:00:00+01:00
DESCRIPTION:Predmet: Geometric product specifications (GSPM)\, Lectures (P
 )\nLetniki: Engineering design (MAG-1)\nIzvajalci: Robert Kunc\, Samo Zupa
 n\nProstor: Lecture hall IV/2
END:VEVENT
BEGIN:VEVENT
SUMMARY:Geometric product specifications (GSPM)\, Lectures (P)
DTSTART;TZID=Europe/Ljubljana:20260318T100000
DTEND;TZID=Europe/Ljubljana:20260318T120000
DTSTAMP:20260425T140108Z
UID:fs-AFLABS-URNIK:srecanje:16407-2026-03-18 10:00:00+01:00
DESCRIPTION:Predmet: Geometric product specifications (GSPM)\, Lectures (P
 )\nLetniki: Engineering design (MAG-1)\nIzvajalci: Robert Kunc\, Samo Zupa
 n\nProstor: Lecture hall IV/2
END:VEVENT
BEGIN:VEVENT
SUMMARY:Geometric product specifications (GSPM)\, Lectures (P)
DTSTART;TZID=Europe/Ljubljana:20260325T100000
DTEND;TZID=Europe/Ljubljana:20260325T120000
DTSTAMP:20260425T140108Z
UID:fs-AFLABS-URNIK:srecanje:16407-2026-03-25 10:00:00+01:00
DESCRIPTION:Predmet: Geometric product specifications (GSPM)\, Lectures (P
 )\nLetniki: Engineering design (MAG-1)\nIzvajalci: Robert Kunc\, Samo Zupa
 n\nProstor: Lecture hall IV/2
END:VEVENT
BEGIN:VEVENT
SUMMARY:Geometric product specifications (GSPM)\, Lectures (P)
DTSTART;TZID=Europe/Ljubljana:20260401T100000
DTEND;TZID=Europe/Ljubljana:20260401T120000
DTSTAMP:20260425T140108Z
UID:fs-AFLABS-URNIK:srecanje:16407-2026-04-01 10:00:00+02:00
DESCRIPTION:Predmet: Geometric product specifications (GSPM)\, Lectures (P
 )\nLetniki: Engineering design (MAG-1)\nIzvajalci: Robert Kunc\, Samo Zupa
 n\nProstor: Lecture hall IV/2
END:VEVENT
BEGIN:VEVENT
SUMMARY:Geometric product specifications (GSPM)\, Lectures (P)
DTSTART;TZID=Europe/Ljubljana:20260408T100000
DTEND;TZID=Europe/Ljubljana:20260408T120000
DTSTAMP:20260425T140108Z
UID:fs-AFLABS-URNIK:srecanje:16407-2026-04-08 10:00:00+02:00
DESCRIPTION:Predmet: Geometric product specifications (GSPM)\, Lectures (P
 )\nLetniki: Engineering design (MAG-1)\nIzvajalci: Robert Kunc\, Samo Zupa
 n\nProstor: Lecture hall IV/2
END:VEVENT
BEGIN:VEVENT
SUMMARY:Geometric product specifications (GSPM)\, Lectures (P)
DTSTART;TZID=Europe/Ljubljana:20260415T100000
DTEND;TZID=Europe/Ljubljana:20260415T120000
DTSTAMP:20260425T140108Z
UID:fs-AFLABS-URNIK:srecanje:16407-2026-04-15 10:00:00+02:00
DESCRIPTION:Predmet: Geometric product specifications (GSPM)\, Lectures (P
 )\nLetniki: Engineering design (MAG-1)\nIzvajalci: Robert Kunc\, Samo Zupa
 n\nProstor: Lecture hall IV/2
END:VEVENT
BEGIN:VEVENT
SUMMARY:Geometric product specifications (GSPM)\, Lectures (P)
DTSTART;TZID=Europe/Ljubljana:20260422T100000
DTEND;TZID=Europe/Ljubljana:20260422T120000
DTSTAMP:20260425T140108Z
UID:fs-AFLABS-URNIK:srecanje:16407-2026-04-22 10:00:00+02:00
DESCRIPTION:Predmet: Geometric product specifications (GSPM)\, Lectures (P
 )\nLetniki: Engineering design (MAG-1)\nIzvajalci: Robert Kunc\, Samo Zupa
 n\nProstor: Lecture hall IV/2
END:VEVENT
BEGIN:VEVENT
SUMMARY:Geometric product specifications (GSPM)\, Lectures (P)
DTSTART;TZID=Europe/Ljubljana:20260429T100000
DTEND;TZID=Europe/Ljubljana:20260429T120000
DTSTAMP:20260425T140108Z
UID:fs-AFLABS-URNIK:srecanje:16407-2026-04-29 10:00:00+02:00
DESCRIPTION:Predmet: Geometric product specifications (GSPM)\, Lectures (P
 )\nLetniki: Engineering design (MAG-1)\nIzvajalci: Robert Kunc\, Samo Zupa
 n\nProstor: Lecture hall IV/2
END:VEVENT
BEGIN:VEVENT
SUMMARY:Geometric product specifications (GSPM)\, Lectures (P)
DTSTART;TZID=Europe/Ljubljana:20260506T100000
DTEND;TZID=Europe/Ljubljana:20260506T120000
DTSTAMP:20260425T140108Z
UID:fs-AFLABS-URNIK:srecanje:16407-2026-05-06 10:00:00+02:00
DESCRIPTION:Predmet: Geometric product specifications (GSPM)\, Lectures (P
 )\nLetniki: Engineering design (MAG-1)\nIzvajalci: Robert Kunc\, Samo Zupa
 n\nProstor: Lecture hall IV/2
END:VEVENT
BEGIN:VEVENT
SUMMARY:Geometric product specifications (GSPM)\, Lectures (P)
DTSTART;TZID=Europe/Ljubljana:20260513T100000
DTEND;TZID=Europe/Ljubljana:20260513T120000
DTSTAMP:20260425T140108Z
UID:fs-AFLABS-URNIK:srecanje:16407-2026-05-13 10:00:00+02:00
DESCRIPTION:Predmet: Geometric product specifications (GSPM)\, Lectures (P
 )\nLetniki: Engineering design (MAG-1)\nIzvajalci: Robert Kunc\, Samo Zupa
 n\nProstor: Lecture hall IV/2
END:VEVENT
BEGIN:VEVENT
SUMMARY:Geometric product specifications (GSPM)\, Lectures (P)
DTSTART;TZID=Europe/Ljubljana:20260520T100000
DTEND;TZID=Europe/Ljubljana:20260520T120000
DTSTAMP:20260425T140108Z
UID:fs-AFLABS-URNIK:srecanje:16407-2026-05-20 10:00:00+02:00
DESCRIPTION:Predmet: Geometric product specifications (GSPM)\, Lectures (P
 )\nLetniki: Engineering design (MAG-1)\nIzvajalci: Robert Kunc\, Samo Zupa
 n\nProstor: Lecture hall IV/2
END:VEVENT
BEGIN:VEVENT
SUMMARY:Geometric product specifications (GSPM)\, Lectures (P)
DTSTART;TZID=Europe/Ljubljana:20260527T100000
DTEND;TZID=Europe/Ljubljana:20260527T120000
DTSTAMP:20260425T140108Z
UID:fs-AFLABS-URNIK:srecanje:16407-2026-05-27 10:00:00+02:00
DESCRIPTION:Predmet: Geometric product specifications (GSPM)\, Lectures (P
 )\nLetniki: Engineering design (MAG-1)\nIzvajalci: Robert Kunc\, Samo Zupa
 n\nProstor: Lecture hall IV/2
END:VEVENT
BEGIN:VEVENT
SUMMARY:Geometric Product Specifications (GPSE)\, Lectures (P)
DTSTART;TZID=Europe/Ljubljana:20260218T080000
DTEND;TZID=Europe/Ljubljana:20260218T100000
DTSTAMP:20260425T140108Z
UID:fs-AFLABS-URNIK:srecanje:14679-2026-02-18 08:00:00+01:00
DESCRIPTION:Predmet: Geometric Product Specifications (GPSE)\, Lectures (P
 )\nLetniki: Erasmus (Erasmus)\nIzvajalci: Robert Kunc\, Samo Zupan\nProsto
 r: Lecture hall I/4A
END:VEVENT
BEGIN:VEVENT
SUMMARY:Geometric Product Specifications (GPSE)\, Lectures (P)
DTSTART;TZID=Europe/Ljubljana:20260225T080000
DTEND;TZID=Europe/Ljubljana:20260225T100000
DTSTAMP:20260425T140108Z
UID:fs-AFLABS-URNIK:srecanje:14679-2026-02-25 08:00:00+01:00
DESCRIPTION:Predmet: Geometric Product Specifications (GPSE)\, Lectures (P
 )\nLetniki: Erasmus (Erasmus)\nIzvajalci: Robert Kunc\, Samo Zupan\nProsto
 r: Lecture hall I/4A
END:VEVENT
BEGIN:VEVENT
SUMMARY:Geometric Product Specifications (GPSE)\, Lectures (P)
DTSTART;TZID=Europe/Ljubljana:20260304T080000
DTEND;TZID=Europe/Ljubljana:20260304T100000
DTSTAMP:20260425T140108Z
UID:fs-AFLABS-URNIK:srecanje:14679-2026-03-04 08:00:00+01:00
DESCRIPTION:Predmet: Geometric Product Specifications (GPSE)\, Lectures (P
 )\nLetniki: Erasmus (Erasmus)\nIzvajalci: Robert Kunc\, Samo Zupan\nProsto
 r: Lecture hall I/4A
END:VEVENT
BEGIN:VEVENT
SUMMARY:Geometric Product Specifications (GPSE)\, Lectures (P)
DTSTART;TZID=Europe/Ljubljana:20260311T080000
DTEND;TZID=Europe/Ljubljana:20260311T100000
DTSTAMP:20260425T140108Z
UID:fs-AFLABS-URNIK:srecanje:14679-2026-03-11 08:00:00+01:00
DESCRIPTION:Predmet: Geometric Product Specifications (GPSE)\, Lectures (P
 )\nLetniki: Erasmus (Erasmus)\nIzvajalci: Robert Kunc\, Samo Zupan\nProsto
 r: Lecture hall I/4A
END:VEVENT
BEGIN:VEVENT
SUMMARY:Geometric Product Specifications (GPSE)\, Lectures (P)
DTSTART;TZID=Europe/Ljubljana:20260318T080000
DTEND;TZID=Europe/Ljubljana:20260318T100000
DTSTAMP:20260425T140108Z
UID:fs-AFLABS-URNIK:srecanje:14679-2026-03-18 08:00:00+01:00
DESCRIPTION:Predmet: Geometric Product Specifications (GPSE)\, Lectures (P
 )\nLetniki: Erasmus (Erasmus)\nIzvajalci: Robert Kunc\, Samo Zupan\nProsto
 r: Lecture hall I/4A
END:VEVENT
BEGIN:VEVENT
SUMMARY:Geometric Product Specifications (GPSE)\, Lectures (P)
DTSTART;TZID=Europe/Ljubljana:20260325T080000
DTEND;TZID=Europe/Ljubljana:20260325T100000
DTSTAMP:20260425T140108Z
UID:fs-AFLABS-URNIK:srecanje:14679-2026-03-25 08:00:00+01:00
DESCRIPTION:Predmet: Geometric Product Specifications (GPSE)\, Lectures (P
 )\nLetniki: Erasmus (Erasmus)\nIzvajalci: Robert Kunc\, Samo Zupan\nProsto
 r: Lecture hall I/4A
END:VEVENT
BEGIN:VEVENT
SUMMARY:Geometric Product Specifications (GPSE)\, Lectures (P)
DTSTART;TZID=Europe/Ljubljana:20260401T080000
DTEND;TZID=Europe/Ljubljana:20260401T100000
DTSTAMP:20260425T140108Z
UID:fs-AFLABS-URNIK:srecanje:14679-2026-04-01 08:00:00+02:00
DESCRIPTION:Predmet: Geometric Product Specifications (GPSE)\, Lectures (P
 )\nLetniki: Erasmus (Erasmus)\nIzvajalci: Robert Kunc\, Samo Zupan\nProsto
 r: Lecture hall I/4A
END:VEVENT
BEGIN:VEVENT
SUMMARY:Geometric Product Specifications (GPSE)\, Lectures (P)
DTSTART;TZID=Europe/Ljubljana:20260408T080000
DTEND;TZID=Europe/Ljubljana:20260408T100000
DTSTAMP:20260425T140108Z
UID:fs-AFLABS-URNIK:srecanje:14679-2026-04-08 08:00:00+02:00
DESCRIPTION:Predmet: Geometric Product Specifications (GPSE)\, Lectures (P
 )\nLetniki: Erasmus (Erasmus)\nIzvajalci: Robert Kunc\, Samo Zupan\nProsto
 r: Lecture hall I/4A
END:VEVENT
BEGIN:VEVENT
SUMMARY:Geometric Product Specifications (GPSE)\, Lectures (P)
DTSTART;TZID=Europe/Ljubljana:20260415T080000
DTEND;TZID=Europe/Ljubljana:20260415T100000
DTSTAMP:20260425T140108Z
UID:fs-AFLABS-URNIK:srecanje:14679-2026-04-15 08:00:00+02:00
DESCRIPTION:Predmet: Geometric Product Specifications (GPSE)\, Lectures (P
 )\nLetniki: Erasmus (Erasmus)\nIzvajalci: Robert Kunc\, Samo Zupan\nProsto
 r: Lecture hall I/4A
END:VEVENT
BEGIN:VEVENT
SUMMARY:Geometric Product Specifications (GPSE)\, Lectures (P)
DTSTART;TZID=Europe/Ljubljana:20260422T080000
DTEND;TZID=Europe/Ljubljana:20260422T100000
DTSTAMP:20260425T140108Z
UID:fs-AFLABS-URNIK:srecanje:14679-2026-04-22 08:00:00+02:00
DESCRIPTION:Predmet: Geometric Product Specifications (GPSE)\, Lectures (P
 )\nLetniki: Erasmus (Erasmus)\nIzvajalci: Robert Kunc\, Samo Zupan\nProsto
 r: Lecture hall I/4A
END:VEVENT
BEGIN:VEVENT
SUMMARY:Geometric Product Specifications (GPSE)\, Lectures (P)
DTSTART;TZID=Europe/Ljubljana:20260429T080000
DTEND;TZID=Europe/Ljubljana:20260429T100000
DTSTAMP:20260425T140108Z
UID:fs-AFLABS-URNIK:srecanje:14679-2026-04-29 08:00:00+02:00
DESCRIPTION:Predmet: Geometric Product Specifications (GPSE)\, Lectures (P
 )\nLetniki: Erasmus (Erasmus)\nIzvajalci: Robert Kunc\, Samo Zupan\nProsto
 r: Lecture hall I/4A
END:VEVENT
BEGIN:VEVENT
SUMMARY:Geometric Product Specifications (GPSE)\, Lectures (P)
DTSTART;TZID=Europe/Ljubljana:20260506T080000
DTEND;TZID=Europe/Ljubljana:20260506T100000
DTSTAMP:20260425T140108Z
UID:fs-AFLABS-URNIK:srecanje:14679-2026-05-06 08:00:00+02:00
DESCRIPTION:Predmet: Geometric Product Specifications (GPSE)\, Lectures (P
 )\nLetniki: Erasmus (Erasmus)\nIzvajalci: Robert Kunc\, Samo Zupan\nProsto
 r: Lecture hall I/4A
END:VEVENT
BEGIN:VEVENT
SUMMARY:Geometric Product Specifications (GPSE)\, Lectures (P)
DTSTART;TZID=Europe/Ljubljana:20260513T080000
DTEND;TZID=Europe/Ljubljana:20260513T100000
DTSTAMP:20260425T140108Z
UID:fs-AFLABS-URNIK:srecanje:14679-2026-05-13 08:00:00+02:00
DESCRIPTION:Predmet: Geometric Product Specifications (GPSE)\, Lectures (P
 )\nLetniki: Erasmus (Erasmus)\nIzvajalci: Robert Kunc\, Samo Zupan\nProsto
 r: Lecture hall I/4A
END:VEVENT
BEGIN:VEVENT
SUMMARY:Geometric Product Specifications (GPSE)\, Lectures (P)
DTSTART;TZID=Europe/Ljubljana:20260520T080000
DTEND;TZID=Europe/Ljubljana:20260520T100000
DTSTAMP:20260425T140108Z
UID:fs-AFLABS-URNIK:srecanje:14679-2026-05-20 08:00:00+02:00
DESCRIPTION:Predmet: Geometric Product Specifications (GPSE)\, Lectures (P
 )\nLetniki: Erasmus (Erasmus)\nIzvajalci: Robert Kunc\, Samo Zupan\nProsto
 r: Lecture hall I/4A
END:VEVENT
BEGIN:VEVENT
SUMMARY:Geometric Product Specifications (GPSE)\, Lectures (P)
DTSTART;TZID=Europe/Ljubljana:20260527T080000
DTEND;TZID=Europe/Ljubljana:20260527T100000
DTSTAMP:20260425T140108Z
UID:fs-AFLABS-URNIK:srecanje:14679-2026-05-27 08:00:00+02:00
DESCRIPTION:Predmet: Geometric Product Specifications (GPSE)\, Lectures (P
 )\nLetniki: Erasmus (Erasmus)\nIzvajalci: Robert Kunc\, Samo Zupan\nProsto
 r: Lecture hall I/4A
END:VEVENT
BEGIN:VEVENT
SUMMARY:Documentation and document management system (DDSP)\, Lectures (P)
DTSTART;TZID=Europe/Ljubljana:20260219T153000
DTEND;TZID=Europe/Ljubljana:20260219T173000
DTSTAMP:20260425T140108Z
UID:fs-AFLABS-URNIK:srecanje:14614-2026-02-19 15:30:00+01:00
DESCRIPTION:Predmet: Documentation and document management system (DDSP)\,
  Lectures (P)\nLetniki: Design of machines and devices (PAP-2)\nIzvajalci:
  Robert Kunc\, Samo Zupan\nProstor: Lecture hall III/3A
END:VEVENT
BEGIN:VEVENT
SUMMARY:Documentation and document management system (DDSP)\, Lectures (P)
DTSTART;TZID=Europe/Ljubljana:20260226T153000
DTEND;TZID=Europe/Ljubljana:20260226T173000
DTSTAMP:20260425T140108Z
UID:fs-AFLABS-URNIK:srecanje:14614-2026-02-26 15:30:00+01:00
DESCRIPTION:Predmet: Documentation and document management system (DDSP)\,
  Lectures (P)\nLetniki: Design of machines and devices (PAP-2)\nIzvajalci:
  Robert Kunc\, Samo Zupan\nProstor: Lecture hall III/3A
END:VEVENT
BEGIN:VEVENT
SUMMARY:Documentation and document management system (DDSP)\, Lectures (P)
DTSTART;TZID=Europe/Ljubljana:20260305T153000
DTEND;TZID=Europe/Ljubljana:20260305T173000
DTSTAMP:20260425T140108Z
UID:fs-AFLABS-URNIK:srecanje:14614-2026-03-05 15:30:00+01:00
DESCRIPTION:Predmet: Documentation and document management system (DDSP)\,
  Lectures (P)\nLetniki: Design of machines and devices (PAP-2)\nIzvajalci:
  Robert Kunc\, Samo Zupan\nProstor: Lecture hall III/3A
END:VEVENT
BEGIN:VEVENT
SUMMARY:Documentation and document management system (DDSP)\, Lectures (P)
DTSTART;TZID=Europe/Ljubljana:20260312T153000
DTEND;TZID=Europe/Ljubljana:20260312T173000
DTSTAMP:20260425T140108Z
UID:fs-AFLABS-URNIK:srecanje:14614-2026-03-12 15:30:00+01:00
DESCRIPTION:Predmet: Documentation and document management system (DDSP)\,
  Lectures (P)\nLetniki: Design of machines and devices (PAP-2)\nIzvajalci:
  Robert Kunc\, Samo Zupan\nProstor: Lecture hall III/3A
END:VEVENT
BEGIN:VEVENT
SUMMARY:Documentation and document management system (DDSP)\, Lectures (P)
DTSTART;TZID=Europe/Ljubljana:20260319T153000
DTEND;TZID=Europe/Ljubljana:20260319T173000
DTSTAMP:20260425T140108Z
UID:fs-AFLABS-URNIK:srecanje:14614-2026-03-19 15:30:00+01:00
DESCRIPTION:Predmet: Documentation and document management system (DDSP)\,
  Lectures (P)\nLetniki: Design of machines and devices (PAP-2)\nIzvajalci:
  Robert Kunc\, Samo Zupan\nProstor: Lecture hall III/3A
END:VEVENT
BEGIN:VEVENT
SUMMARY:Documentation and document management system (DDSP)\, Lectures (P)
DTSTART;TZID=Europe/Ljubljana:20260326T153000
DTEND;TZID=Europe/Ljubljana:20260326T173000
DTSTAMP:20260425T140108Z
UID:fs-AFLABS-URNIK:srecanje:14614-2026-03-26 15:30:00+01:00
DESCRIPTION:Predmet: Documentation and document management system (DDSP)\,
  Lectures (P)\nLetniki: Design of machines and devices (PAP-2)\nIzvajalci:
  Robert Kunc\, Samo Zupan\nProstor: Lecture hall III/3A
END:VEVENT
BEGIN:VEVENT
SUMMARY:Documentation and document management system (DDSP)\, Lectures (P)
DTSTART;TZID=Europe/Ljubljana:20260402T153000
DTEND;TZID=Europe/Ljubljana:20260402T173000
DTSTAMP:20260425T140108Z
UID:fs-AFLABS-URNIK:srecanje:14614-2026-04-02 15:30:00+02:00
DESCRIPTION:Predmet: Documentation and document management system (DDSP)\,
  Lectures (P)\nLetniki: Design of machines and devices (PAP-2)\nIzvajalci:
  Robert Kunc\, Samo Zupan\nProstor: Lecture hall III/3A
END:VEVENT
BEGIN:VEVENT
SUMMARY:Documentation and document management system (DDSP)\, Lectures (P)
DTSTART;TZID=Europe/Ljubljana:20260409T153000
DTEND;TZID=Europe/Ljubljana:20260409T173000
DTSTAMP:20260425T140108Z
UID:fs-AFLABS-URNIK:srecanje:14614-2026-04-09 15:30:00+02:00
DESCRIPTION:Predmet: Documentation and document management system (DDSP)\,
  Lectures (P)\nLetniki: Design of machines and devices (PAP-2)\nIzvajalci:
  Robert Kunc\, Samo Zupan\nProstor: Lecture hall III/3A
END:VEVENT
BEGIN:VEVENT
SUMMARY:Documentation and document management system (DDSP)\, Lectures (P)
DTSTART;TZID=Europe/Ljubljana:20260416T153000
DTEND;TZID=Europe/Ljubljana:20260416T173000
DTSTAMP:20260425T140108Z
UID:fs-AFLABS-URNIK:srecanje:14614-2026-04-16 15:30:00+02:00
DESCRIPTION:Predmet: Documentation and document management system (DDSP)\,
  Lectures (P)\nLetniki: Design of machines and devices (PAP-2)\nIzvajalci:
  Robert Kunc\, Samo Zupan\nProstor: Lecture hall III/3A
END:VEVENT
BEGIN:VEVENT
SUMMARY:Documentation and document management system (DDSP)\, Lectures (P)
DTSTART;TZID=Europe/Ljubljana:20260423T153000
DTEND;TZID=Europe/Ljubljana:20260423T173000
DTSTAMP:20260425T140108Z
UID:fs-AFLABS-URNIK:srecanje:14614-2026-04-23 15:30:00+02:00
DESCRIPTION:Predmet: Documentation and document management system (DDSP)\,
  Lectures (P)\nLetniki: Design of machines and devices (PAP-2)\nIzvajalci:
  Robert Kunc\, Samo Zupan\nProstor: Lecture hall III/3A
END:VEVENT
BEGIN:VEVENT
SUMMARY:Documentation and document management system (DDSP)\, Lectures (P)
DTSTART;TZID=Europe/Ljubljana:20260430T153000
DTEND;TZID=Europe/Ljubljana:20260430T173000
DTSTAMP:20260425T140108Z
UID:fs-AFLABS-URNIK:srecanje:14614-2026-04-30 15:30:00+02:00
DESCRIPTION:Predmet: Documentation and document management system (DDSP)\,
  Lectures (P)\nLetniki: Design of machines and devices (PAP-2)\nIzvajalci:
  Robert Kunc\, Samo Zupan\nProstor: Lecture hall III/3A
END:VEVENT
BEGIN:VEVENT
SUMMARY:Documentation and document management system (DDSP)\, Lectures (P)
DTSTART;TZID=Europe/Ljubljana:20260507T153000
DTEND;TZID=Europe/Ljubljana:20260507T173000
DTSTAMP:20260425T140108Z
UID:fs-AFLABS-URNIK:srecanje:14614-2026-05-07 15:30:00+02:00
DESCRIPTION:Predmet: Documentation and document management system (DDSP)\,
  Lectures (P)\nLetniki: Design of machines and devices (PAP-2)\nIzvajalci:
  Robert Kunc\, Samo Zupan\nProstor: Lecture hall III/3A
END:VEVENT
BEGIN:VEVENT
SUMMARY:Documentation and document management system (DDSP)\, Lectures (P)
DTSTART;TZID=Europe/Ljubljana:20260514T153000
DTEND;TZID=Europe/Ljubljana:20260514T173000
DTSTAMP:20260425T140108Z
UID:fs-AFLABS-URNIK:srecanje:14614-2026-05-14 15:30:00+02:00
DESCRIPTION:Predmet: Documentation and document management system (DDSP)\,
  Lectures (P)\nLetniki: Design of machines and devices (PAP-2)\nIzvajalci:
  Robert Kunc\, Samo Zupan\nProstor: Lecture hall III/3A
END:VEVENT
BEGIN:VEVENT
SUMMARY:Documentation and document management system (DDSP)\, Lectures (P)
DTSTART;TZID=Europe/Ljubljana:20260521T153000
DTEND;TZID=Europe/Ljubljana:20260521T173000
DTSTAMP:20260425T140108Z
UID:fs-AFLABS-URNIK:srecanje:14614-2026-05-21 15:30:00+02:00
DESCRIPTION:Predmet: Documentation and document management system (DDSP)\,
  Lectures (P)\nLetniki: Design of machines and devices (PAP-2)\nIzvajalci:
  Robert Kunc\, Samo Zupan\nProstor: Lecture hall III/3A
END:VEVENT
BEGIN:VEVENT
SUMMARY:Documentation and document management system (DDSP)\, Lectures (P)
DTSTART;TZID=Europe/Ljubljana:20260528T153000
DTEND;TZID=Europe/Ljubljana:20260528T173000
DTSTAMP:20260425T140108Z
UID:fs-AFLABS-URNIK:srecanje:14614-2026-05-28 15:30:00+02:00
DESCRIPTION:Predmet: Documentation and document management system (DDSP)\,
  Lectures (P)\nLetniki: Design of machines and devices (PAP-2)\nIzvajalci:
  Robert Kunc\, Samo Zupan\nProstor: Lecture hall III/3A
END:VEVENT
BEGIN:VEVENT
SUMMARY:Dodatni I.R.
DTSTART;TZID=Europe/Ljubljana:20260319T163000
DTEND;TZID=Europe/Ljubljana:20260319T183000
DTSTAMP:20260425T140108Z
UID:fs-AFLABS-URNIK:rezervacija:13966
ATTENDEE:PAP-1 (PAP-1)
CATEGORIES:Reservation
COLOR:royalblue
DESCRIPTION:Predmeti: Technical drawing (THRP)\nLetniki: PAP-1 (PAP-1)\nIz
 vajalci: Robert Kunc\, Jovan Trajkovski\nProstori: Lecture hall V/2
LOCATION:Lecture hall V/2
ORGANIZER:Robert Kunc, Jovan Trajkovski
X-WR-TIMEZONE:Europe/Ljubljana
END:VEVENT
BEGIN:VEVENT
SUMMARY:Zagovori zaključnih nalog
DTSTART;TZID=Europe/Ljubljana:20260310T090000
DTEND;TZID=Europe/Ljubljana:20260310T100000
DTSTAMP:20260425T140108Z
UID:fs-AFLABS-URNIK:rezervacija:13994
CATEGORIES:Reservation
COLOR:royalblue
DESCRIPTION:Predmeti: \nLetniki: \nIzvajalci: Robert Kunc\, Franci Pušave
 c\, Jovan Trajkovski\nProstori: Lecture hall III/3B
LOCATION:Lecture hall III/3B
ORGANIZER:Robert Kunc, Franci Pušavec, Jovan Trajkovski
X-WR-TIMEZONE:Europe/Ljubljana
END:VEVENT
END:VCALENDAR
