BEGIN:VCALENDAR
VERSION:2.0
PRODID:-//AFLabs urnik izvoz - fs//aflabs.si//SI
NAME:UL FS Urnik
X-WR-CALNAME:UL FS Urnik
DTSTAMP:20260422T185813Z
REFRESH-INTERVAL:PT1H
SOURCE:https://urnik.fs.uni-lj.si/en/teacher/749/?day=2026-07-06&export=1
URL:https://urnik.fs.uni-lj.si/en/teacher/749/?day=2026-07-06&export=1
X-PUBLISHED-TTL:PT1H
X-WR-TIMEZONE:Europe/Ljubljana
BEGIN:VTIMEZONE
TZID:Europe/Ljubljana
BEGIN:DAYLIGHT
DTSTART:20260329T020000
RDATE:20260329T020000
RDATE:20270328T020000
TZNAME:CEST
TZOFFSETFROM:+0100
TZOFFSETTO:+0200
END:DAYLIGHT
BEGIN:STANDARD
DTSTART:20261025T030000
RDATE:20261025T030000
RDATE:20271031T030000
TZNAME:CET
TZOFFSETFROM:+0200
TZOFFSETTO:+0100
END:STANDARD
END:VTIMEZONE
BEGIN:VEVENT
SUMMARY:Izpit: Dokumentacija in dokumentarni sistemi
DTSTART;TZID=Europe/Ljubljana:20260612T080000
DTEND;TZID=Europe/Ljubljana:20260612T100000
DTSTAMP:20260422T185813Z
UID:fs-AFLABS-URNIK:rezervacija:11658
ATTENDEE:Design of machines and devices (PAP-2)
CATEGORIES:Reservation
COLOR:royalblue
DESCRIPTION:Predmeti: Documentation and document management system (DDSP)\
 nLetniki: Design of machines and devices (PAP-2)\nIzvajalci: Robert Kunc\n
 Prostori: Lecture hall V/8
LOCATION:Lecture hall V/8
ORGANIZER:Robert Kunc
X-WR-TIMEZONE:Europe/Ljubljana
END:VEVENT
BEGIN:VEVENT
SUMMARY:Izpit: Geometric Product Specifications
DTSTART;TZID=Europe/Ljubljana:20260619T120000
DTEND;TZID=Europe/Ljubljana:20260619T150000
DTSTAMP:20260422T185813Z
UID:fs-AFLABS-URNIK:rezervacija:11903
ATTENDEE:Erasmus (Erasmus)
CATEGORIES:Reservation
COLOR:royalblue
DESCRIPTION:Predmeti: Geometric Product Specifications (GPSE)\nLetniki: Er
 asmus (Erasmus)\nIzvajalci: Robert Kunc\nProstori: Lecture hall IV/2\, Lec
 ture hall IV/4
LOCATION:Lecture hall IV/2\, Lecture hall IV/4
ORGANIZER:Robert Kunc
X-WR-TIMEZONE:Europe/Ljubljana
END:VEVENT
BEGIN:VEVENT
SUMMARY:Izpit: Geometrijske specifikacije proizvodov
DTSTART;TZID=Europe/Ljubljana:20260619T120000
DTEND;TZID=Europe/Ljubljana:20260619T150000
DTSTAMP:20260422T185813Z
UID:fs-AFLABS-URNIK:rezervacija:11904
ATTENDEE:Engineering design (MAG-1)
CATEGORIES:Reservation
COLOR:royalblue
DESCRIPTION:Predmeti: Geometric product specifications (GSPM)\nLetniki: En
 gineering design (MAG-1)\nIzvajalci: Robert Kunc\nProstori: Lecture hall I
 V/2\, Lecture hall IV/4
LOCATION:Lecture hall IV/2\, Lecture hall IV/4
ORGANIZER:Robert Kunc
X-WR-TIMEZONE:Europe/Ljubljana
END:VEVENT
BEGIN:VEVENT
SUMMARY:Izpit: Geometrijske specifikacije proizvodov
DTSTART;TZID=Europe/Ljubljana:20260619T120000
DTEND;TZID=Europe/Ljubljana:20260619T150000
DTSTAMP:20260422T185813Z
UID:fs-AFLABS-URNIK:rezervacija:11905
ATTENDEE:Engineering design (MAG-1)
CATEGORIES:Reservation
COLOR:royalblue
DESCRIPTION:Predmeti: Geometric product specifications (GSPM)\nLetniki: En
 gineering design (MAG-1)\nIzvajalci: Robert Kunc\nProstori: Lecture hall I
 V/2\, Lecture hall IV/4
LOCATION:Lecture hall IV/2\, Lecture hall IV/4
ORGANIZER:Robert Kunc
X-WR-TIMEZONE:Europe/Ljubljana
END:VEVENT
BEGIN:VEVENT
SUMMARY:Izpit: Analiza in sinteza mehanizmov
DTSTART;TZID=Europe/Ljubljana:20260624T110000
DTEND;TZID=Europe/Ljubljana:20260624T140000
DTSTAMP:20260422T185813Z
UID:fs-AFLABS-URNIK:rezervacija:12170
ATTENDEE:Design of machines and devices (PAP-3)
CATEGORIES:Reservation
COLOR:royalblue
DESCRIPTION:Predmeti: Mechanisms analysis and synthesis (ASMP)\nLetniki: D
 esign of machines and devices (PAP-3)\nIzvajalci: Robert Kunc\nProstori: L
 ecture hall III/4
LOCATION:Lecture hall III/4
ORGANIZER:Robert Kunc
X-WR-TIMEZONE:Europe/Ljubljana
END:VEVENT
BEGIN:VEVENT
SUMMARY:Izpit: Finomehanika
DTSTART;TZID=Europe/Ljubljana:20260624T110000
DTEND;TZID=Europe/Ljubljana:20260624T140000
DTSTAMP:20260422T185813Z
UID:fs-AFLABS-URNIK:rezervacija:12171
CATEGORIES:Reservation
COLOR:royalblue
DESCRIPTION:Predmeti: \nLetniki: \nIzvajalci: Robert Kunc\nProstori: Lectu
 re hall III/4
LOCATION:Lecture hall III/4
ORGANIZER:Robert Kunc
X-WR-TIMEZONE:Europe/Ljubljana
END:VEVENT
BEGIN:VEVENT
SUMMARY:Izpit: Mehanizmi
DTSTART;TZID=Europe/Ljubljana:20260624T110000
DTEND;TZID=Europe/Ljubljana:20260624T140000
DTSTAMP:20260422T185813Z
UID:fs-AFLABS-URNIK:rezervacija:12173
ATTENDEE:Snovanje, obratovanje in vzdrževanje - Mobilna tehnika (PAP-3)
CATEGORIES:Reservation
COLOR:royalblue
DESCRIPTION:Predmeti: Mechanisms (3064)\nLetniki: Snovanje\, obratovanje i
 n vzdrževanje - Mobilna tehnika (PAP-3)\nIzvajalci: Robert Kunc\nProstori
 : Lecture hall III/4
LOCATION:Lecture hall III/4
ORGANIZER:Robert Kunc
X-WR-TIMEZONE:Europe/Ljubljana
END:VEVENT
BEGIN:VEVENT
SUMMARY:Izpit: Dokumentacija in dokumentarni sistemi
DTSTART;TZID=Europe/Ljubljana:20260630T100000
DTEND;TZID=Europe/Ljubljana:20260630T120000
DTSTAMP:20260422T185813Z
UID:fs-AFLABS-URNIK:rezervacija:12261
ATTENDEE:Design of machines and devices (PAP-2)
CATEGORIES:Reservation
COLOR:royalblue
DESCRIPTION:Predmeti: Documentation and document management system (DDSP)\
 nLetniki: Design of machines and devices (PAP-2)\nIzvajalci: Robert Kunc\n
 Prostori: Lecture hall V/2
LOCATION:Lecture hall V/2
ORGANIZER:Robert Kunc
X-WR-TIMEZONE:Europe/Ljubljana
END:VEVENT
BEGIN:VEVENT
SUMMARY:Izpit: Geometrijske specifikacije proizvodov
DTSTART;TZID=Europe/Ljubljana:20260605T120000
DTEND;TZID=Europe/Ljubljana:20260605T150000
DTSTAMP:20260422T185813Z
UID:fs-AFLABS-URNIK:rezervacija:12570
ATTENDEE:Engineering design (MAG-1)
CATEGORIES:Reservation
COLOR:royalblue
DESCRIPTION:Predmeti: Geometric product specifications (GSPM)\nLetniki: En
 gineering design (MAG-1)\nIzvajalci: Robert Kunc\nProstori: Lecture hall I
 V/2
LOCATION:Lecture hall IV/2
ORGANIZER:Robert Kunc
X-WR-TIMEZONE:Europe/Ljubljana
END:VEVENT
BEGIN:VEVENT
SUMMARY:Izpit: Geometrijske specifikacije proizvodov
DTSTART;TZID=Europe/Ljubljana:20260605T120000
DTEND;TZID=Europe/Ljubljana:20260605T150000
DTSTAMP:20260422T185813Z
UID:fs-AFLABS-URNIK:rezervacija:12571
ATTENDEE:Engineering design (MAG-1)
CATEGORIES:Reservation
COLOR:royalblue
DESCRIPTION:Predmeti: Geometric product specifications (GSPM)\nLetniki: En
 gineering design (MAG-1)\nIzvajalci: Robert Kunc\nProstori: Lecture hall I
 V/2
LOCATION:Lecture hall IV/2
ORGANIZER:Robert Kunc
X-WR-TIMEZONE:Europe/Ljubljana
END:VEVENT
BEGIN:VEVENT
SUMMARY:Izpit: Geometric Product Specifications
DTSTART;TZID=Europe/Ljubljana:20260605T120000
DTEND;TZID=Europe/Ljubljana:20260605T150000
DTSTAMP:20260422T185813Z
UID:fs-AFLABS-URNIK:rezervacija:12580
ATTENDEE:Erasmus (Erasmus)
CATEGORIES:Reservation
COLOR:royalblue
DESCRIPTION:Predmeti: Geometric Product Specifications (GPSE)\nLetniki: Er
 asmus (Erasmus)\nIzvajalci: Robert Kunc\nProstori: Lecture hall III/4\, Le
 cture hall IV/4\, Lecture hall V/2\, Lecture hall V/8
LOCATION:Lecture hall III/4\, Lecture hall IV/4\, Lecture hall V/2\, Lectu
 re hall V/8
ORGANIZER:Robert Kunc
X-WR-TIMEZONE:Europe/Ljubljana
END:VEVENT
BEGIN:VEVENT
SUMMARY:Izpit: Dokumentacija in dokumentarni sistemi
DTSTART;TZID=Europe/Ljubljana:20260612T080000
DTEND;TZID=Europe/Ljubljana:20260612T100000
DTSTAMP:20260422T185813Z
UID:fs-AFLABS-URNIK:rezervacija:12736
ATTENDEE:Design of machines and devices (PAP-2)
CATEGORIES:Reservation
COLOR:royalblue
DESCRIPTION:Predmeti: Documentation and document management system (DDSP)\
 nLetniki: Design of machines and devices (PAP-2)\nIzvajalci: Robert Kunc\n
 Prostori: Lecture hall V/8
LOCATION:Lecture hall V/8
ORGANIZER:Robert Kunc
X-WR-TIMEZONE:Europe/Ljubljana
END:VEVENT
BEGIN:VEVENT
SUMMARY:Izpit: Dokumentacija in dokumentarni sistemi
DTSTART;TZID=Europe/Ljubljana:20260630T100000
DTEND;TZID=Europe/Ljubljana:20260630T120000
DTSTAMP:20260422T185813Z
UID:fs-AFLABS-URNIK:rezervacija:12737
ATTENDEE:Design of machines and devices (PAP-2)
CATEGORIES:Reservation
COLOR:royalblue
DESCRIPTION:Predmeti: Documentation and document management system (DDSP)\
 nLetniki: Design of machines and devices (PAP-2)\nIzvajalci: Robert Kunc\n
 Prostori: Lecture hall V/2
LOCATION:Lecture hall V/2
ORGANIZER:Robert Kunc
X-WR-TIMEZONE:Europe/Ljubljana
END:VEVENT
END:VCALENDAR
