BEGIN:VCALENDAR
VERSION:2.0
PRODID:-//AFLabs urnik izvoz - fs//aflabs.si//SI
NAME:UL FS Urnik
X-WR-CALNAME:UL FS Urnik
DTSTAMP:20260424T001018Z
REFRESH-INTERVAL:PT1H
SOURCE:https://urnik.fs.uni-lj.si/en/teacher/763/?day=2023-04-10&export=1
URL:https://urnik.fs.uni-lj.si/en/teacher/763/?day=2023-04-10&export=1
X-PUBLISHED-TTL:PT1H
X-WR-TIMEZONE:Europe/Ljubljana
BEGIN:VTIMEZONE
TZID:Europe/Ljubljana
BEGIN:DAYLIGHT
DTSTART:20260329T020000
RDATE:20260329T020000
RDATE:20270328T020000
TZNAME:CEST
TZOFFSETFROM:+0100
TZOFFSETTO:+0200
END:DAYLIGHT
BEGIN:STANDARD
DTSTART:20261025T030000
RDATE:20261025T030000
RDATE:20271031T030000
TZNAME:CET
TZOFFSETFROM:+0200
TZOFFSETTO:+0100
END:STANDARD
END:VTIMEZONE
BEGIN:VEVENT
SUMMARY:Hydraulics and Pneumatics (2053)\, Lectures (P)
DTSTART;TZID=Europe/Ljubljana:20230222T080000
DTEND;TZID=Europe/Ljubljana:20230222T110000
DTSTAMP:20260424T001018Z
UID:fs-AFLABS-URNIK:srecanje:96-2023-02-22 08:00:00+01:00
DESCRIPTION:Predmet: Hydraulics and Pneumatics (2053)\, Lectures (P)\nLetn
 iki: RRP-3 (RRP-3)\nIzvajalci: Niko Herakovič\, Franc Majdič\nProstor: L
 ecture hall IV/4
END:VEVENT
BEGIN:VEVENT
SUMMARY:Hydraulics and Pneumatics (2053)\, Lectures (P)
DTSTART;TZID=Europe/Ljubljana:20230301T080000
DTEND;TZID=Europe/Ljubljana:20230301T110000
DTSTAMP:20260424T001018Z
UID:fs-AFLABS-URNIK:srecanje:96-2023-03-01 08:00:00+01:00
DESCRIPTION:Predmet: Hydraulics and Pneumatics (2053)\, Lectures (P)\nLetn
 iki: RRP-3 (RRP-3)\nIzvajalci: Niko Herakovič\, Franc Majdič\nProstor: L
 ecture hall IV/4
END:VEVENT
BEGIN:VEVENT
SUMMARY:Hydraulics and Pneumatics (2053)\, Lectures (P)
DTSTART;TZID=Europe/Ljubljana:20230308T080000
DTEND;TZID=Europe/Ljubljana:20230308T110000
DTSTAMP:20260424T001018Z
UID:fs-AFLABS-URNIK:srecanje:96-2023-03-08 08:00:00+01:00
DESCRIPTION:Predmet: Hydraulics and Pneumatics (2053)\, Lectures (P)\nLetn
 iki: RRP-3 (RRP-3)\nIzvajalci: Niko Herakovič\, Franc Majdič\nProstor: L
 ecture hall IV/4
END:VEVENT
BEGIN:VEVENT
SUMMARY:Hydraulics and Pneumatics (2053)\, Lectures (P)
DTSTART;TZID=Europe/Ljubljana:20230315T080000
DTEND;TZID=Europe/Ljubljana:20230315T110000
DTSTAMP:20260424T001018Z
UID:fs-AFLABS-URNIK:srecanje:96-2023-03-15 08:00:00+01:00
DESCRIPTION:Predmet: Hydraulics and Pneumatics (2053)\, Lectures (P)\nLetn
 iki: RRP-3 (RRP-3)\nIzvajalci: Niko Herakovič\, Franc Majdič\nProstor: L
 ecture hall IV/4
END:VEVENT
BEGIN:VEVENT
SUMMARY:Hydraulics and Pneumatics (2053)\, Lectures (P)
DTSTART;TZID=Europe/Ljubljana:20230322T080000
DTEND;TZID=Europe/Ljubljana:20230322T110000
DTSTAMP:20260424T001018Z
UID:fs-AFLABS-URNIK:srecanje:96-2023-03-22 08:00:00+01:00
DESCRIPTION:Predmet: Hydraulics and Pneumatics (2053)\, Lectures (P)\nLetn
 iki: RRP-3 (RRP-3)\nIzvajalci: Niko Herakovič\, Franc Majdič\nProstor: L
 ecture hall IV/4
END:VEVENT
BEGIN:VEVENT
SUMMARY:Hydraulics and Pneumatics (2053)\, Lectures (P)
DTSTART;TZID=Europe/Ljubljana:20230329T080000
DTEND;TZID=Europe/Ljubljana:20230329T110000
DTSTAMP:20260424T001018Z
UID:fs-AFLABS-URNIK:srecanje:96-2023-03-29 08:00:00+02:00
DESCRIPTION:Predmet: Hydraulics and Pneumatics (2053)\, Lectures (P)\nLetn
 iki: RRP-3 (RRP-3)\nIzvajalci: Niko Herakovič\, Franc Majdič\nProstor: L
 ecture hall IV/4
END:VEVENT
BEGIN:VEVENT
SUMMARY:Hydraulics and Pneumatics (2053)\, Lectures (P)
DTSTART;TZID=Europe/Ljubljana:20230405T080000
DTEND;TZID=Europe/Ljubljana:20230405T110000
DTSTAMP:20260424T001018Z
UID:fs-AFLABS-URNIK:srecanje:96-2023-04-05 08:00:00+02:00
DESCRIPTION:Predmet: Hydraulics and Pneumatics (2053)\, Lectures (P)\nLetn
 iki: RRP-3 (RRP-3)\nIzvajalci: Niko Herakovič\, Franc Majdič\nProstor: L
 ecture hall IV/4
END:VEVENT
BEGIN:VEVENT
SUMMARY:Hydraulics and Pneumatics (2053)\, Lectures (P)
DTSTART;TZID=Europe/Ljubljana:20230412T080000
DTEND;TZID=Europe/Ljubljana:20230412T110000
DTSTAMP:20260424T001018Z
UID:fs-AFLABS-URNIK:srecanje:96-2023-04-12 08:00:00+02:00
DESCRIPTION:Predmet: Hydraulics and Pneumatics (2053)\, Lectures (P)\nLetn
 iki: RRP-3 (RRP-3)\nIzvajalci: Niko Herakovič\, Franc Majdič\nProstor: L
 ecture hall IV/4
END:VEVENT
BEGIN:VEVENT
SUMMARY:Hydraulics and Pneumatics (2053)\, Lectures (P)
DTSTART;TZID=Europe/Ljubljana:20230419T080000
DTEND;TZID=Europe/Ljubljana:20230419T110000
DTSTAMP:20260424T001018Z
UID:fs-AFLABS-URNIK:srecanje:96-2023-04-19 08:00:00+02:00
DESCRIPTION:Predmet: Hydraulics and Pneumatics (2053)\, Lectures (P)\nLetn
 iki: RRP-3 (RRP-3)\nIzvajalci: Niko Herakovič\, Franc Majdič\nProstor: L
 ecture hall IV/4
END:VEVENT
BEGIN:VEVENT
SUMMARY:Hydraulics and Pneumatics (2053)\, Lectures (P)
DTSTART;TZID=Europe/Ljubljana:20230426T080000
DTEND;TZID=Europe/Ljubljana:20230426T110000
DTSTAMP:20260424T001018Z
UID:fs-AFLABS-URNIK:srecanje:96-2023-04-26 08:00:00+02:00
DESCRIPTION:Predmet: Hydraulics and Pneumatics (2053)\, Lectures (P)\nLetn
 iki: RRP-3 (RRP-3)\nIzvajalci: Niko Herakovič\, Franc Majdič\nProstor: L
 ecture hall IV/4
END:VEVENT
BEGIN:VEVENT
SUMMARY:Hydraulics and Pneumatics (2053)\, Lectures (P)
DTSTART;TZID=Europe/Ljubljana:20230503T080000
DTEND;TZID=Europe/Ljubljana:20230503T110000
DTSTAMP:20260424T001018Z
UID:fs-AFLABS-URNIK:srecanje:96-2023-05-03 08:00:00+02:00
DESCRIPTION:Predmet: Hydraulics and Pneumatics (2053)\, Lectures (P)\nLetn
 iki: RRP-3 (RRP-3)\nIzvajalci: Niko Herakovič\, Franc Majdič\nProstor: L
 ecture hall IV/4
END:VEVENT
BEGIN:VEVENT
SUMMARY:Hydraulics and Pneumatics (2053)\, Lectures (P)
DTSTART;TZID=Europe/Ljubljana:20230510T080000
DTEND;TZID=Europe/Ljubljana:20230510T110000
DTSTAMP:20260424T001018Z
UID:fs-AFLABS-URNIK:srecanje:96-2023-05-10 08:00:00+02:00
DESCRIPTION:Predmet: Hydraulics and Pneumatics (2053)\, Lectures (P)\nLetn
 iki: RRP-3 (RRP-3)\nIzvajalci: Niko Herakovič\, Franc Majdič\nProstor: L
 ecture hall IV/4
END:VEVENT
BEGIN:VEVENT
SUMMARY:Hydraulics and Pneumatics (2053)\, Lectures (P)
DTSTART;TZID=Europe/Ljubljana:20230517T080000
DTEND;TZID=Europe/Ljubljana:20230517T110000
DTSTAMP:20260424T001018Z
UID:fs-AFLABS-URNIK:srecanje:96-2023-05-17 08:00:00+02:00
DESCRIPTION:Predmet: Hydraulics and Pneumatics (2053)\, Lectures (P)\nLetn
 iki: RRP-3 (RRP-3)\nIzvajalci: Niko Herakovič\, Franc Majdič\nProstor: L
 ecture hall IV/4
END:VEVENT
BEGIN:VEVENT
SUMMARY:Hydraulics and Pneumatics (2053)\, Lectures (P)
DTSTART;TZID=Europe/Ljubljana:20230524T080000
DTEND;TZID=Europe/Ljubljana:20230524T110000
DTSTAMP:20260424T001018Z
UID:fs-AFLABS-URNIK:srecanje:96-2023-05-24 08:00:00+02:00
DESCRIPTION:Predmet: Hydraulics and Pneumatics (2053)\, Lectures (P)\nLetn
 iki: RRP-3 (RRP-3)\nIzvajalci: Niko Herakovič\, Franc Majdič\nProstor: L
 ecture hall IV/4
END:VEVENT
BEGIN:VEVENT
SUMMARY:Hydraulics and Pneumatics (2053)\, Lectures (P)
DTSTART;TZID=Europe/Ljubljana:20230531T080000
DTEND;TZID=Europe/Ljubljana:20230531T110000
DTSTAMP:20260424T001018Z
UID:fs-AFLABS-URNIK:srecanje:96-2023-05-31 08:00:00+02:00
DESCRIPTION:Predmet: Hydraulics and Pneumatics (2053)\, Lectures (P)\nLetn
 iki: RRP-3 (RRP-3)\nIzvajalci: Niko Herakovič\, Franc Majdič\nProstor: L
 ecture hall IV/4
END:VEVENT
BEGIN:VEVENT
SUMMARY:Engineering reporting - PAP (PVSP)\, Lectures (P)
DTSTART;TZID=Europe/Ljubljana:20230223T073000
DTEND;TZID=Europe/Ljubljana:20230223T083000
DTSTAMP:20260424T001018Z
UID:fs-AFLABS-URNIK:srecanje:402-2023-02-23 07:30:00+01:00
DESCRIPTION:Predmet: Engineering reporting - PAP (PVSP)\, Lectures (P)\nLe
 tniki: PAP-1 (PAP-1)\nIzvajalci: Miha Brojan\, Franc Majdič\, Rok Vrabič
 \, Nikola Vukašinović\nProstor: Lecture hall V/8
END:VEVENT
BEGIN:VEVENT
SUMMARY:Engineering reporting - PAP (PVSP)\, Lectures (P)
DTSTART;TZID=Europe/Ljubljana:20230302T073000
DTEND;TZID=Europe/Ljubljana:20230302T083000
DTSTAMP:20260424T001018Z
UID:fs-AFLABS-URNIK:srecanje:402-2023-03-02 07:30:00+01:00
DESCRIPTION:Predmet: Engineering reporting - PAP (PVSP)\, Lectures (P)\nLe
 tniki: PAP-1 (PAP-1)\nIzvajalci: Miha Brojan\, Franc Majdič\, Rok Vrabič
 \, Nikola Vukašinović\nProstor: Lecture hall V/8
END:VEVENT
BEGIN:VEVENT
SUMMARY:Engineering reporting - PAP (PVSP)\, Lectures (P)
DTSTART;TZID=Europe/Ljubljana:20230309T073000
DTEND;TZID=Europe/Ljubljana:20230309T083000
DTSTAMP:20260424T001018Z
UID:fs-AFLABS-URNIK:srecanje:402-2023-03-09 07:30:00+01:00
DESCRIPTION:Predmet: Engineering reporting - PAP (PVSP)\, Lectures (P)\nLe
 tniki: PAP-1 (PAP-1)\nIzvajalci: Miha Brojan\, Franc Majdič\, Rok Vrabič
 \, Nikola Vukašinović\nProstor: Lecture hall V/8
END:VEVENT
BEGIN:VEVENT
SUMMARY:Engineering reporting - PAP (PVSP)\, Lectures (P)
DTSTART;TZID=Europe/Ljubljana:20230316T073000
DTEND;TZID=Europe/Ljubljana:20230316T083000
DTSTAMP:20260424T001018Z
UID:fs-AFLABS-URNIK:srecanje:402-2023-03-16 07:30:00+01:00
DESCRIPTION:Predmet: Engineering reporting - PAP (PVSP)\, Lectures (P)\nLe
 tniki: PAP-1 (PAP-1)\nIzvajalci: Miha Brojan\, Franc Majdič\, Rok Vrabič
 \, Nikola Vukašinović\nProstor: Lecture hall V/8
END:VEVENT
BEGIN:VEVENT
SUMMARY:Engineering reporting - PAP (PVSP)\, Lectures (P)
DTSTART;TZID=Europe/Ljubljana:20230323T073000
DTEND;TZID=Europe/Ljubljana:20230323T083000
DTSTAMP:20260424T001018Z
UID:fs-AFLABS-URNIK:srecanje:402-2023-03-23 07:30:00+01:00
DESCRIPTION:Predmet: Engineering reporting - PAP (PVSP)\, Lectures (P)\nLe
 tniki: PAP-1 (PAP-1)\nIzvajalci: Miha Brojan\, Franc Majdič\, Rok Vrabič
 \, Nikola Vukašinović\nProstor: Lecture hall V/8
END:VEVENT
BEGIN:VEVENT
SUMMARY:Engineering reporting - PAP (PVSP)\, Lectures (P)
DTSTART;TZID=Europe/Ljubljana:20230330T073000
DTEND;TZID=Europe/Ljubljana:20230330T083000
DTSTAMP:20260424T001018Z
UID:fs-AFLABS-URNIK:srecanje:402-2023-03-30 07:30:00+02:00
DESCRIPTION:Predmet: Engineering reporting - PAP (PVSP)\, Lectures (P)\nLe
 tniki: PAP-1 (PAP-1)\nIzvajalci: Miha Brojan\, Franc Majdič\, Rok Vrabič
 \, Nikola Vukašinović\nProstor: Lecture hall V/8
END:VEVENT
BEGIN:VEVENT
SUMMARY:Engineering reporting - PAP (PVSP)\, Lectures (P)
DTSTART;TZID=Europe/Ljubljana:20230406T073000
DTEND;TZID=Europe/Ljubljana:20230406T083000
DTSTAMP:20260424T001018Z
UID:fs-AFLABS-URNIK:srecanje:402-2023-04-06 07:30:00+02:00
DESCRIPTION:Predmet: Engineering reporting - PAP (PVSP)\, Lectures (P)\nLe
 tniki: PAP-1 (PAP-1)\nIzvajalci: Miha Brojan\, Franc Majdič\, Rok Vrabič
 \, Nikola Vukašinović\nProstor: Lecture hall V/8
END:VEVENT
BEGIN:VEVENT
SUMMARY:Engineering reporting - PAP (PVSP)\, Lectures (P)
DTSTART;TZID=Europe/Ljubljana:20230413T073000
DTEND;TZID=Europe/Ljubljana:20230413T083000
DTSTAMP:20260424T001018Z
UID:fs-AFLABS-URNIK:srecanje:402-2023-04-13 07:30:00+02:00
DESCRIPTION:Predmet: Engineering reporting - PAP (PVSP)\, Lectures (P)\nLe
 tniki: PAP-1 (PAP-1)\nIzvajalci: Miha Brojan\, Franc Majdič\, Rok Vrabič
 \, Nikola Vukašinović\nProstor: Lecture hall V/8
END:VEVENT
BEGIN:VEVENT
SUMMARY:Engineering reporting - PAP (PVSP)\, Lectures (P)
DTSTART;TZID=Europe/Ljubljana:20230420T073000
DTEND;TZID=Europe/Ljubljana:20230420T083000
DTSTAMP:20260424T001018Z
UID:fs-AFLABS-URNIK:srecanje:402-2023-04-20 07:30:00+02:00
DESCRIPTION:Predmet: Engineering reporting - PAP (PVSP)\, Lectures (P)\nLe
 tniki: PAP-1 (PAP-1)\nIzvajalci: Miha Brojan\, Franc Majdič\, Rok Vrabič
 \, Nikola Vukašinović\nProstor: Lecture hall V/8
END:VEVENT
BEGIN:VEVENT
SUMMARY:Engineering reporting - PAP (PVSP)\, Lectures (P)
DTSTART;TZID=Europe/Ljubljana:20230427T073000
DTEND;TZID=Europe/Ljubljana:20230427T083000
DTSTAMP:20260424T001018Z
UID:fs-AFLABS-URNIK:srecanje:402-2023-04-27 07:30:00+02:00
DESCRIPTION:Predmet: Engineering reporting - PAP (PVSP)\, Lectures (P)\nLe
 tniki: PAP-1 (PAP-1)\nIzvajalci: Miha Brojan\, Franc Majdič\, Rok Vrabič
 \, Nikola Vukašinović\nProstor: Lecture hall V/8
END:VEVENT
BEGIN:VEVENT
SUMMARY:Engineering reporting - PAP (PVSP)\, Lectures (P)
DTSTART;TZID=Europe/Ljubljana:20230504T073000
DTEND;TZID=Europe/Ljubljana:20230504T083000
DTSTAMP:20260424T001018Z
UID:fs-AFLABS-URNIK:srecanje:402-2023-05-04 07:30:00+02:00
DESCRIPTION:Predmet: Engineering reporting - PAP (PVSP)\, Lectures (P)\nLe
 tniki: PAP-1 (PAP-1)\nIzvajalci: Miha Brojan\, Franc Majdič\, Rok Vrabič
 \, Nikola Vukašinović\nProstor: Lecture hall V/8
END:VEVENT
BEGIN:VEVENT
SUMMARY:Engineering reporting - PAP (PVSP)\, Lectures (P)
DTSTART;TZID=Europe/Ljubljana:20230511T073000
DTEND;TZID=Europe/Ljubljana:20230511T083000
DTSTAMP:20260424T001018Z
UID:fs-AFLABS-URNIK:srecanje:402-2023-05-11 07:30:00+02:00
DESCRIPTION:Predmet: Engineering reporting - PAP (PVSP)\, Lectures (P)\nLe
 tniki: PAP-1 (PAP-1)\nIzvajalci: Miha Brojan\, Franc Majdič\, Rok Vrabič
 \, Nikola Vukašinović\nProstor: Lecture hall V/8
END:VEVENT
BEGIN:VEVENT
SUMMARY:Engineering reporting - PAP (PVSP)\, Lectures (P)
DTSTART;TZID=Europe/Ljubljana:20230518T073000
DTEND;TZID=Europe/Ljubljana:20230518T083000
DTSTAMP:20260424T001018Z
UID:fs-AFLABS-URNIK:srecanje:402-2023-05-18 07:30:00+02:00
DESCRIPTION:Predmet: Engineering reporting - PAP (PVSP)\, Lectures (P)\nLe
 tniki: PAP-1 (PAP-1)\nIzvajalci: Miha Brojan\, Franc Majdič\, Rok Vrabič
 \, Nikola Vukašinović\nProstor: Lecture hall V/8
END:VEVENT
BEGIN:VEVENT
SUMMARY:Engineering reporting - PAP (PVSP)\, Lectures (P)
DTSTART;TZID=Europe/Ljubljana:20230525T073000
DTEND;TZID=Europe/Ljubljana:20230525T083000
DTSTAMP:20260424T001018Z
UID:fs-AFLABS-URNIK:srecanje:402-2023-05-25 07:30:00+02:00
DESCRIPTION:Predmet: Engineering reporting - PAP (PVSP)\, Lectures (P)\nLe
 tniki: PAP-1 (PAP-1)\nIzvajalci: Miha Brojan\, Franc Majdič\, Rok Vrabič
 \, Nikola Vukašinović\nProstor: Lecture hall V/8
END:VEVENT
BEGIN:VEVENT
SUMMARY:Engineering reporting - PAP (PVSP)\, Lectures (P)
DTSTART;TZID=Europe/Ljubljana:20230601T073000
DTEND;TZID=Europe/Ljubljana:20230601T083000
DTSTAMP:20260424T001018Z
UID:fs-AFLABS-URNIK:srecanje:402-2023-06-01 07:30:00+02:00
DESCRIPTION:Predmet: Engineering reporting - PAP (PVSP)\, Lectures (P)\nLe
 tniki: PAP-1 (PAP-1)\nIzvajalci: Miha Brojan\, Franc Majdič\, Rok Vrabič
 \, Nikola Vukašinović\nProstor: Lecture hall V/8
END:VEVENT
BEGIN:VEVENT
SUMMARY:Power Drives (3068)\, Lectures (P)
DTSTART;TZID=Europe/Ljubljana:20230323T103000
DTEND;TZID=Europe/Ljubljana:20230323T133000
DTSTAMP:20260424T001018Z
UID:fs-AFLABS-URNIK:srecanje:481-2023-03-23 10:30:00+01:00
DESCRIPTION:Predmet: Power Drives (3068)\, Lectures (P)\nLetniki: Snovanje
 \, obratovanje in vzdrževanje - Mobilna tehnika (PAP-3)\, Snovanje\, obra
 tovanje in vzdrževanje - Transportni in delovni stroji (PAP-3)\nIzvajalci
 : Mitjan Kalin\, Franc Majdič\, Sebastjan Matkovič\, Marko Polajnar\nPro
 stor: Lecture hall II/3B
END:VEVENT
BEGIN:VEVENT
SUMMARY:Power Drives (3068)\, Lectures (P)
DTSTART;TZID=Europe/Ljubljana:20230330T103000
DTEND;TZID=Europe/Ljubljana:20230330T133000
DTSTAMP:20260424T001018Z
UID:fs-AFLABS-URNIK:srecanje:481-2023-03-30 10:30:00+02:00
DESCRIPTION:Predmet: Power Drives (3068)\, Lectures (P)\nLetniki: Snovanje
 \, obratovanje in vzdrževanje - Mobilna tehnika (PAP-3)\, Snovanje\, obra
 tovanje in vzdrževanje - Transportni in delovni stroji (PAP-3)\nIzvajalci
 : Mitjan Kalin\, Franc Majdič\, Sebastjan Matkovič\, Marko Polajnar\nPro
 stor: Lecture hall II/3B
END:VEVENT
BEGIN:VEVENT
SUMMARY:Power Drives (3068)\, Lectures (P)
DTSTART;TZID=Europe/Ljubljana:20230406T103000
DTEND;TZID=Europe/Ljubljana:20230406T133000
DTSTAMP:20260424T001018Z
UID:fs-AFLABS-URNIK:srecanje:481-2023-04-06 10:30:00+02:00
DESCRIPTION:Predmet: Power Drives (3068)\, Lectures (P)\nLetniki: Snovanje
 \, obratovanje in vzdrževanje - Mobilna tehnika (PAP-3)\, Snovanje\, obra
 tovanje in vzdrževanje - Transportni in delovni stroji (PAP-3)\nIzvajalci
 : Mitjan Kalin\, Franc Majdič\, Sebastjan Matkovič\, Marko Polajnar\nPro
 stor: Lecture hall II/3B
END:VEVENT
BEGIN:VEVENT
SUMMARY:Power Drives (3068)\, Lectures (P)
DTSTART;TZID=Europe/Ljubljana:20230413T103000
DTEND;TZID=Europe/Ljubljana:20230413T133000
DTSTAMP:20260424T001018Z
UID:fs-AFLABS-URNIK:srecanje:481-2023-04-13 10:30:00+02:00
DESCRIPTION:Predmet: Power Drives (3068)\, Lectures (P)\nLetniki: Snovanje
 \, obratovanje in vzdrževanje - Mobilna tehnika (PAP-3)\, Snovanje\, obra
 tovanje in vzdrževanje - Transportni in delovni stroji (PAP-3)\nIzvajalci
 : Mitjan Kalin\, Franc Majdič\, Sebastjan Matkovič\, Marko Polajnar\nPro
 stor: Lecture hall II/3B
END:VEVENT
BEGIN:VEVENT
SUMMARY:Power Drives (3068)\, Lectures (P)
DTSTART;TZID=Europe/Ljubljana:20230420T103000
DTEND;TZID=Europe/Ljubljana:20230420T133000
DTSTAMP:20260424T001018Z
UID:fs-AFLABS-URNIK:srecanje:481-2023-04-20 10:30:00+02:00
DESCRIPTION:Predmet: Power Drives (3068)\, Lectures (P)\nLetniki: Snovanje
 \, obratovanje in vzdrževanje - Mobilna tehnika (PAP-3)\, Snovanje\, obra
 tovanje in vzdrževanje - Transportni in delovni stroji (PAP-3)\nIzvajalci
 : Mitjan Kalin\, Franc Majdič\, Sebastjan Matkovič\, Marko Polajnar\nPro
 stor: Lecture hall II/3B
END:VEVENT
BEGIN:VEVENT
SUMMARY:Power Drives (3068)\, Lectures (P)
DTSTART;TZID=Europe/Ljubljana:20230427T103000
DTEND;TZID=Europe/Ljubljana:20230427T133000
DTSTAMP:20260424T001018Z
UID:fs-AFLABS-URNIK:srecanje:481-2023-04-27 10:30:00+02:00
DESCRIPTION:Predmet: Power Drives (3068)\, Lectures (P)\nLetniki: Snovanje
 \, obratovanje in vzdrževanje - Mobilna tehnika (PAP-3)\, Snovanje\, obra
 tovanje in vzdrževanje - Transportni in delovni stroji (PAP-3)\nIzvajalci
 : Mitjan Kalin\, Franc Majdič\, Sebastjan Matkovič\, Marko Polajnar\nPro
 stor: Lecture hall II/3B
END:VEVENT
BEGIN:VEVENT
SUMMARY:Power Drives (3068)\, Lectures (P)
DTSTART;TZID=Europe/Ljubljana:20230504T103000
DTEND;TZID=Europe/Ljubljana:20230504T133000
DTSTAMP:20260424T001018Z
UID:fs-AFLABS-URNIK:srecanje:481-2023-05-04 10:30:00+02:00
DESCRIPTION:Predmet: Power Drives (3068)\, Lectures (P)\nLetniki: Snovanje
 \, obratovanje in vzdrževanje - Mobilna tehnika (PAP-3)\, Snovanje\, obra
 tovanje in vzdrževanje - Transportni in delovni stroji (PAP-3)\nIzvajalci
 : Mitjan Kalin\, Franc Majdič\, Sebastjan Matkovič\, Marko Polajnar\nPro
 stor: Lecture hall II/3B
END:VEVENT
BEGIN:VEVENT
SUMMARY:Power Drives (3068)\, Lectures (P)
DTSTART;TZID=Europe/Ljubljana:20230511T103000
DTEND;TZID=Europe/Ljubljana:20230511T133000
DTSTAMP:20260424T001018Z
UID:fs-AFLABS-URNIK:srecanje:481-2023-05-11 10:30:00+02:00
DESCRIPTION:Predmet: Power Drives (3068)\, Lectures (P)\nLetniki: Snovanje
 \, obratovanje in vzdrževanje - Mobilna tehnika (PAP-3)\, Snovanje\, obra
 tovanje in vzdrževanje - Transportni in delovni stroji (PAP-3)\nIzvajalci
 : Mitjan Kalin\, Franc Majdič\, Sebastjan Matkovič\, Marko Polajnar\nPro
 stor: Lecture hall II/3B
END:VEVENT
BEGIN:VEVENT
SUMMARY:Power Drives (3068)\, Lectures (P)
DTSTART;TZID=Europe/Ljubljana:20230518T103000
DTEND;TZID=Europe/Ljubljana:20230518T133000
DTSTAMP:20260424T001018Z
UID:fs-AFLABS-URNIK:srecanje:481-2023-05-18 10:30:00+02:00
DESCRIPTION:Predmet: Power Drives (3068)\, Lectures (P)\nLetniki: Snovanje
 \, obratovanje in vzdrževanje - Mobilna tehnika (PAP-3)\, Snovanje\, obra
 tovanje in vzdrževanje - Transportni in delovni stroji (PAP-3)\nIzvajalci
 : Mitjan Kalin\, Franc Majdič\, Sebastjan Matkovič\, Marko Polajnar\nPro
 stor: Lecture hall II/3B
END:VEVENT
BEGIN:VEVENT
SUMMARY:Power Drives (3068)\, Lectures (P)
DTSTART;TZID=Europe/Ljubljana:20230525T103000
DTEND;TZID=Europe/Ljubljana:20230525T133000
DTSTAMP:20260424T001018Z
UID:fs-AFLABS-URNIK:srecanje:481-2023-05-25 10:30:00+02:00
DESCRIPTION:Predmet: Power Drives (3068)\, Lectures (P)\nLetniki: Snovanje
 \, obratovanje in vzdrževanje - Mobilna tehnika (PAP-3)\, Snovanje\, obra
 tovanje in vzdrževanje - Transportni in delovni stroji (PAP-3)\nIzvajalci
 : Mitjan Kalin\, Franc Majdič\, Sebastjan Matkovič\, Marko Polajnar\nPro
 stor: Lecture hall II/3B
END:VEVENT
BEGIN:VEVENT
SUMMARY:Power Drives (3068)\, Lectures (P)
DTSTART;TZID=Europe/Ljubljana:20230601T103000
DTEND;TZID=Europe/Ljubljana:20230601T133000
DTSTAMP:20260424T001018Z
UID:fs-AFLABS-URNIK:srecanje:481-2023-06-01 10:30:00+02:00
DESCRIPTION:Predmet: Power Drives (3068)\, Lectures (P)\nLetniki: Snovanje
 \, obratovanje in vzdrževanje - Mobilna tehnika (PAP-3)\, Snovanje\, obra
 tovanje in vzdrževanje - Transportni in delovni stroji (PAP-3)\nIzvajalci
 : Mitjan Kalin\, Franc Majdič\, Sebastjan Matkovič\, Marko Polajnar\nPro
 stor: Lecture hall II/3B
END:VEVENT
BEGIN:VEVENT
SUMMARY:Poročanje v strojništvu
DTSTART;TZID=Europe/Ljubljana:20230525T073000
DTEND;TZID=Europe/Ljubljana:20230525T093000
DTSTAMP:20260424T001018Z
UID:fs-AFLABS-URNIK:rezervacija:763
ATTENDEE:PAP-1 (PAP-1)
CATEGORIES:Reservation
COLOR:royalblue
DESCRIPTION:Predmeti: Engineering reporting - PAP (PVSP)\nLetniki: PAP-1 (
 PAP-1)\nIzvajalci: Franc Majdič\, Nikola Vukašinović\nProstori: Lecture
  hall III/4
LOCATION:Lecture hall III/4
ORGANIZER:Franc Majdič, Nikola Vukašinović
X-WR-TIMEZONE:Europe/Ljubljana
END:VEVENT
END:VCALENDAR
