BEGIN:VCALENDAR
VERSION:2.0
PRODID:-//AFLabs urnik izvoz - fs//aflabs.si//SI
NAME:UL FS Urnik
X-WR-CALNAME:UL FS Urnik
DTSTAMP:20260422T193809Z
REFRESH-INTERVAL:PT1H
SOURCE:https://urnik.fs.uni-lj.si/en/teacher/763/?day=2024-07-08&export=1
URL:https://urnik.fs.uni-lj.si/en/teacher/763/?day=2024-07-08&export=1
X-PUBLISHED-TTL:PT1H
X-WR-TIMEZONE:Europe/Ljubljana
BEGIN:VTIMEZONE
TZID:Europe/Ljubljana
BEGIN:DAYLIGHT
DTSTART:20260329T020000
RDATE:20260329T020000
RDATE:20270328T020000
TZNAME:CEST
TZOFFSETFROM:+0100
TZOFFSETTO:+0200
END:DAYLIGHT
BEGIN:STANDARD
DTSTART:20261025T030000
RDATE:20261025T030000
RDATE:20271031T030000
TZNAME:CET
TZOFFSETFROM:+0200
TZOFFSETTO:+0100
END:STANDARD
END:VTIMEZONE
BEGIN:VEVENT
SUMMARY:Izpit: Hidravlične komponente in sistemi
DTSTART;TZID=Europe/Ljubljana:20240610T080000
DTEND;TZID=Europe/Ljubljana:20240610T100000
DTSTAMP:20260422T193809Z
UID:fs-AFLABS-URNIK:rezervacija:5025
ATTENDEE:Engineering design (MAG-2)
CATEGORIES:Reservation
COLOR:royalblue
DESCRIPTION:Predmeti: Hydraulic components and systems (HKSM)\nLetniki: En
 gineering design (MAG-2)\nIzvajalci: Franc Majdič\nProstori: Lecture hall
  III/4
LOCATION:Lecture hall III/4
ORGANIZER:Franc Majdič
X-WR-TIMEZONE:Europe/Ljubljana
END:VEVENT
BEGIN:VEVENT
SUMMARY:Izpit: Hydraulic components and systems (6030-M)
DTSTART;TZID=Europe/Ljubljana:20240610T080000
DTEND;TZID=Europe/Ljubljana:20240610T100000
DTSTAMP:20260422T193809Z
UID:fs-AFLABS-URNIK:rezervacija:5026
CATEGORIES:Reservation
COLOR:royalblue
DESCRIPTION:Predmeti: \nLetniki: \nIzvajalci: Franc Majdič\nProstori: Lec
 ture hall III/4
LOCATION:Lecture hall III/4
ORGANIZER:Franc Majdič
X-WR-TIMEZONE:Europe/Ljubljana
END:VEVENT
BEGIN:VEVENT
SUMMARY:Izpit: Hidravlika in pnevmatika - PAP
DTSTART;TZID=Europe/Ljubljana:20240617T100000
DTEND;TZID=Europe/Ljubljana:20240617T120000
DTSTAMP:20260422T193809Z
UID:fs-AFLABS-URNIK:rezervacija:5145
ATTENDEE:Aircraft design and maintenance (PAP-3)
ATTENDEE:Design of machines and devices (PAP-3)
CATEGORIES:Reservation
COLOR:royalblue
DESCRIPTION:Predmeti: Hydraulics and pneumatics - PAP (HIPP)\nLetniki: Air
 craft design and maintenance (PAP-3)\, Design of machines and devices (PAP
 -3)\nIzvajalci: Franc Majdič\nProstori: Lecture hall III/4
LOCATION:Lecture hall III/4
ORGANIZER:Franc Majdič
X-WR-TIMEZONE:Europe/Ljubljana
END:VEVENT
BEGIN:VEVENT
SUMMARY:Izpit: Hidravlika in pnevmatika (3061)
DTSTART;TZID=Europe/Ljubljana:20240617T100000
DTEND;TZID=Europe/Ljubljana:20240617T120000
DTSTAMP:20260422T193809Z
UID:fs-AFLABS-URNIK:rezervacija:5146
CATEGORIES:Reservation
COLOR:royalblue
DESCRIPTION:Predmeti: \nLetniki: \nIzvajalci: Franc Majdič\nProstori: Lec
 ture hall III/4
LOCATION:Lecture hall III/4
ORGANIZER:Franc Majdič
X-WR-TIMEZONE:Europe/Ljubljana
END:VEVENT
BEGIN:VEVENT
SUMMARY:Izpit: Hidravlični industrijski sistemi
DTSTART;TZID=Europe/Ljubljana:20240624T080000
DTEND;TZID=Europe/Ljubljana:20240624T110000
DTSTAMP:20260422T193809Z
UID:fs-AFLABS-URNIK:rezervacija:5275
ATTENDEE:Design of industrial systems (PAP-3)
CATEGORIES:Reservation
COLOR:royalblue
DESCRIPTION:Predmeti: Industry hydraulic systems (HISP)\nLetniki: Design o
 f industrial systems (PAP-3)\nIzvajalci: Franc Majdič\nProstori: Lecture 
 hall III/4
LOCATION:Lecture hall III/4
ORGANIZER:Franc Majdič
X-WR-TIMEZONE:Europe/Ljubljana
END:VEVENT
BEGIN:VEVENT
SUMMARY:Izpit: Hidravlične komponente in sistemi
DTSTART;TZID=Europe/Ljubljana:20240812T140000
DTEND;TZID=Europe/Ljubljana:20240812T160000
DTSTAMP:20260422T193809Z
UID:fs-AFLABS-URNIK:rezervacija:5396
ATTENDEE:Engineering design (MAG-2)
CATEGORIES:Reservation
COLOR:royalblue
DESCRIPTION:Predmeti: Hydraulic components and systems (HKSM)\nLetniki: En
 gineering design (MAG-2)\nIzvajalci: Franc Majdič\nProstori: Lecture hall
  III/4
LOCATION:Lecture hall III/4
ORGANIZER:Franc Majdič
X-WR-TIMEZONE:Europe/Ljubljana
END:VEVENT
BEGIN:VEVENT
SUMMARY:Izpit: Hidravlični industrijski sistemi
DTSTART;TZID=Europe/Ljubljana:20240812T120000
DTEND;TZID=Europe/Ljubljana:20240812T150000
DTSTAMP:20260422T193809Z
UID:fs-AFLABS-URNIK:rezervacija:5397
ATTENDEE:Design of industrial systems (PAP-3)
CATEGORIES:Reservation
COLOR:royalblue
DESCRIPTION:Predmeti: Industry hydraulic systems (HISP)\nLetniki: Design o
 f industrial systems (PAP-3)\nIzvajalci: Franc Majdič\nProstori: Lecture 
 hall III/2
LOCATION:Lecture hall III/2
ORGANIZER:Franc Majdič
X-WR-TIMEZONE:Europe/Ljubljana
END:VEVENT
BEGIN:VEVENT
SUMMARY:Izpit: Hydraulic components and systems (6030-M)
DTSTART;TZID=Europe/Ljubljana:20240812T140000
DTEND;TZID=Europe/Ljubljana:20240812T160000
DTSTAMP:20260422T193809Z
UID:fs-AFLABS-URNIK:rezervacija:5398
CATEGORIES:Reservation
COLOR:royalblue
DESCRIPTION:Predmeti: \nLetniki: \nIzvajalci: Franc Majdič\nProstori: Lec
 ture hall III/4
LOCATION:Lecture hall III/4
ORGANIZER:Franc Majdič
X-WR-TIMEZONE:Europe/Ljubljana
END:VEVENT
END:VCALENDAR
