BEGIN:VCALENDAR
VERSION:2.0
PRODID:-//AFLabs urnik izvoz - fs//aflabs.si//SI
NAME:UL FS Urnik
X-WR-CALNAME:UL FS Urnik
DTSTAMP:20260426T000533Z
REFRESH-INTERVAL:PT1H
SOURCE:https://urnik.fs.uni-lj.si/en/teacher/763/?day=2026-02-02&export=1
URL:https://urnik.fs.uni-lj.si/en/teacher/763/?day=2026-02-02&export=1
X-PUBLISHED-TTL:PT1H
X-WR-TIMEZONE:Europe/Ljubljana
BEGIN:VTIMEZONE
TZID:Europe/Ljubljana
BEGIN:DAYLIGHT
DTSTART:20260329T020000
RDATE:20260329T020000
RDATE:20270328T020000
TZNAME:CEST
TZOFFSETFROM:+0100
TZOFFSETTO:+0200
END:DAYLIGHT
BEGIN:STANDARD
DTSTART:20261025T030000
RDATE:20261025T030000
RDATE:20271031T030000
TZNAME:CET
TZOFFSETFROM:+0200
TZOFFSETTO:+0100
END:STANDARD
END:VTIMEZONE
BEGIN:VEVENT
SUMMARY:Engineering reporting - PAP (PVSP)\, Lectures (P)
DTSTART;TZID=Europe/Ljubljana:20260219T073000
DTEND;TZID=Europe/Ljubljana:20260219T083000
DTSTAMP:20260426T000533Z
UID:fs-AFLABS-URNIK:srecanje:15125-2026-02-19 07:30:00+01:00
DESCRIPTION:Predmet: Engineering reporting - PAP (PVSP)\, Lectures (P)\nLe
 tniki: PAP-1 (PAP-1)\nIzvajalci: Miha Brojan\, Dominik Kozjek\, Franc Majd
 ič\, Rok Vrabič\, Nikola Vukašinović\nProstor: Lecture hall V/8
END:VEVENT
BEGIN:VEVENT
SUMMARY:Engineering reporting - PAP (PVSP)\, Lectures (P)
DTSTART;TZID=Europe/Ljubljana:20260226T073000
DTEND;TZID=Europe/Ljubljana:20260226T083000
DTSTAMP:20260426T000533Z
UID:fs-AFLABS-URNIK:srecanje:15125-2026-02-26 07:30:00+01:00
DESCRIPTION:Predmet: Engineering reporting - PAP (PVSP)\, Lectures (P)\nLe
 tniki: PAP-1 (PAP-1)\nIzvajalci: Miha Brojan\, Dominik Kozjek\, Franc Majd
 ič\, Rok Vrabič\, Nikola Vukašinović\nProstor: Lecture hall V/8
END:VEVENT
BEGIN:VEVENT
SUMMARY:Engineering reporting - PAP (PVSP)\, Lectures (P)
DTSTART;TZID=Europe/Ljubljana:20260305T073000
DTEND;TZID=Europe/Ljubljana:20260305T083000
DTSTAMP:20260426T000533Z
UID:fs-AFLABS-URNIK:srecanje:15125-2026-03-05 07:30:00+01:00
DESCRIPTION:Predmet: Engineering reporting - PAP (PVSP)\, Lectures (P)\nLe
 tniki: PAP-1 (PAP-1)\nIzvajalci: Miha Brojan\, Dominik Kozjek\, Franc Majd
 ič\, Rok Vrabič\, Nikola Vukašinović\nProstor: Lecture hall V/8
END:VEVENT
BEGIN:VEVENT
SUMMARY:Engineering reporting - PAP (PVSP)\, Lecture exercises (VP)\, [S1\
 , S2\, S3\, S4]
DTSTART;TZID=Europe/Ljubljana:20260219T083000
DTEND;TZID=Europe/Ljubljana:20260219T093000
DTSTAMP:20260426T000533Z
UID:fs-AFLABS-URNIK:srecanje:16139-2026-02-19 08:30:00+01:00
DESCRIPTION:Predmet: Engineering reporting - PAP (PVSP)\, Lecture exercise
 s (VP)\, [S1\, S2\, S3\, S4]\nLetniki: PAP-1 (PAP-1)\nIzvajalci: Miha Broj
 an\, Dominik Kozjek\, Franc Majdič\, Nejc Novak\, Ana Trajkovski\, Nikola
  Vukašinović\, Jan Zavodnik\nProstor: Lecture hall V/8
END:VEVENT
BEGIN:VEVENT
SUMMARY:Engineering reporting - PAP (PVSP)\, Lecture exercises (VP)\, [S1\
 , S2\, S3\, S4]
DTSTART;TZID=Europe/Ljubljana:20260226T083000
DTEND;TZID=Europe/Ljubljana:20260226T093000
DTSTAMP:20260426T000533Z
UID:fs-AFLABS-URNIK:srecanje:16139-2026-02-26 08:30:00+01:00
DESCRIPTION:Predmet: Engineering reporting - PAP (PVSP)\, Lecture exercise
 s (VP)\, [S1\, S2\, S3\, S4]\nLetniki: PAP-1 (PAP-1)\nIzvajalci: Miha Broj
 an\, Dominik Kozjek\, Franc Majdič\, Nejc Novak\, Ana Trajkovski\, Nikola
  Vukašinović\, Jan Zavodnik\nProstor: Lecture hall V/8
END:VEVENT
BEGIN:VEVENT
SUMMARY:Engineering reporting - PAP (PVSP)\, Lecture exercises (VP)\, [S1\
 , S2\, S3\, S4]
DTSTART;TZID=Europe/Ljubljana:20260305T083000
DTEND;TZID=Europe/Ljubljana:20260305T093000
DTSTAMP:20260426T000533Z
UID:fs-AFLABS-URNIK:srecanje:16139-2026-03-05 08:30:00+01:00
DESCRIPTION:Predmet: Engineering reporting - PAP (PVSP)\, Lecture exercise
 s (VP)\, [S1\, S2\, S3\, S4]\nLetniki: PAP-1 (PAP-1)\nIzvajalci: Miha Broj
 an\, Dominik Kozjek\, Franc Majdič\, Nejc Novak\, Ana Trajkovski\, Nikola
  Vukašinović\, Jan Zavodnik\nProstor: Lecture hall V/8
END:VEVENT
BEGIN:VEVENT
SUMMARY:Izpit: Hidravlične komponente in sistemi
DTSTART;TZID=Europe/Ljubljana:20260209T100000
DTEND;TZID=Europe/Ljubljana:20260209T120000
DTSTAMP:20260426T000533Z
UID:fs-AFLABS-URNIK:rezervacija:11451
ATTENDEE:Engineering design (MAG-2)
CATEGORIES:Reservation
COLOR:royalblue
DESCRIPTION:Predmeti: Hydraulic components and systems (HKSM)\nLetniki: En
 gineering design (MAG-2)\nIzvajalci: Franc Majdič\nProstori: Lecture hall
  III/4
LOCATION:Lecture hall III/4
ORGANIZER:Franc Majdič
X-WR-TIMEZONE:Europe/Ljubljana
END:VEVENT
BEGIN:VEVENT
SUMMARY:Izpit: Hydraulic Components and Systems
DTSTART;TZID=Europe/Ljubljana:20260209T100000
DTEND;TZID=Europe/Ljubljana:20260209T120000
DTSTAMP:20260426T000533Z
UID:fs-AFLABS-URNIK:rezervacija:11452
ATTENDEE:Erasmus (Erasmus)
CATEGORIES:Reservation
COLOR:royalblue
DESCRIPTION:Predmeti: Hydraulic Components and Systems (HCSE)\nLetniki: Er
 asmus (Erasmus)\nIzvajalci: Franc Majdič\nProstori: Lecture hall III/4
LOCATION:Lecture hall III/4
ORGANIZER:Franc Majdič
X-WR-TIMEZONE:Europe/Ljubljana
END:VEVENT
BEGIN:VEVENT
SUMMARY:Izpit: Hidravlični industrijski sistemi
DTSTART;TZID=Europe/Ljubljana:20260120T100000
DTEND;TZID=Europe/Ljubljana:20260120T130000
DTSTAMP:20260426T000533Z
UID:fs-AFLABS-URNIK:rezervacija:11948
ATTENDEE:Design of industrial systems (PAP-3)
CATEGORIES:Reservation
COLOR:royalblue
DESCRIPTION:Predmeti: Industry hydraulic systems (HISP)\nLetniki: Design o
 f industrial systems (PAP-3)\nIzvajalci: Franc Majdič\nProstori: Lecture 
 hall III/4
LOCATION:Lecture hall III/4
ORGANIZER:Franc Majdič
X-WR-TIMEZONE:Europe/Ljubljana
END:VEVENT
BEGIN:VEVENT
SUMMARY:Izpit: Hidravlika in pnevmatika - PAP
DTSTART;TZID=Europe/Ljubljana:20260121T110000
DTEND;TZID=Europe/Ljubljana:20260121T130000
DTSTAMP:20260426T000533Z
UID:fs-AFLABS-URNIK:rezervacija:12001
ATTENDEE:Aircraft design and maintenance (PAP-3)
ATTENDEE:Design of machines and devices (PAP-3)
CATEGORIES:Reservation
COLOR:royalblue
DESCRIPTION:Predmeti: Hydraulics and pneumatics - PAP (HIPP)\nLetniki: Air
 craft design and maintenance (PAP-3)\, Design of machines and devices (PAP
 -3)\nIzvajalci: Franc Majdič\nProstori: Lecture hall III/4
LOCATION:Lecture hall III/4
ORGANIZER:Franc Majdič
X-WR-TIMEZONE:Europe/Ljubljana
END:VEVENT
BEGIN:VEVENT
SUMMARY:Izpit: Hidravlika in pnevmatika
DTSTART;TZID=Europe/Ljubljana:20260121T110000
DTEND;TZID=Europe/Ljubljana:20260121T130000
DTSTAMP:20260426T000533Z
UID:fs-AFLABS-URNIK:rezervacija:12002
ATTENDEE:Letalstvo - Snovanje in vzdrževanje letal (PAP-3)
ATTENDEE:Snovanje, obratovanje in vzdrževanje - Mobilna tehnika (PAP-3)
ATTENDEE:Snovanje, obratovanje in vzdrževanje - Transportni in delovni st
 roji (PAP-3)
CATEGORIES:Reservation
COLOR:royalblue
DESCRIPTION:Predmeti: Hydraulics and Pneumatics (3061)\nLetniki: Snovanje\
 , obratovanje in vzdrževanje - Mobilna tehnika (PAP-3)\, Snovanje\, obrat
 ovanje in vzdrževanje - Transportni in delovni stroji (PAP-3)\, Letalstvo
  - Snovanje in vzdrževanje letal (PAP-3)\nIzvajalci: Franc Majdič\nProst
 ori: Lecture hall III/4
LOCATION:Lecture hall III/4
ORGANIZER:Franc Majdič
X-WR-TIMEZONE:Europe/Ljubljana
END:VEVENT
BEGIN:VEVENT
SUMMARY:Izpit: Hidravlične komponente in sistemi
DTSTART;TZID=Europe/Ljubljana:20260126T080000
DTEND;TZID=Europe/Ljubljana:20260126T100000
DTSTAMP:20260426T000533Z
UID:fs-AFLABS-URNIK:rezervacija:12223
ATTENDEE:Engineering design (MAG-2)
CATEGORIES:Reservation
COLOR:royalblue
DESCRIPTION:Predmeti: Hydraulic components and systems (HKSM)\nLetniki: En
 gineering design (MAG-2)\nIzvajalci: Franc Majdič\nProstori: Lecture hall
  III/4
LOCATION:Lecture hall III/4
ORGANIZER:Franc Majdič
X-WR-TIMEZONE:Europe/Ljubljana
END:VEVENT
BEGIN:VEVENT
SUMMARY:Izpit: Hydraulic Components and Systems
DTSTART;TZID=Europe/Ljubljana:20260126T080000
DTEND;TZID=Europe/Ljubljana:20260126T100000
DTSTAMP:20260426T000533Z
UID:fs-AFLABS-URNIK:rezervacija:12224
ATTENDEE:Erasmus (Erasmus)
CATEGORIES:Reservation
COLOR:royalblue
DESCRIPTION:Predmeti: Hydraulic Components and Systems (HCSE)\nLetniki: Er
 asmus (Erasmus)\nIzvajalci: Franc Majdič\nProstori: Lecture hall III/4
LOCATION:Lecture hall III/4
ORGANIZER:Franc Majdič
X-WR-TIMEZONE:Europe/Ljubljana
END:VEVENT
BEGIN:VEVENT
SUMMARY:Izpit: Hidravlični industrijski sistemi
DTSTART;TZID=Europe/Ljubljana:20260203T080000
DTEND;TZID=Europe/Ljubljana:20260203T110000
DTSTAMP:20260426T000533Z
UID:fs-AFLABS-URNIK:rezervacija:12458
ATTENDEE:Design of industrial systems (PAP-3)
CATEGORIES:Reservation
COLOR:royalblue
DESCRIPTION:Predmeti: Industry hydraulic systems (HISP)\nLetniki: Design o
 f industrial systems (PAP-3)\nIzvajalci: Franc Majdič\nProstori: Lecture 
 hall III/2
LOCATION:Lecture hall III/2
ORGANIZER:Franc Majdič
X-WR-TIMEZONE:Europe/Ljubljana
END:VEVENT
BEGIN:VEVENT
SUMMARY:Izpit: Hidravlika in pnevmatika - PAP
DTSTART;TZID=Europe/Ljubljana:20260204T080000
DTEND;TZID=Europe/Ljubljana:20260204T100000
DTSTAMP:20260426T000533Z
UID:fs-AFLABS-URNIK:rezervacija:12511
ATTENDEE:Aircraft design and maintenance (PAP-3)
ATTENDEE:Design of machines and devices (PAP-3)
CATEGORIES:Reservation
COLOR:royalblue
DESCRIPTION:Predmeti: Hydraulics and pneumatics - PAP (HIPP)\nLetniki: Air
 craft design and maintenance (PAP-3)\, Design of machines and devices (PAP
 -3)\nIzvajalci: Franc Majdič\nProstori: Lecture hall III/2
LOCATION:Lecture hall III/2
ORGANIZER:Franc Majdič
X-WR-TIMEZONE:Europe/Ljubljana
END:VEVENT
BEGIN:VEVENT
SUMMARY:Izpit: Hidravlične komponente in sistemi
DTSTART;TZID=Europe/Ljubljana:20260209T100000
DTEND;TZID=Europe/Ljubljana:20260209T120000
DTSTAMP:20260426T000533Z
UID:fs-AFLABS-URNIK:rezervacija:12828
ATTENDEE:Engineering design (MAG-2)
CATEGORIES:Reservation
COLOR:royalblue
DESCRIPTION:Predmeti: Hydraulic components and systems (HKSM)\nLetniki: En
 gineering design (MAG-2)\nIzvajalci: Franc Majdič\nProstori: Lecture hall
  III/4
LOCATION:Lecture hall III/4
ORGANIZER:Franc Majdič
X-WR-TIMEZONE:Europe/Ljubljana
END:VEVENT
BEGIN:VEVENT
SUMMARY:Izpit: Hidravlične komponente in sistemi
DTSTART;TZID=Europe/Ljubljana:20260126T080000
DTEND;TZID=Europe/Ljubljana:20260126T100000
DTSTAMP:20260426T000533Z
UID:fs-AFLABS-URNIK:rezervacija:12830
ATTENDEE:Engineering design (MAG-2)
CATEGORIES:Reservation
COLOR:royalblue
DESCRIPTION:Predmeti: Hydraulic components and systems (HKSM)\nLetniki: En
 gineering design (MAG-2)\nIzvajalci: Franc Majdič\nProstori: Lecture hall
  III/4
LOCATION:Lecture hall III/4
ORGANIZER:Franc Majdič
X-WR-TIMEZONE:Europe/Ljubljana
END:VEVENT
BEGIN:VEVENT
SUMMARY:Zagovor HiS in HiP-PAP
DTSTART;TZID=Europe/Ljubljana:20260128T100000
DTEND;TZID=Europe/Ljubljana:20260128T120000
DTSTAMP:20260426T000533Z
UID:fs-AFLABS-URNIK:rezervacija:13582
CATEGORIES:Reservation
COLOR:royalblue
DESCRIPTION:Predmeti: \nLetniki: \nIzvajalci: Franc Majdič\nProstori: Lec
 ture hall III/3A
LOCATION:Lecture hall III/3A
ORGANIZER:Franc Majdič
X-WR-TIMEZONE:Europe/Ljubljana
END:VEVENT
BEGIN:VEVENT
SUMMARY:Zagovor HKS\, HCS
DTSTART;TZID=Europe/Ljubljana:20260130T090000
DTEND;TZID=Europe/Ljubljana:20260130T120000
DTSTAMP:20260426T000533Z
UID:fs-AFLABS-URNIK:rezervacija:13586
ATTENDEE:Engineering design (MAG-2)
ATTENDEE:Erasmus (Erasmus)
CATEGORIES:Reservation
COLOR:royalblue
DESCRIPTION:Predmeti: Hydraulic components and systems (HKSM)\, Hydraulic 
 Components and Systems (HCSE)\nLetniki: Erasmus (Erasmus)\, Engineering de
 sign (MAG-2)\nIzvajalci: Franc Majdič\nProstori: Lecture hall II/3A
LOCATION:Lecture hall II/3A
ORGANIZER:Franc Majdič
X-WR-TIMEZONE:Europe/Ljubljana
END:VEVENT
BEGIN:VEVENT
SUMMARY:Zagovor teme doktorata
DTSTART;TZID=Europe/Ljubljana:20260212T090000
DTEND;TZID=Europe/Ljubljana:20260212T130000
DTSTAMP:20260426T000533Z
UID:fs-AFLABS-URNIK:rezervacija:13667
CATEGORIES:Reservation
COLOR:royalblue
DESCRIPTION:Predmeti: \nLetniki: \nIzvajalci: Marko Hočevar\, Franc Majdi
 č\, Žak Sovec\nProstori: Conference room
LOCATION:Conference room
ORGANIZER:Marko Hočevar, Franc Majdič, Žak Sovec
X-WR-TIMEZONE:Europe/Ljubljana
END:VEVENT
BEGIN:VEVENT
SUMMARY:Izpit HiP-FPP
DTSTART;TZID=Europe/Ljubljana:20260306T100000
DTEND;TZID=Europe/Ljubljana:20260306T120000
DTSTAMP:20260426T000533Z
UID:fs-AFLABS-URNIK:rezervacija:13718
CATEGORIES:Reservation
COLOR:royalblue
DESCRIPTION:Predmeti: \nLetniki: \nIzvajalci: Franc Majdič\nProstori: Lec
 ture hall III/3A
LOCATION:Lecture hall III/3A
ORGANIZER:Franc Majdič
X-WR-TIMEZONE:Europe/Ljubljana
END:VEVENT
BEGIN:VEVENT
SUMMARY:Sestanek Soflogging
DTSTART;TZID=Europe/Ljubljana:20260227T100000
DTEND;TZID=Europe/Ljubljana:20260227T120000
DTSTAMP:20260426T000533Z
UID:fs-AFLABS-URNIK:rezervacija:13970
CATEGORIES:Reservation
COLOR:royalblue
DESCRIPTION:Predmeti: \nLetniki: \nIzvajalci: Franc Majdič\nProstori: Con
 ference room
LOCATION:Conference room
ORGANIZER:Franc Majdič
X-WR-TIMEZONE:Europe/Ljubljana
END:VEVENT
END:VCALENDAR
