BEGIN:VCALENDAR
VERSION:2.0
PRODID:-//AFLabs urnik izvoz - fs//aflabs.si//SI
NAME:UL FS Urnik
X-WR-CALNAME:UL FS Urnik
DTSTAMP:20260419T153910Z
REFRESH-INTERVAL:PT1H
SOURCE:https://urnik.fs.uni-lj.si/en/teacher/770/?day=2024-07-01&export=1
URL:https://urnik.fs.uni-lj.si/en/teacher/770/?day=2024-07-01&export=1
X-PUBLISHED-TTL:PT1H
X-WR-TIMEZONE:Europe/Ljubljana
BEGIN:VTIMEZONE
TZID:Europe/Ljubljana
BEGIN:DAYLIGHT
DTSTART:20260329T020000
RDATE:20260329T020000
RDATE:20270328T020000
TZNAME:CEST
TZOFFSETFROM:+0100
TZOFFSETTO:+0200
END:DAYLIGHT
BEGIN:STANDARD
DTSTART:20261025T030000
RDATE:20261025T030000
RDATE:20271031T030000
TZNAME:CET
TZOFFSETFROM:+0200
TZOFFSETTO:+0100
END:STANDARD
END:VTIMEZONE
BEGIN:VEVENT
SUMMARY:Building physics and indoor environment quality (SFNP)\, Lecture e
 xercises (VP)
DTSTART;TZID=Europe/Ljubljana:20240529T113000
DTEND;TZID=Europe/Ljubljana:20240529T133000
DTSTAMP:20260419T153910Z
UID:fs-AFLABS-URNIK:srecanje:8456-2024-05-29 11:30:00+02:00
DESCRIPTION:Predmet: Building physics and indoor environment quality (SFNP
 )\, Lecture exercises (VP)\nLetniki: Process engineering (PAP-2)\nIzvajalc
 i: Suzana Domjan\, Urška Mlakar\, Eva Zavrl\nProstor: Lecture hall III/3B
END:VEVENT
BEGIN:VEVENT
SUMMARY:Air-conditioning\, Heating\, Refrigeration\, Ventilation (AHRE)\, 
 Lecture exercises (VP)\, [S1]
DTSTART;TZID=Europe/Ljubljana:20240530T100000
DTEND;TZID=Europe/Ljubljana:20240530T120000
DTSTAMP:20260419T153910Z
UID:fs-AFLABS-URNIK:srecanje:6135-2024-05-30 10:00:00+02:00
DESCRIPTION:Predmet: Air-conditioning\, Heating\, Refrigeration\, Ventilat
 ion (AHRE)\, Lecture exercises (VP)\, [S1]\nLetniki: Erasmus (Erasmus)\nIz
 vajalci: Urška Mlakar\nProstor: Lecture hall II/3B
END:VEVENT
BEGIN:VEVENT
SUMMARY:Air-conditioning\, Heating\, Refrigeration\, Ventilation (AHRE)\, 
 Lecture exercises (VP)\, [S2]
DTSTART;TZID=Europe/Ljubljana:20240530T120000
DTEND;TZID=Europe/Ljubljana:20240530T140000
DTSTAMP:20260419T153910Z
UID:fs-AFLABS-URNIK:srecanje:3611-2024-05-30 12:00:00+02:00
DESCRIPTION:Predmet: Air-conditioning\, Heating\, Refrigeration\, Ventilat
 ion (AHRE)\, Lecture exercises (VP)\, [S2]\nLetniki: Erasmus (Erasmus)\nIz
 vajalci: Urška Mlakar\nProstor: Lecture hall II/2
END:VEVENT
END:VCALENDAR
