BEGIN:VCALENDAR
VERSION:2.0
PRODID:-//AFLabs urnik izvoz - fs//aflabs.si//SI
NAME:UL FS Urnik
X-WR-CALNAME:UL FS Urnik
DTSTAMP:20260421T234230Z
REFRESH-INTERVAL:PT1H
SOURCE:https://urnik.fs.uni-lj.si/en/teacher/771/?day=2025-01-06&export=1
URL:https://urnik.fs.uni-lj.si/en/teacher/771/?day=2025-01-06&export=1
X-PUBLISHED-TTL:PT1H
X-WR-TIMEZONE:Europe/Ljubljana
BEGIN:VTIMEZONE
TZID:Europe/Ljubljana
BEGIN:DAYLIGHT
DTSTART:20260329T020000
RDATE:20260329T020000
RDATE:20270328T020000
TZNAME:CEST
TZOFFSETFROM:+0100
TZOFFSETTO:+0200
END:DAYLIGHT
BEGIN:STANDARD
DTSTART:20261025T030000
RDATE:20261025T030000
RDATE:20271031T030000
TZNAME:CET
TZOFFSETFROM:+0200
TZOFFSETTO:+0100
END:STANDARD
END:VTIMEZONE
BEGIN:VEVENT
SUMMARY:Technical drawing and computer aided modelling of geometry (TRRR)\
 , Laboratory excercises (VL)\, [S8]
DTSTART;TZID=Europe/Ljubljana:20241010T080000
DTEND;TZID=Europe/Ljubljana:20241010T100000
DTSTAMP:20260421T234230Z
UID:fs-AFLABS-URNIK:srecanje:7525-2024-10-10 08:00:00+02:00
DESCRIPTION:Predmet: Technical drawing and computer aided modelling of geo
 metry (TRRR)\, Laboratory excercises (VL)\, [S8]\nLetniki: RRP-1 (RRP-1)\n
 Izvajalci: Bor Mojškerc\, Jovan Trajkovski\, Ivona Vasileska\nProstor: Co
 mputer lecture room LECAD / LASOK III/1
END:VEVENT
BEGIN:VEVENT
SUMMARY:Technical drawing and computer aided modelling of geometry (TRRR)\
 , Laboratory excercises (VL)\, [S8]
DTSTART;TZID=Europe/Ljubljana:20241017T080000
DTEND;TZID=Europe/Ljubljana:20241017T100000
DTSTAMP:20260421T234230Z
UID:fs-AFLABS-URNIK:srecanje:7525-2024-10-17 08:00:00+02:00
DESCRIPTION:Predmet: Technical drawing and computer aided modelling of geo
 metry (TRRR)\, Laboratory excercises (VL)\, [S8]\nLetniki: RRP-1 (RRP-1)\n
 Izvajalci: Bor Mojškerc\, Jovan Trajkovski\, Ivona Vasileska\nProstor: Co
 mputer lecture room LECAD / LASOK III/1
END:VEVENT
BEGIN:VEVENT
SUMMARY:Technical drawing and computer aided modelling of geometry (TRRR)\
 , Laboratory excercises (VL)\, [S8]
DTSTART;TZID=Europe/Ljubljana:20241024T080000
DTEND;TZID=Europe/Ljubljana:20241024T100000
DTSTAMP:20260421T234230Z
UID:fs-AFLABS-URNIK:srecanje:7525-2024-10-24 08:00:00+02:00
DESCRIPTION:Predmet: Technical drawing and computer aided modelling of geo
 metry (TRRR)\, Laboratory excercises (VL)\, [S8]\nLetniki: RRP-1 (RRP-1)\n
 Izvajalci: Bor Mojškerc\, Jovan Trajkovski\, Ivona Vasileska\nProstor: Co
 mputer lecture room LECAD / LASOK III/1
END:VEVENT
BEGIN:VEVENT
SUMMARY:Technical drawing and computer aided modelling of geometry (TRRR)\
 , Laboratory excercises (VL)\, [S8]
DTSTART;TZID=Europe/Ljubljana:20241107T080000
DTEND;TZID=Europe/Ljubljana:20241107T100000
DTSTAMP:20260421T234230Z
UID:fs-AFLABS-URNIK:srecanje:7525-2024-11-07 08:00:00+01:00
DESCRIPTION:Predmet: Technical drawing and computer aided modelling of geo
 metry (TRRR)\, Laboratory excercises (VL)\, [S8]\nLetniki: RRP-1 (RRP-1)\n
 Izvajalci: Bor Mojškerc\, Jovan Trajkovski\, Ivona Vasileska\nProstor: Co
 mputer lecture room LECAD / LASOK III/1
END:VEVENT
BEGIN:VEVENT
SUMMARY:Technical drawing and computer aided modelling of geometry (TRRR)\
 , Laboratory excercises (VL)\, [S8]
DTSTART;TZID=Europe/Ljubljana:20241114T080000
DTEND;TZID=Europe/Ljubljana:20241114T100000
DTSTAMP:20260421T234230Z
UID:fs-AFLABS-URNIK:srecanje:7525-2024-11-14 08:00:00+01:00
DESCRIPTION:Predmet: Technical drawing and computer aided modelling of geo
 metry (TRRR)\, Laboratory excercises (VL)\, [S8]\nLetniki: RRP-1 (RRP-1)\n
 Izvajalci: Bor Mojškerc\, Jovan Trajkovski\, Ivona Vasileska\nProstor: Co
 mputer lecture room LECAD / LASOK III/1
END:VEVENT
BEGIN:VEVENT
SUMMARY:Technical drawing and computer aided modelling of geometry (TRRR)\
 , Laboratory excercises (VL)\, [S8]
DTSTART;TZID=Europe/Ljubljana:20241121T080000
DTEND;TZID=Europe/Ljubljana:20241121T100000
DTSTAMP:20260421T234230Z
UID:fs-AFLABS-URNIK:srecanje:7525-2024-11-21 08:00:00+01:00
DESCRIPTION:Predmet: Technical drawing and computer aided modelling of geo
 metry (TRRR)\, Laboratory excercises (VL)\, [S8]\nLetniki: RRP-1 (RRP-1)\n
 Izvajalci: Bor Mojškerc\, Jovan Trajkovski\, Ivona Vasileska\nProstor: Co
 mputer lecture room LECAD / LASOK III/1
END:VEVENT
BEGIN:VEVENT
SUMMARY:Technical drawing and computer aided modelling of geometry (TRRR)\
 , Laboratory excercises (VL)\, [S8]
DTSTART;TZID=Europe/Ljubljana:20241128T080000
DTEND;TZID=Europe/Ljubljana:20241128T100000
DTSTAMP:20260421T234230Z
UID:fs-AFLABS-URNIK:srecanje:7525-2024-11-28 08:00:00+01:00
DESCRIPTION:Predmet: Technical drawing and computer aided modelling of geo
 metry (TRRR)\, Laboratory excercises (VL)\, [S8]\nLetniki: RRP-1 (RRP-1)\n
 Izvajalci: Bor Mojškerc\, Jovan Trajkovski\, Ivona Vasileska\nProstor: Co
 mputer lecture room LECAD / LASOK III/1
END:VEVENT
BEGIN:VEVENT
SUMMARY:Technical drawing and computer aided modelling of geometry (TRRR)\
 , Laboratory excercises (VL)\, [S8]
DTSTART;TZID=Europe/Ljubljana:20241205T080000
DTEND;TZID=Europe/Ljubljana:20241205T100000
DTSTAMP:20260421T234230Z
UID:fs-AFLABS-URNIK:srecanje:7525-2024-12-05 08:00:00+01:00
DESCRIPTION:Predmet: Technical drawing and computer aided modelling of geo
 metry (TRRR)\, Laboratory excercises (VL)\, [S8]\nLetniki: RRP-1 (RRP-1)\n
 Izvajalci: Bor Mojškerc\, Jovan Trajkovski\, Ivona Vasileska\nProstor: Co
 mputer lecture room LECAD / LASOK III/1
END:VEVENT
BEGIN:VEVENT
SUMMARY:Technical drawing and computer aided modelling of geometry (TRRR)\
 , Laboratory excercises (VL)\, [S8]
DTSTART;TZID=Europe/Ljubljana:20241212T080000
DTEND;TZID=Europe/Ljubljana:20241212T100000
DTSTAMP:20260421T234230Z
UID:fs-AFLABS-URNIK:srecanje:7525-2024-12-12 08:00:00+01:00
DESCRIPTION:Predmet: Technical drawing and computer aided modelling of geo
 metry (TRRR)\, Laboratory excercises (VL)\, [S8]\nLetniki: RRP-1 (RRP-1)\n
 Izvajalci: Bor Mojškerc\, Jovan Trajkovski\, Ivona Vasileska\nProstor: Co
 mputer lecture room LECAD / LASOK III/1
END:VEVENT
BEGIN:VEVENT
SUMMARY:Technical drawing and computer aided modelling of geometry (TRRR)\
 , Laboratory excercises (VL)\, [S8]
DTSTART;TZID=Europe/Ljubljana:20241219T080000
DTEND;TZID=Europe/Ljubljana:20241219T100000
DTSTAMP:20260421T234230Z
UID:fs-AFLABS-URNIK:srecanje:7525-2024-12-19 08:00:00+01:00
DESCRIPTION:Predmet: Technical drawing and computer aided modelling of geo
 metry (TRRR)\, Laboratory excercises (VL)\, [S8]\nLetniki: RRP-1 (RRP-1)\n
 Izvajalci: Bor Mojškerc\, Jovan Trajkovski\, Ivona Vasileska\nProstor: Co
 mputer lecture room LECAD / LASOK III/1
END:VEVENT
BEGIN:VEVENT
SUMMARY:Technical drawing and computer aided modelling of geometry (TRRR)\
 , Laboratory excercises (VL)\, [S8]
DTSTART;TZID=Europe/Ljubljana:20241226T080000
DTEND;TZID=Europe/Ljubljana:20241226T100000
DTSTAMP:20260421T234230Z
UID:fs-AFLABS-URNIK:srecanje:7525-2024-12-26 08:00:00+01:00
DESCRIPTION:Predmet: Technical drawing and computer aided modelling of geo
 metry (TRRR)\, Laboratory excercises (VL)\, [S8]\nLetniki: RRP-1 (RRP-1)\n
 Izvajalci: Bor Mojškerc\, Jovan Trajkovski\, Ivona Vasileska\nProstor: Co
 mputer lecture room LECAD / LASOK III/1
END:VEVENT
BEGIN:VEVENT
SUMMARY:Technical drawing and computer aided modelling of geometry (TRRR)\
 , Laboratory excercises (VL)\, [S8]
DTSTART;TZID=Europe/Ljubljana:20250109T080000
DTEND;TZID=Europe/Ljubljana:20250109T100000
DTSTAMP:20260421T234230Z
UID:fs-AFLABS-URNIK:srecanje:7525-2025-01-09 08:00:00+01:00
DESCRIPTION:Predmet: Technical drawing and computer aided modelling of geo
 metry (TRRR)\, Laboratory excercises (VL)\, [S8]\nLetniki: RRP-1 (RRP-1)\n
 Izvajalci: Bor Mojškerc\, Jovan Trajkovski\, Ivona Vasileska\nProstor: Co
 mputer lecture room LECAD / LASOK III/1
END:VEVENT
BEGIN:VEVENT
SUMMARY:Technical drawing and computer aided modelling of geometry (TRRR)\
 , Laboratory excercises (VL)\, [S8]
DTSTART;TZID=Europe/Ljubljana:20250116T080000
DTEND;TZID=Europe/Ljubljana:20250116T100000
DTSTAMP:20260421T234230Z
UID:fs-AFLABS-URNIK:srecanje:7525-2025-01-16 08:00:00+01:00
DESCRIPTION:Predmet: Technical drawing and computer aided modelling of geo
 metry (TRRR)\, Laboratory excercises (VL)\, [S8]\nLetniki: RRP-1 (RRP-1)\n
 Izvajalci: Bor Mojškerc\, Jovan Trajkovski\, Ivona Vasileska\nProstor: Co
 mputer lecture room LECAD / LASOK III/1
END:VEVENT
BEGIN:VEVENT
SUMMARY:Technical drawing and computer aided modelling of geometry (TRRR)\
 , Laboratory excercises (VL)\, [S6]
DTSTART;TZID=Europe/Ljubljana:20241121T100000
DTEND;TZID=Europe/Ljubljana:20241121T120000
DTSTAMP:20260421T234230Z
UID:fs-AFLABS-URNIK:srecanje:7523-2024-11-21 10:00:00+01:00
DESCRIPTION:Predmet: Technical drawing and computer aided modelling of geo
 metry (TRRR)\, Laboratory excercises (VL)\, [S6]\nLetniki: RRP-1 (RRP-1)\n
 Izvajalci: Simon Krašna\, Bor Mojškerc\, Ivona Vasileska\nProstor: Compu
 ter lecture room LECAD / LASOK III/1
END:VEVENT
BEGIN:VEVENT
SUMMARY:Technical drawing and computer aided modelling of geometry (TRRR)\
 , Laboratory excercises (VL)\, [S6]
DTSTART;TZID=Europe/Ljubljana:20241128T100000
DTEND;TZID=Europe/Ljubljana:20241128T120000
DTSTAMP:20260421T234230Z
UID:fs-AFLABS-URNIK:srecanje:7523-2024-11-28 10:00:00+01:00
DESCRIPTION:Predmet: Technical drawing and computer aided modelling of geo
 metry (TRRR)\, Laboratory excercises (VL)\, [S6]\nLetniki: RRP-1 (RRP-1)\n
 Izvajalci: Simon Krašna\, Bor Mojškerc\, Ivona Vasileska\nProstor: Compu
 ter lecture room LECAD / LASOK III/1
END:VEVENT
BEGIN:VEVENT
SUMMARY:Technical drawing and computer aided modelling of geometry (TRRR)\
 , Laboratory excercises (VL)\, [S6]
DTSTART;TZID=Europe/Ljubljana:20241205T100000
DTEND;TZID=Europe/Ljubljana:20241205T120000
DTSTAMP:20260421T234230Z
UID:fs-AFLABS-URNIK:srecanje:7523-2024-12-05 10:00:00+01:00
DESCRIPTION:Predmet: Technical drawing and computer aided modelling of geo
 metry (TRRR)\, Laboratory excercises (VL)\, [S6]\nLetniki: RRP-1 (RRP-1)\n
 Izvajalci: Simon Krašna\, Bor Mojškerc\, Ivona Vasileska\nProstor: Compu
 ter lecture room LECAD / LASOK III/1
END:VEVENT
BEGIN:VEVENT
SUMMARY:Technical drawing and computer aided modelling of geometry (TRRR)\
 , Laboratory excercises (VL)\, [S6]
DTSTART;TZID=Europe/Ljubljana:20241212T100000
DTEND;TZID=Europe/Ljubljana:20241212T120000
DTSTAMP:20260421T234230Z
UID:fs-AFLABS-URNIK:srecanje:7523-2024-12-12 10:00:00+01:00
DESCRIPTION:Predmet: Technical drawing and computer aided modelling of geo
 metry (TRRR)\, Laboratory excercises (VL)\, [S6]\nLetniki: RRP-1 (RRP-1)\n
 Izvajalci: Simon Krašna\, Bor Mojškerc\, Ivona Vasileska\nProstor: Compu
 ter lecture room LECAD / LASOK III/1
END:VEVENT
BEGIN:VEVENT
SUMMARY:Technical drawing and computer aided modelling of geometry (TRRR)\
 , Laboratory excercises (VL)\, [S6]
DTSTART;TZID=Europe/Ljubljana:20241219T100000
DTEND;TZID=Europe/Ljubljana:20241219T120000
DTSTAMP:20260421T234230Z
UID:fs-AFLABS-URNIK:srecanje:7523-2024-12-19 10:00:00+01:00
DESCRIPTION:Predmet: Technical drawing and computer aided modelling of geo
 metry (TRRR)\, Laboratory excercises (VL)\, [S6]\nLetniki: RRP-1 (RRP-1)\n
 Izvajalci: Simon Krašna\, Bor Mojškerc\, Ivona Vasileska\nProstor: Compu
 ter lecture room LECAD / LASOK III/1
END:VEVENT
BEGIN:VEVENT
SUMMARY:Technical drawing and computer aided modelling of geometry (TRRR)\
 , Laboratory excercises (VL)\, [S6]
DTSTART;TZID=Europe/Ljubljana:20241226T100000
DTEND;TZID=Europe/Ljubljana:20241226T120000
DTSTAMP:20260421T234230Z
UID:fs-AFLABS-URNIK:srecanje:7523-2024-12-26 10:00:00+01:00
DESCRIPTION:Predmet: Technical drawing and computer aided modelling of geo
 metry (TRRR)\, Laboratory excercises (VL)\, [S6]\nLetniki: RRP-1 (RRP-1)\n
 Izvajalci: Simon Krašna\, Bor Mojškerc\, Ivona Vasileska\nProstor: Compu
 ter lecture room LECAD / LASOK III/1
END:VEVENT
BEGIN:VEVENT
SUMMARY:Technical drawing and computer aided modelling of geometry (TRRR)\
 , Laboratory excercises (VL)\, [S6]
DTSTART;TZID=Europe/Ljubljana:20250109T100000
DTEND;TZID=Europe/Ljubljana:20250109T120000
DTSTAMP:20260421T234230Z
UID:fs-AFLABS-URNIK:srecanje:7523-2025-01-09 10:00:00+01:00
DESCRIPTION:Predmet: Technical drawing and computer aided modelling of geo
 metry (TRRR)\, Laboratory excercises (VL)\, [S6]\nLetniki: RRP-1 (RRP-1)\n
 Izvajalci: Simon Krašna\, Bor Mojškerc\, Ivona Vasileska\nProstor: Compu
 ter lecture room LECAD / LASOK III/1
END:VEVENT
BEGIN:VEVENT
SUMMARY:Technical drawing and computer aided modelling of geometry (TRRR)\
 , Laboratory excercises (VL)\, [S6]
DTSTART;TZID=Europe/Ljubljana:20250116T100000
DTEND;TZID=Europe/Ljubljana:20250116T120000
DTSTAMP:20260421T234230Z
UID:fs-AFLABS-URNIK:srecanje:7523-2025-01-16 10:00:00+01:00
DESCRIPTION:Predmet: Technical drawing and computer aided modelling of geo
 metry (TRRR)\, Laboratory excercises (VL)\, [S6]\nLetniki: RRP-1 (RRP-1)\n
 Izvajalci: Simon Krašna\, Bor Mojškerc\, Ivona Vasileska\nProstor: Compu
 ter lecture room LECAD / LASOK III/1
END:VEVENT
BEGIN:VEVENT
SUMMARY:ALUO - Strojni elementi - seminar
DTSTART;TZID=Europe/Ljubljana:20241017T150000
DTEND;TZID=Europe/Ljubljana:20241017T170000
DTSTAMP:20260421T234230Z
UID:fs-AFLABS-URNIK:rezervacija:8157
CATEGORIES:Reservation
COLOR:royalblue
DESCRIPTION:Predmeti: \nLetniki: \nIzvajalci: Bor Mojškerc\nProstori: Lab
 oratory LECAD III/6
LOCATION:Laboratory LECAD III/6
ORGANIZER:Bor Mojškerc
X-WR-TIMEZONE:Europe/Ljubljana
END:VEVENT
BEGIN:VEVENT
SUMMARY:ALUO - Strojni elementi - seminar
DTSTART;TZID=Europe/Ljubljana:20241121T150000
DTEND;TZID=Europe/Ljubljana:20241121T170000
DTSTAMP:20260421T234230Z
UID:fs-AFLABS-URNIK:rezervacija:8161
CATEGORIES:Reservation
COLOR:royalblue
DESCRIPTION:Predmeti: \nLetniki: \nIzvajalci: Bor Mojškerc\nProstori: Lab
 oratory LECAD III/6
LOCATION:Laboratory LECAD III/6
ORGANIZER:Bor Mojškerc
X-WR-TIMEZONE:Europe/Ljubljana
END:VEVENT
BEGIN:VEVENT
SUMMARY:ALUO - Strojni elementi - seminar
DTSTART;TZID=Europe/Ljubljana:20241128T150000
DTEND;TZID=Europe/Ljubljana:20241128T170000
DTSTAMP:20260421T234230Z
UID:fs-AFLABS-URNIK:rezervacija:8162
CATEGORIES:Reservation
COLOR:royalblue
DESCRIPTION:Predmeti: \nLetniki: \nIzvajalci: Bor Mojškerc\nProstori: Lab
 oratory LECAD III/6
LOCATION:Laboratory LECAD III/6
ORGANIZER:Bor Mojškerc
X-WR-TIMEZONE:Europe/Ljubljana
END:VEVENT
BEGIN:VEVENT
SUMMARY:ALUO - Strojni elementi - seminar
DTSTART;TZID=Europe/Ljubljana:20241024T150000
DTEND;TZID=Europe/Ljubljana:20241024T170000
DTSTAMP:20260421T234230Z
UID:fs-AFLABS-URNIK:rezervacija:8158
CATEGORIES:Reservation
COLOR:royalblue
DESCRIPTION:Predmeti: \nLetniki: \nIzvajalci: Bor Mojškerc\nProstori: Lab
 oratory LECAD III/6
LOCATION:Laboratory LECAD III/6
ORGANIZER:Bor Mojškerc
X-WR-TIMEZONE:Europe/Ljubljana
END:VEVENT
BEGIN:VEVENT
SUMMARY:ALUO - Strojni elementi - seminar
DTSTART;TZID=Europe/Ljubljana:20241114T150000
DTEND;TZID=Europe/Ljubljana:20241114T170000
DTSTAMP:20260421T234230Z
UID:fs-AFLABS-URNIK:rezervacija:8160
CATEGORIES:Reservation
COLOR:royalblue
DESCRIPTION:Predmeti: \nLetniki: \nIzvajalci: Bor Mojškerc\nProstori: Lab
 oratory LECAD III/6
LOCATION:Laboratory LECAD III/6
ORGANIZER:Bor Mojškerc
X-WR-TIMEZONE:Europe/Ljubljana
END:VEVENT
BEGIN:VEVENT
SUMMARY:ALUO - Strojni elementi - seminar
DTSTART;TZID=Europe/Ljubljana:20250109T150000
DTEND;TZID=Europe/Ljubljana:20250109T170000
DTSTAMP:20260421T234230Z
UID:fs-AFLABS-URNIK:rezervacija:8166
CATEGORIES:Reservation
COLOR:royalblue
DESCRIPTION:Predmeti: \nLetniki: \nIzvajalci: Bor Mojškerc\nProstori: Lab
 oratory LECAD III/6
LOCATION:Laboratory LECAD III/6
ORGANIZER:Bor Mojškerc
X-WR-TIMEZONE:Europe/Ljubljana
END:VEVENT
BEGIN:VEVENT
SUMMARY:ALUO - Strojni elementi - seminar
DTSTART;TZID=Europe/Ljubljana:20250116T150000
DTEND;TZID=Europe/Ljubljana:20250116T170000
DTSTAMP:20260421T234230Z
UID:fs-AFLABS-URNIK:rezervacija:8167
CATEGORIES:Reservation
COLOR:royalblue
DESCRIPTION:Predmeti: \nLetniki: \nIzvajalci: Bor Mojškerc\nProstori: Lab
 oratory LECAD III/6
LOCATION:Laboratory LECAD III/6
ORGANIZER:Bor Mojškerc
X-WR-TIMEZONE:Europe/Ljubljana
END:VEVENT
BEGIN:VEVENT
SUMMARY:ALUO - Strojni elementi - seminar
DTSTART;TZID=Europe/Ljubljana:20241107T150000
DTEND;TZID=Europe/Ljubljana:20241107T170000
DTSTAMP:20260421T234230Z
UID:fs-AFLABS-URNIK:rezervacija:8159
CATEGORIES:Reservation
COLOR:royalblue
DESCRIPTION:Predmeti: \nLetniki: \nIzvajalci: Bor Mojškerc\nProstori: Lab
 oratory LECAD III/6
LOCATION:Laboratory LECAD III/6
ORGANIZER:Bor Mojškerc
X-WR-TIMEZONE:Europe/Ljubljana
END:VEVENT
BEGIN:VEVENT
SUMMARY:ALUO - Strojni elementi - seminar
DTSTART;TZID=Europe/Ljubljana:20241212T150000
DTEND;TZID=Europe/Ljubljana:20241212T170000
DTSTAMP:20260421T234230Z
UID:fs-AFLABS-URNIK:rezervacija:8164
CATEGORIES:Reservation
COLOR:royalblue
DESCRIPTION:Predmeti: \nLetniki: \nIzvajalci: Bor Mojškerc\nProstori: Lab
 oratory LECAD III/6
LOCATION:Laboratory LECAD III/6
ORGANIZER:Bor Mojškerc
X-WR-TIMEZONE:Europe/Ljubljana
END:VEVENT
BEGIN:VEVENT
SUMMARY:ALUO - Strojni elementi - seminar
DTSTART;TZID=Europe/Ljubljana:20241205T150000
DTEND;TZID=Europe/Ljubljana:20241205T170000
DTSTAMP:20260421T234230Z
UID:fs-AFLABS-URNIK:rezervacija:8163
CATEGORIES:Reservation
COLOR:royalblue
DESCRIPTION:Predmeti: \nLetniki: \nIzvajalci: Bor Mojškerc\nProstori: Lab
 oratory LECAD III/6
LOCATION:Laboratory LECAD III/6
ORGANIZER:Bor Mojškerc
X-WR-TIMEZONE:Europe/Ljubljana
END:VEVENT
BEGIN:VEVENT
SUMMARY:ALUO - Strojni elementi - seminar
DTSTART;TZID=Europe/Ljubljana:20241219T150000
DTEND;TZID=Europe/Ljubljana:20241219T170000
DTSTAMP:20260421T234230Z
UID:fs-AFLABS-URNIK:rezervacija:8165
CATEGORIES:Reservation
COLOR:royalblue
DESCRIPTION:Predmeti: \nLetniki: \nIzvajalci: Bor Mojškerc\nProstori: Lab
 oratory LECAD III/6
LOCATION:Laboratory LECAD III/6
ORGANIZER:Bor Mojškerc
X-WR-TIMEZONE:Europe/Ljubljana
END:VEVENT
END:VCALENDAR
