BEGIN:VCALENDAR
VERSION:2.0
PRODID:-//AFLabs urnik izvoz - fs//aflabs.si//SI
NAME:UL FS Urnik
X-WR-CALNAME:UL FS Urnik
DTSTAMP:20260421T141031Z
REFRESH-INTERVAL:PT1H
SOURCE:https://urnik.fs.uni-lj.si/en/teacher/772/?day=2026-06-08&export=1
URL:https://urnik.fs.uni-lj.si/en/teacher/772/?day=2026-06-08&export=1
X-PUBLISHED-TTL:PT1H
X-WR-TIMEZONE:Europe/Ljubljana
BEGIN:VTIMEZONE
TZID:Europe/Ljubljana
BEGIN:DAYLIGHT
DTSTART:20260329T020000
RDATE:20260329T020000
RDATE:20270328T020000
TZNAME:CEST
TZOFFSETFROM:+0100
TZOFFSETTO:+0200
END:DAYLIGHT
BEGIN:STANDARD
DTSTART:20261025T030000
RDATE:20261025T030000
RDATE:20271031T030000
TZNAME:CET
TZOFFSETFROM:+0200
TZOFFSETTO:+0100
END:STANDARD
END:VTIMEZONE
BEGIN:VEVENT
SUMMARY:Izpit: Osnove MKE analiz
DTSTART;TZID=Europe/Ljubljana:20260616T080000
DTEND;TZID=Europe/Ljubljana:20260616T100000
DTSTAMP:20260421T141031Z
UID:fs-AFLABS-URNIK:rezervacija:11749
ATTENDEE:Konstruiranje strojev in naprav (PAP-2)
CATEGORIES:Reservation
COLOR:royalblue
DESCRIPTION:Predmeti: Fundamentals of FEM analysis (OMAP)\nLetniki: Konstr
 uiranje strojev in naprav (PAP-2)\nIzvajalci: Nikolaj Mole\nProstori: Comp
 uter lecture room LNMS II/1
LOCATION:Computer lecture room LNMS II/1
ORGANIZER:Nikolaj Mole
X-WR-TIMEZONE:Europe/Ljubljana
END:VEVENT
BEGIN:VEVENT
SUMMARY:Izpit: Analiza konstrukcij z MKE
DTSTART;TZID=Europe/Ljubljana:20260618T080000
DTEND;TZID=Europe/Ljubljana:20260618T140000
DTSTAMP:20260421T141031Z
UID:fs-AFLABS-URNIK:rezervacija:11819
ATTENDEE:Mechanics (MAG-1)
CATEGORIES:Reservation
COLOR:royalblue
DESCRIPTION:Predmeti: FEM structural analysis (AKMM)\nLetniki: Mechanics (
 MAG-1)\nIzvajalci: Nikolaj Mole\nProstori: Computer lecture room LNMS II/1
LOCATION:Computer lecture room LNMS II/1
ORGANIZER:Nikolaj Mole
X-WR-TIMEZONE:Europe/Ljubljana
END:VEVENT
BEGIN:VEVENT
SUMMARY:Izpit: Analiza konstrukcij z MKE
DTSTART;TZID=Europe/Ljubljana:20260618T080000
DTEND;TZID=Europe/Ljubljana:20260618T140000
DTSTAMP:20260421T141031Z
UID:fs-AFLABS-URNIK:rezervacija:11820
ATTENDEE:Mechanics (MAG-1)
CATEGORIES:Reservation
COLOR:royalblue
DESCRIPTION:Predmeti: FEM structural analysis (AKMM)\nLetniki: Mechanics (
 MAG-1)\nIzvajalci: Nikolaj Mole\nProstori: Computer lecture room LNMS II/1
LOCATION:Computer lecture room LNMS II/1
ORGANIZER:Nikolaj Mole
X-WR-TIMEZONE:Europe/Ljubljana
END:VEVENT
BEGIN:VEVENT
SUMMARY:Izpit: FEM Structural Analysis
DTSTART;TZID=Europe/Ljubljana:20260618T080000
DTEND;TZID=Europe/Ljubljana:20260618T140000
DTSTAMP:20260421T141031Z
UID:fs-AFLABS-URNIK:rezervacija:11821
ATTENDEE:Erasmus (Erasmus)
CATEGORIES:Reservation
COLOR:royalblue
DESCRIPTION:Predmeti: FEM Structural Analysis (FEME)\nLetniki: Erasmus (Er
 asmus)\nIzvajalci: Nikolaj Mole\nProstori: Computer lecture room LNMS II/1
LOCATION:Computer lecture room LNMS II/1
ORGANIZER:Nikolaj Mole
X-WR-TIMEZONE:Europe/Ljubljana
END:VEVENT
BEGIN:VEVENT
SUMMARY:Izpit: Metode numeričnega modeliranja
DTSTART;TZID=Europe/Ljubljana:20260629T080000
DTEND;TZID=Europe/Ljubljana:20260629T160000
DTSTAMP:20260421T141031Z
UID:fs-AFLABS-URNIK:rezervacija:11873
ATTENDEE:RRP-3 (RRP-3)
CATEGORIES:Reservation
COLOR:royalblue
DESCRIPTION:Predmeti: Numerical modelling methods (MNMR)\nLetniki: RRP-3 (
 RRP-3)\nIzvajalci: Nikolaj Mole\nProstori: Computer lecture room LNMS II/1
LOCATION:Computer lecture room LNMS II/1
ORGANIZER:Nikolaj Mole
X-WR-TIMEZONE:Europe/Ljubljana
END:VEVENT
BEGIN:VEVENT
SUMMARY:Izpit: Metode numeričnega modeliranja
DTSTART;TZID=Europe/Ljubljana:20260629T080000
DTEND;TZID=Europe/Ljubljana:20260629T160000
DTSTAMP:20260421T141031Z
UID:fs-AFLABS-URNIK:rezervacija:11874
ATTENDEE:RRP-3 (RRP-3)
CATEGORIES:Reservation
COLOR:royalblue
DESCRIPTION:Predmeti: Numerical Modelling Methods (2040)\nLetniki: RRP-3 (
 RRP-3)\nIzvajalci: Nikolaj Mole\nProstori: Computer lecture room LNMS II/1
LOCATION:Computer lecture room LNMS II/1
ORGANIZER:Nikolaj Mole
X-WR-TIMEZONE:Europe/Ljubljana
END:VEVENT
BEGIN:VEVENT
SUMMARY:Izpit: Osnove MKE analiz
DTSTART;TZID=Europe/Ljubljana:20260602T080000
DTEND;TZID=Europe/Ljubljana:20260602T100000
DTSTAMP:20260421T141031Z
UID:fs-AFLABS-URNIK:rezervacija:12397
ATTENDEE:Konstruiranje strojev in naprav (PAP-2)
CATEGORIES:Reservation
COLOR:royalblue
DESCRIPTION:Predmeti: Fundamentals of FEM analysis (OMAP)\nLetniki: Konstr
 uiranje strojev in naprav (PAP-2)\nIzvajalci: Nikolaj Mole\nProstori: Comp
 uter lecture room LNMS II/1
LOCATION:Computer lecture room LNMS II/1
ORGANIZER:Nikolaj Mole
X-WR-TIMEZONE:Europe/Ljubljana
END:VEVENT
BEGIN:VEVENT
SUMMARY:Izpit: Analiza konstrukcij z MKE
DTSTART;TZID=Europe/Ljubljana:20260604T080000
DTEND;TZID=Europe/Ljubljana:20260604T140000
DTSTAMP:20260421T141031Z
UID:fs-AFLABS-URNIK:rezervacija:12524
ATTENDEE:Mechanics (MAG-1)
CATEGORIES:Reservation
COLOR:royalblue
DESCRIPTION:Predmeti: FEM structural analysis (AKMM)\nLetniki: Mechanics (
 MAG-1)\nIzvajalci: Nikolaj Mole\nProstori: Computer lecture room LNMS II/1
LOCATION:Computer lecture room LNMS II/1
ORGANIZER:Nikolaj Mole
X-WR-TIMEZONE:Europe/Ljubljana
END:VEVENT
BEGIN:VEVENT
SUMMARY:Izpit: Analiza konstrukcij z MKE
DTSTART;TZID=Europe/Ljubljana:20260604T080000
DTEND;TZID=Europe/Ljubljana:20260604T140000
DTSTAMP:20260421T141031Z
UID:fs-AFLABS-URNIK:rezervacija:12525
ATTENDEE:Mechanics (MAG-1)
CATEGORIES:Reservation
COLOR:royalblue
DESCRIPTION:Predmeti: FEM structural analysis (AKMM)\nLetniki: Mechanics (
 MAG-1)\nIzvajalci: Nikolaj Mole\nProstori: Computer lecture room LNMS II/1
LOCATION:Computer lecture room LNMS II/1
ORGANIZER:Nikolaj Mole
X-WR-TIMEZONE:Europe/Ljubljana
END:VEVENT
BEGIN:VEVENT
SUMMARY:Izpit: FEM Structural Analysis
DTSTART;TZID=Europe/Ljubljana:20260604T080000
DTEND;TZID=Europe/Ljubljana:20260604T140000
DTSTAMP:20260421T141031Z
UID:fs-AFLABS-URNIK:rezervacija:12526
ATTENDEE:Erasmus (Erasmus)
CATEGORIES:Reservation
COLOR:royalblue
DESCRIPTION:Predmeti: FEM Structural Analysis (FEME)\nLetniki: Erasmus (Er
 asmus)\nIzvajalci: Nikolaj Mole\nProstori: Computer lecture room LNMS II/1
LOCATION:Computer lecture room LNMS II/1
ORGANIZER:Nikolaj Mole
X-WR-TIMEZONE:Europe/Ljubljana
END:VEVENT
BEGIN:VEVENT
SUMMARY:Izpit: Osnove MKE analiz
DTSTART;TZID=Europe/Ljubljana:20260616T080000
DTEND;TZID=Europe/Ljubljana:20260616T100000
DTSTAMP:20260421T141031Z
UID:fs-AFLABS-URNIK:rezervacija:12733
ATTENDEE:Konstruiranje strojev in naprav (PAP-2)
CATEGORIES:Reservation
COLOR:royalblue
DESCRIPTION:Predmeti: Fundamentals of FEM analysis (OMAP)\nLetniki: Konstr
 uiranje strojev in naprav (PAP-2)\nIzvajalci: Nikolaj Mole\nProstori: Comp
 uter lecture room LNMS II/1
LOCATION:Computer lecture room LNMS II/1
ORGANIZER:Nikolaj Mole
X-WR-TIMEZONE:Europe/Ljubljana
END:VEVENT
BEGIN:VEVENT
SUMMARY:Izpit: Osnove MKE analiz
DTSTART;TZID=Europe/Ljubljana:20260602T080000
DTEND;TZID=Europe/Ljubljana:20260602T100000
DTSTAMP:20260421T141031Z
UID:fs-AFLABS-URNIK:rezervacija:12735
ATTENDEE:Konstruiranje strojev in naprav (PAP-2)
CATEGORIES:Reservation
COLOR:royalblue
DESCRIPTION:Predmeti: Fundamentals of FEM analysis (OMAP)\nLetniki: Konstr
 uiranje strojev in naprav (PAP-2)\nIzvajalci: Nikolaj Mole\nProstori: Comp
 uter lecture room LNMS II/1
LOCATION:Computer lecture room LNMS II/1
ORGANIZER:Nikolaj Mole
X-WR-TIMEZONE:Europe/Ljubljana
END:VEVENT
END:VCALENDAR
