BEGIN:VCALENDAR
VERSION:2.0
PRODID:-//AFLabs urnik izvoz - fs//aflabs.si//SI
NAME:UL FS Urnik
X-WR-CALNAME:UL FS Urnik
DTSTAMP:20260424T023709Z
REFRESH-INTERVAL:PT1H
SOURCE:https://urnik.fs.uni-lj.si/en/teacher/773/?day=2023-07-03&export=1
URL:https://urnik.fs.uni-lj.si/en/teacher/773/?day=2023-07-03&export=1
X-PUBLISHED-TTL:PT1H
X-WR-TIMEZONE:Europe/Ljubljana
BEGIN:VTIMEZONE
TZID:Europe/Ljubljana
BEGIN:DAYLIGHT
DTSTART:20260329T020000
RDATE:20260329T020000
RDATE:20270328T020000
TZNAME:CEST
TZOFFSETFROM:+0100
TZOFFSETTO:+0200
END:DAYLIGHT
BEGIN:STANDARD
DTSTART:20261025T030000
RDATE:20261025T030000
RDATE:20271031T030000
TZNAME:CET
TZOFFSETFROM:+0200
TZOFFSETTO:+0100
END:STANDARD
END:VTIMEZONE
BEGIN:VEVENT
SUMMARY:Energy machines and appliances - PAP (ESNP)\, Lecture exercises (V
 P)\, [S4]
DTSTART;TZID=Europe/Ljubljana:20230529T093000
DTEND;TZID=Europe/Ljubljana:20230529T113000
DTSTAMP:20260424T023709Z
UID:fs-AFLABS-URNIK:srecanje:460-2023-05-29 09:30:00+02:00
DESCRIPTION:Predmet: Energy machines and appliances - PAP (ESNP)\, Lecture
  exercises (VP)\, [S4]\nLetniki: Design of machines and devices (PAP-2)\, 
 Energy engineering (PAP-2)\, Mechatronics (PAP-2)\, Process engineering (P
 AP-2)\, Production engineering (PAP-2)\, Production technologies (PAP-2)\,
  Konstruiranje strojev in naprav (PAP-2)\nIzvajalci: Mitja Mori\nProstor: 
 Lecture hall III/3A
END:VEVENT
BEGIN:VEVENT
SUMMARY:Advanced technologies in energy supply (3058)\, Lectures (P)
DTSTART;TZID=Europe/Ljubljana:20230531T120000
DTEND;TZID=Europe/Ljubljana:20230531T150000
DTSTAMP:20260424T023709Z
UID:fs-AFLABS-URNIK:srecanje:3288-2023-05-31 12:00:00+02:00
DESCRIPTION:Predmet: Advanced technologies in energy supply (3058)\, Lectu
 res (P)\nLetniki: Energetsko\, procesno in okoljsko inženirstvo - Energet
 sko strojništvo (PAP-3)\nIzvajalci: Mitja Mori\, Mihael Sekavčnik\nProst
 or: Lecture hall III/3B
END:VEVENT
BEGIN:VEVENT
SUMMARY:Thermal and nuclear power systems (TJEP)\, Laboratory excercises (
 VL)\, [S1]
DTSTART;TZID=Europe/Ljubljana:20230531T133000
DTEND;TZID=Europe/Ljubljana:20230531T153000
DTSTAMP:20260424T023709Z
UID:fs-AFLABS-URNIK:srecanje:2727-2023-05-31 13:30:00+02:00
DESCRIPTION:Predmet: Thermal and nuclear power systems (TJEP)\, Laboratory
  excercises (VL)\, [S1]\nLetniki: Energy engineering (PAP-2)\nIzvajalci: B
 oštjan Drobnič\, Andrej Lotrič\, Mitja Mori\, Rok Stropnik\nProstor: La
 boratory LTE SI-60A
END:VEVENT
BEGIN:VEVENT
SUMMARY:Thermal and nuclear power systems (TJEP)\, Laboratory excercises (
 VL)\, [S2]
DTSTART;TZID=Europe/Ljubljana:20230531T153000
DTEND;TZID=Europe/Ljubljana:20230531T173000
DTSTAMP:20260424T023709Z
UID:fs-AFLABS-URNIK:srecanje:2728-2023-05-31 15:30:00+02:00
DESCRIPTION:Predmet: Thermal and nuclear power systems (TJEP)\, Laboratory
  excercises (VL)\, [S2]\nLetniki: Energy engineering (PAP-2)\nIzvajalci: B
 oštjan Drobnič\, Andrej Lotrič\, Mitja Mori\, Rok Stropnik\nProstor: La
 boratory LTE SI-60A
END:VEVENT
BEGIN:VEVENT
SUMMARY:Energy Conversion Systems (ECSE)\, Laboratory excercises (VL)
DTSTART;TZID=Europe/Ljubljana:20230531T080000
DTEND;TZID=Europe/Ljubljana:20230531T100000
DTSTAMP:20260424T023709Z
UID:fs-AFLABS-URNIK:srecanje:3228-2023-05-31 08:00:00+02:00
DESCRIPTION:Predmet: Energy Conversion Systems (ECSE)\, Laboratory excerci
 ses (VL)\nLetniki: Erasmus (Erasmus)\nIzvajalci: Boštjan Drobnič\, Jaka 
 Lavrih\, Mitja Mori\nProstor: Lecture hall II/3A
END:VEVENT
BEGIN:VEVENT
SUMMARY:Thermal and nuclear power systems (TJEP)\, Laboratory excercises (
 VL)\, [S3]
DTSTART;TZID=Europe/Ljubljana:20230602T073000
DTEND;TZID=Europe/Ljubljana:20230602T093000
DTSTAMP:20260424T023709Z
UID:fs-AFLABS-URNIK:srecanje:2729-2023-06-02 07:30:00+02:00
DESCRIPTION:Predmet: Thermal and nuclear power systems (TJEP)\, Laboratory
  excercises (VL)\, [S3]\nLetniki: Energy engineering (PAP-2)\nIzvajalci: B
 oštjan Drobnič\, Andrej Lotrič\, Mitja Mori\, Rok Stropnik\nProstor: La
 boratory LTE SI-60A
END:VEVENT
BEGIN:VEVENT
SUMMARY:Thermal and nuclear power systems (TJEP)\, Laboratory excercises (
 VL)\, [S4]
DTSTART;TZID=Europe/Ljubljana:20230602T093000
DTEND;TZID=Europe/Ljubljana:20230602T113000
DTSTAMP:20260424T023709Z
UID:fs-AFLABS-URNIK:srecanje:2730-2023-06-02 09:30:00+02:00
DESCRIPTION:Predmet: Thermal and nuclear power systems (TJEP)\, Laboratory
  excercises (VL)\, [S4]\nLetniki: Energy engineering (PAP-2)\nIzvajalci: B
 oštjan Drobnič\, Andrej Lotrič\, Mitja Mori\, Rok Stropnik\nProstor: La
 boratory LTE SI-60A
END:VEVENT
BEGIN:VEVENT
SUMMARY:GA project BEST4Hy
DTSTART;TZID=Europe/Ljubljana:20230613T120000
DTEND;TZID=Europe/Ljubljana:20230613T180000
DTSTAMP:20260424T023709Z
UID:fs-AFLABS-URNIK:rezervacija:1519
CATEGORIES:Reservation
COLOR:royalblue
DESCRIPTION:Predmeti: \nLetniki: \nIzvajalci: Mitja Mori\nProstori: Leskov
 arjeva conference room
LOCATION:Leskovarjeva conference room
ORGANIZER:Mitja Mori
X-WR-TIMEZONE:Europe/Ljubljana
END:VEVENT
BEGIN:VEVENT
SUMMARY:GA project BEST4Hy
DTSTART;TZID=Europe/Ljubljana:20230614T080000
DTEND;TZID=Europe/Ljubljana:20230614T120000
DTSTAMP:20260424T023709Z
UID:fs-AFLABS-URNIK:rezervacija:1607
CATEGORIES:Reservation
COLOR:royalblue
DESCRIPTION:Predmeti: \nLetniki: \nIzvajalci: Mitja Mori\nProstori: Leskov
 arjeva conference room
LOCATION:Leskovarjeva conference room
ORGANIZER:Mitja Mori
X-WR-TIMEZONE:Europe/Ljubljana
END:VEVENT
END:VCALENDAR
