BEGIN:VCALENDAR
VERSION:2.0
PRODID:-//AFLabs urnik izvoz - fs//aflabs.si//SI
NAME:UL FS Urnik
X-WR-CALNAME:UL FS Urnik
DTSTAMP:20260421T150448Z
REFRESH-INTERVAL:PT1H
SOURCE:https://urnik.fs.uni-lj.si/en/teacher/773/?day=2026-06-29&export=1
URL:https://urnik.fs.uni-lj.si/en/teacher/773/?day=2026-06-29&export=1
X-PUBLISHED-TTL:PT1H
X-WR-TIMEZONE:Europe/Ljubljana
BEGIN:VTIMEZONE
TZID:Europe/Ljubljana
BEGIN:DAYLIGHT
DTSTART:20260329T020000
RDATE:20260329T020000
RDATE:20270328T020000
TZNAME:CEST
TZOFFSETFROM:+0100
TZOFFSETTO:+0200
END:DAYLIGHT
BEGIN:STANDARD
DTSTART:20261025T030000
RDATE:20261025T030000
RDATE:20271031T030000
TZNAME:CET
TZOFFSETFROM:+0200
TZOFFSETTO:+0100
END:STANDARD
END:VTIMEZONE
BEGIN:VEVENT
SUMMARY:Izpit: Energetika v krožnem gospodarstvu
DTSTART;TZID=Europe/Ljubljana:20260612T100000
DTEND;TZID=Europe/Ljubljana:20260612T120000
DTSTAMP:20260421T150448Z
UID:fs-AFLABS-URNIK:rezervacija:11650
ATTENDEE:Energy engineering (MAG-2)
CATEGORIES:Reservation
COLOR:royalblue
DESCRIPTION:Predmeti: Energy supply in circular economy (EKGM)\nLetniki: E
 nergy engineering (MAG-2)\nIzvajalci: Mitja Mori\nProstori: Lecture hall I
 V/4
LOCATION:Lecture hall IV/4
ORGANIZER:Mitja Mori
X-WR-TIMEZONE:Europe/Ljubljana
END:VEVENT
BEGIN:VEVENT
SUMMARY:Izpit: Energetika v krožnem gospodarstvu
DTSTART;TZID=Europe/Ljubljana:20260612T100000
DTEND;TZID=Europe/Ljubljana:20260612T120000
DTSTAMP:20260421T150448Z
UID:fs-AFLABS-URNIK:rezervacija:12804
ATTENDEE:Energy engineering (MAG-2)
CATEGORIES:Reservation
COLOR:royalblue
DESCRIPTION:Predmeti: Energy supply in circular economy (EKGM)\nLetniki: E
 nergy engineering (MAG-2)\nIzvajalci: Mitja Mori\nProstori: Lecture hall I
 V/4
LOCATION:Lecture hall IV/4
ORGANIZER:Mitja Mori
X-WR-TIMEZONE:Europe/Ljubljana
END:VEVENT
END:VCALENDAR
