BEGIN:VCALENDAR
VERSION:2.0
PRODID:-//AFLabs urnik izvoz - fs//aflabs.si//SI
NAME:UL FS Urnik
X-WR-CALNAME:UL FS Urnik
DTSTAMP:20260425T152032Z
REFRESH-INTERVAL:PT1H
SOURCE:https://urnik.fs.uni-lj.si/en/teacher/774/?day=2024-06-10&export=1
URL:https://urnik.fs.uni-lj.si/en/teacher/774/?day=2024-06-10&export=1
X-PUBLISHED-TTL:PT1H
X-WR-TIMEZONE:Europe/Ljubljana
BEGIN:VTIMEZONE
TZID:Europe/Ljubljana
BEGIN:DAYLIGHT
DTSTART:20260329T020000
RDATE:20260329T020000
RDATE:20270328T020000
TZNAME:CEST
TZOFFSETFROM:+0100
TZOFFSETTO:+0200
END:DAYLIGHT
BEGIN:STANDARD
DTSTART:20261025T030000
RDATE:20261025T030000
RDATE:20271031T030000
TZNAME:CET
TZOFFSETFROM:+0200
TZOFFSETTO:+0100
END:STANDARD
END:VTIMEZONE
BEGIN:VEVENT
SUMMARY:Sestanek - projekt TraThI
DTSTART;TZID=Europe/Ljubljana:20240614T073000
DTEND;TZID=Europe/Ljubljana:20240614T160000
DTSTAMP:20260425T152032Z
UID:fs-AFLABS-URNIK:rezervacija:4900
CATEGORIES:Reservation
COLOR:royalblue
DESCRIPTION:Predmeti: \nLetniki: \nIzvajalci: Iztok Golobič\, Matic Može
 \, Matevž Zupančič\nProstori: Conference room
LOCATION:Conference room
ORGANIZER:Iztok Golobič, Matic Može, Matevž Zupančič
X-WR-TIMEZONE:Europe/Ljubljana
END:VEVENT
BEGIN:VEVENT
SUMMARY:Sestanek LTT
DTSTART;TZID=Europe/Ljubljana:20240701T090000
DTEND;TZID=Europe/Ljubljana:20240701T103000
DTSTAMP:20260425T152032Z
UID:fs-AFLABS-URNIK:rezervacija:5914
CATEGORIES:Reservation
COLOR:royalblue
DESCRIPTION:Predmeti: \nLetniki: \nIzvajalci: Matic Može\nProstori: Confe
 rence room
LOCATION:Conference room
ORGANIZER:Matic Može
X-WR-TIMEZONE:Europe/Ljubljana
END:VEVENT
END:VCALENDAR
