BEGIN:VCALENDAR
VERSION:2.0
PRODID:-//AFLabs urnik izvoz - fs//aflabs.si//SI
NAME:UL FS Urnik
X-WR-CALNAME:UL FS Urnik
DTSTAMP:20260423T153855Z
REFRESH-INTERVAL:PT1H
SOURCE:https://urnik.fs.uni-lj.si/en/teacher/775/?day=2024-01-01&export=1
URL:https://urnik.fs.uni-lj.si/en/teacher/775/?day=2024-01-01&export=1
X-PUBLISHED-TTL:PT1H
X-WR-TIMEZONE:Europe/Ljubljana
BEGIN:VTIMEZONE
TZID:Europe/Ljubljana
BEGIN:DAYLIGHT
DTSTART:20260329T020000
RDATE:20260329T020000
RDATE:20270328T020000
TZNAME:CEST
TZOFFSETFROM:+0100
TZOFFSETTO:+0200
END:DAYLIGHT
BEGIN:STANDARD
DTSTART:20261025T030000
RDATE:20261025T030000
RDATE:20271031T030000
TZNAME:CET
TZOFFSETFROM:+0200
TZOFFSETTO:+0100
END:STANDARD
END:VTIMEZONE
BEGIN:VEVENT
SUMMARY:Performance of aircraft (ZMLP)\, Lectures (P)
DTSTART;TZID=Europe/Ljubljana:20231003T113000
DTEND;TZID=Europe/Ljubljana:20231003T153000
DTSTAMP:20260423T153855Z
UID:fs-AFLABS-URNIK:srecanje:4125-2023-10-03 11:30:00+02:00
DESCRIPTION:Predmet: Performance of aircraft (ZMLP)\, Lectures (P)\nLetnik
 i: Aircraft design and maintenance (PAP-3)\, Airline transport pilot (PAP-
 3)\nIzvajalci: Tomaž Mrlak\, Igor Petrović\nProstor: Lecture hall IV/3A
END:VEVENT
BEGIN:VEVENT
SUMMARY:Performance of aircraft (ZMLP)\, Lectures (P)
DTSTART;TZID=Europe/Ljubljana:20231010T113000
DTEND;TZID=Europe/Ljubljana:20231010T153000
DTSTAMP:20260423T153855Z
UID:fs-AFLABS-URNIK:srecanje:4125-2023-10-10 11:30:00+02:00
DESCRIPTION:Predmet: Performance of aircraft (ZMLP)\, Lectures (P)\nLetnik
 i: Aircraft design and maintenance (PAP-3)\, Airline transport pilot (PAP-
 3)\nIzvajalci: Tomaž Mrlak\, Igor Petrović\nProstor: Lecture hall IV/3A
END:VEVENT
BEGIN:VEVENT
SUMMARY:Performance of aircraft (ZMLP)\, Lectures (P)
DTSTART;TZID=Europe/Ljubljana:20231017T113000
DTEND;TZID=Europe/Ljubljana:20231017T153000
DTSTAMP:20260423T153855Z
UID:fs-AFLABS-URNIK:srecanje:4125-2023-10-17 11:30:00+02:00
DESCRIPTION:Predmet: Performance of aircraft (ZMLP)\, Lectures (P)\nLetnik
 i: Aircraft design and maintenance (PAP-3)\, Airline transport pilot (PAP-
 3)\nIzvajalci: Tomaž Mrlak\, Igor Petrović\nProstor: Lecture hall IV/3A
END:VEVENT
BEGIN:VEVENT
SUMMARY:Performance of aircraft (ZMLP)\, Lectures (P)
DTSTART;TZID=Europe/Ljubljana:20231024T113000
DTEND;TZID=Europe/Ljubljana:20231024T153000
DTSTAMP:20260423T153855Z
UID:fs-AFLABS-URNIK:srecanje:4125-2023-10-24 11:30:00+02:00
DESCRIPTION:Predmet: Performance of aircraft (ZMLP)\, Lectures (P)\nLetnik
 i: Aircraft design and maintenance (PAP-3)\, Airline transport pilot (PAP-
 3)\nIzvajalci: Tomaž Mrlak\, Igor Petrović\nProstor: Lecture hall IV/3A
END:VEVENT
BEGIN:VEVENT
SUMMARY:Performance of aircraft (ZMLP)\, Lectures (P)
DTSTART;TZID=Europe/Ljubljana:20231031T113000
DTEND;TZID=Europe/Ljubljana:20231031T153000
DTSTAMP:20260423T153855Z
UID:fs-AFLABS-URNIK:srecanje:4125-2023-10-31 11:30:00+01:00
DESCRIPTION:Predmet: Performance of aircraft (ZMLP)\, Lectures (P)\nLetnik
 i: Aircraft design and maintenance (PAP-3)\, Airline transport pilot (PAP-
 3)\nIzvajalci: Tomaž Mrlak\, Igor Petrović\nProstor: Lecture hall IV/3A
END:VEVENT
BEGIN:VEVENT
SUMMARY:Performance of aircraft (ZMLP)\, Lectures (P)
DTSTART;TZID=Europe/Ljubljana:20231107T113000
DTEND;TZID=Europe/Ljubljana:20231107T153000
DTSTAMP:20260423T153855Z
UID:fs-AFLABS-URNIK:srecanje:4125-2023-11-07 11:30:00+01:00
DESCRIPTION:Predmet: Performance of aircraft (ZMLP)\, Lectures (P)\nLetnik
 i: Aircraft design and maintenance (PAP-3)\, Airline transport pilot (PAP-
 3)\nIzvajalci: Tomaž Mrlak\, Igor Petrović\nProstor: Lecture hall IV/3A
END:VEVENT
BEGIN:VEVENT
SUMMARY:Performance of aircraft (ZMLP)\, Lectures (P)
DTSTART;TZID=Europe/Ljubljana:20231114T113000
DTEND;TZID=Europe/Ljubljana:20231114T153000
DTSTAMP:20260423T153855Z
UID:fs-AFLABS-URNIK:srecanje:4125-2023-11-14 11:30:00+01:00
DESCRIPTION:Predmet: Performance of aircraft (ZMLP)\, Lectures (P)\nLetnik
 i: Aircraft design and maintenance (PAP-3)\, Airline transport pilot (PAP-
 3)\nIzvajalci: Tomaž Mrlak\, Igor Petrović\nProstor: Lecture hall IV/3A
END:VEVENT
BEGIN:VEVENT
SUMMARY:Performance of aircraft (ZMLP)\, Lectures (P)
DTSTART;TZID=Europe/Ljubljana:20231121T113000
DTEND;TZID=Europe/Ljubljana:20231121T153000
DTSTAMP:20260423T153855Z
UID:fs-AFLABS-URNIK:srecanje:4125-2023-11-21 11:30:00+01:00
DESCRIPTION:Predmet: Performance of aircraft (ZMLP)\, Lectures (P)\nLetnik
 i: Aircraft design and maintenance (PAP-3)\, Airline transport pilot (PAP-
 3)\nIzvajalci: Tomaž Mrlak\, Igor Petrović\nProstor: Lecture hall IV/3A
END:VEVENT
BEGIN:VEVENT
SUMMARY:Performance of aircraft (ZMLP)\, Lectures (P)
DTSTART;TZID=Europe/Ljubljana:20231128T113000
DTEND;TZID=Europe/Ljubljana:20231128T153000
DTSTAMP:20260423T153855Z
UID:fs-AFLABS-URNIK:srecanje:4125-2023-11-28 11:30:00+01:00
DESCRIPTION:Predmet: Performance of aircraft (ZMLP)\, Lectures (P)\nLetnik
 i: Aircraft design and maintenance (PAP-3)\, Airline transport pilot (PAP-
 3)\nIzvajalci: Tomaž Mrlak\, Igor Petrović\nProstor: Lecture hall IV/3A
END:VEVENT
BEGIN:VEVENT
SUMMARY:Performance of aircraft (ZMLP)\, Lectures (P)
DTSTART;TZID=Europe/Ljubljana:20231205T113000
DTEND;TZID=Europe/Ljubljana:20231205T153000
DTSTAMP:20260423T153855Z
UID:fs-AFLABS-URNIK:srecanje:4125-2023-12-05 11:30:00+01:00
DESCRIPTION:Predmet: Performance of aircraft (ZMLP)\, Lectures (P)\nLetnik
 i: Aircraft design and maintenance (PAP-3)\, Airline transport pilot (PAP-
 3)\nIzvajalci: Tomaž Mrlak\, Igor Petrović\nProstor: Lecture hall IV/3A
END:VEVENT
BEGIN:VEVENT
SUMMARY:Performance of aircraft (ZMLP)\, Lectures (P)
DTSTART;TZID=Europe/Ljubljana:20231212T113000
DTEND;TZID=Europe/Ljubljana:20231212T153000
DTSTAMP:20260423T153855Z
UID:fs-AFLABS-URNIK:srecanje:4125-2023-12-12 11:30:00+01:00
DESCRIPTION:Predmet: Performance of aircraft (ZMLP)\, Lectures (P)\nLetnik
 i: Aircraft design and maintenance (PAP-3)\, Airline transport pilot (PAP-
 3)\nIzvajalci: Tomaž Mrlak\, Igor Petrović\nProstor: Lecture hall IV/3A
END:VEVENT
BEGIN:VEVENT
SUMMARY:Performance of aircraft (ZMLP)\, Lectures (P)
DTSTART;TZID=Europe/Ljubljana:20231219T113000
DTEND;TZID=Europe/Ljubljana:20231219T153000
DTSTAMP:20260423T153855Z
UID:fs-AFLABS-URNIK:srecanje:4125-2023-12-19 11:30:00+01:00
DESCRIPTION:Predmet: Performance of aircraft (ZMLP)\, Lectures (P)\nLetnik
 i: Aircraft design and maintenance (PAP-3)\, Airline transport pilot (PAP-
 3)\nIzvajalci: Tomaž Mrlak\, Igor Petrović\nProstor: Lecture hall IV/3A
END:VEVENT
BEGIN:VEVENT
SUMMARY:Performance of aircraft (ZMLP)\, Lectures (P)
DTSTART;TZID=Europe/Ljubljana:20240102T113000
DTEND;TZID=Europe/Ljubljana:20240102T153000
DTSTAMP:20260423T153855Z
UID:fs-AFLABS-URNIK:srecanje:4125-2024-01-02 11:30:00+01:00
DESCRIPTION:Predmet: Performance of aircraft (ZMLP)\, Lectures (P)\nLetnik
 i: Aircraft design and maintenance (PAP-3)\, Airline transport pilot (PAP-
 3)\nIzvajalci: Tomaž Mrlak\, Igor Petrović\nProstor: Lecture hall IV/3A
END:VEVENT
BEGIN:VEVENT
SUMMARY:Performance of aircraft (ZMLP)\, Lectures (P)
DTSTART;TZID=Europe/Ljubljana:20240109T113000
DTEND;TZID=Europe/Ljubljana:20240109T153000
DTSTAMP:20260423T153855Z
UID:fs-AFLABS-URNIK:srecanje:4125-2024-01-09 11:30:00+01:00
DESCRIPTION:Predmet: Performance of aircraft (ZMLP)\, Lectures (P)\nLetnik
 i: Aircraft design and maintenance (PAP-3)\, Airline transport pilot (PAP-
 3)\nIzvajalci: Tomaž Mrlak\, Igor Petrović\nProstor: Lecture hall IV/3A
END:VEVENT
BEGIN:VEVENT
SUMMARY:Performance of aircraft (ZMLP)\, Lectures (P)
DTSTART;TZID=Europe/Ljubljana:20240116T113000
DTEND;TZID=Europe/Ljubljana:20240116T153000
DTSTAMP:20260423T153855Z
UID:fs-AFLABS-URNIK:srecanje:4125-2024-01-16 11:30:00+01:00
DESCRIPTION:Predmet: Performance of aircraft (ZMLP)\, Lectures (P)\nLetnik
 i: Aircraft design and maintenance (PAP-3)\, Airline transport pilot (PAP-
 3)\nIzvajalci: Tomaž Mrlak\, Igor Petrović\nProstor: Lecture hall IV/3A
END:VEVENT
BEGIN:VEVENT
SUMMARY:Performance of aircraft (ZMLP)\, Lectures (P)
DTSTART;TZID=Europe/Ljubljana:20231103T113000
DTEND;TZID=Europe/Ljubljana:20231103T153000
DTSTAMP:20260423T153855Z
UID:fs-AFLABS-URNIK:premaknjeno-srecanje:62272
ATTENDEE:Aircraft design and maintenance (PAP-3)
ATTENDEE:Airline transport pilot (PAP-3)
CATEGORIES:Entry,Special
COLOR:forestgreen
DESCRIPTION:Predmet: Performance of aircraft (ZMLP)\, Lectures (P)\nLetnik
 i: Aircraft design and maintenance (PAP-3)\, Airline transport pilot (PAP-
 3)\nIzvajalci: Tomaž Mrlak\, Igor Petrović\nProstor: Lecture hall IV/3A
LOCATION:Lecture hall IV/3A
ORGANIZER:Tomaž Mrlak, Igor Petrović
RELATED-TO:fs-AFLABS-URNIK:srecanje:8002
X-WR-TIMEZONE:Europe/Ljubljana
END:VEVENT
BEGIN:VEVENT
SUMMARY:Izpit: Zmogljivosti letal
DTSTART;TZID=Europe/Ljubljana:20240123T110000
DTEND;TZID=Europe/Ljubljana:20240123T130000
DTSTAMP:20260423T153855Z
UID:fs-AFLABS-URNIK:rezervacija:3588
ATTENDEE:Aircraft design and maintenance (PAP-3)
ATTENDEE:Airline transport pilot (PAP-3)
CATEGORIES:Reservation
COLOR:royalblue
DESCRIPTION:Predmeti: Performance of aircraft (ZMLP)\nLetniki: Aircraft de
 sign and maintenance (PAP-3)\, Airline transport pilot (PAP-3)\nIzvajalci:
  Tomaž Mrlak\nProstori: Lecture hall II/2
LOCATION:Lecture hall II/2
ORGANIZER:Tomaž Mrlak
X-WR-TIMEZONE:Europe/Ljubljana
END:VEVENT
BEGIN:VEVENT
SUMMARY:Izpit: Operativni postopki letal (3124)
DTSTART;TZID=Europe/Ljubljana:20240122T110000
DTEND;TZID=Europe/Ljubljana:20240122T130000
DTSTAMP:20260423T153855Z
UID:fs-AFLABS-URNIK:rezervacija:3569
CATEGORIES:Reservation
COLOR:royalblue
DESCRIPTION:Predmeti: \nLetniki: \nIzvajalci: Tomaž Mrlak\nProstori: Lect
 ure hall II/2
LOCATION:Lecture hall II/2
ORGANIZER:Tomaž Mrlak
X-WR-TIMEZONE:Europe/Ljubljana
END:VEVENT
BEGIN:VEVENT
SUMMARY:Izpit: Zmogljivosti letal (3133)
DTSTART;TZID=Europe/Ljubljana:20240123T110000
DTEND;TZID=Europe/Ljubljana:20240123T130000
DTSTAMP:20260423T153855Z
UID:fs-AFLABS-URNIK:rezervacija:3587
CATEGORIES:Reservation
COLOR:royalblue
DESCRIPTION:Predmeti: \nLetniki: \nIzvajalci: Tomaž Mrlak\nProstori: Lect
 ure hall II/2
LOCATION:Lecture hall II/2
ORGANIZER:Tomaž Mrlak
X-WR-TIMEZONE:Europe/Ljubljana
END:VEVENT
END:VCALENDAR
