BEGIN:VCALENDAR
VERSION:2.0
PRODID:-//AFLabs urnik izvoz - fs//aflabs.si//SI
NAME:UL FS Urnik
X-WR-CALNAME:UL FS Urnik
DTSTAMP:20260423T214140Z
REFRESH-INTERVAL:PT1H
SOURCE:https://urnik.fs.uni-lj.si/en/teacher/778/?day=2026-08-31&export=1
URL:https://urnik.fs.uni-lj.si/en/teacher/778/?day=2026-08-31&export=1
X-PUBLISHED-TTL:PT1H
X-WR-TIMEZONE:Europe/Ljubljana
BEGIN:VTIMEZONE
TZID:Europe/Ljubljana
BEGIN:DAYLIGHT
DTSTART:20260329T020000
RDATE:20260329T020000
RDATE:20270328T020000
TZNAME:CEST
TZOFFSETFROM:+0100
TZOFFSETTO:+0200
END:DAYLIGHT
BEGIN:STANDARD
DTSTART:20261025T030000
RDATE:20261025T030000
RDATE:20271031T030000
TZNAME:CET
TZOFFSETFROM:+0200
TZOFFSETTO:+0100
END:STANDARD
END:VTIMEZONE
BEGIN:VEVENT
SUMMARY:Izpit: Strojni elementi 2 - RRP
DTSTART;TZID=Europe/Ljubljana:20260811T110000
DTEND;TZID=Europe/Ljubljana:20260811T130000
DTSTAMP:20260423T214140Z
UID:fs-AFLABS-URNIK:rezervacija:11618
ATTENDEE:RRP-2 (RRP-2)
CATEGORIES:Reservation
COLOR:royalblue
DESCRIPTION:Predmeti: Machine elements 2 - RRP (SE2R)\nLetniki: RRP-2 (RRP
 -2)\nIzvajalci: Marko Nagode\nProstori: Lecture hall V/8
LOCATION:Lecture hall V/8
ORGANIZER:Marko Nagode
X-WR-TIMEZONE:Europe/Ljubljana
END:VEVENT
BEGIN:VEVENT
SUMMARY:Izpit: Strojni elementi 1 - RRP
DTSTART;TZID=Europe/Ljubljana:20260812T100000
DTEND;TZID=Europe/Ljubljana:20260812T120000
DTSTAMP:20260423T214140Z
UID:fs-AFLABS-URNIK:rezervacija:11677
ATTENDEE:RRP-2 (RRP-2)
CATEGORIES:Reservation
COLOR:royalblue
DESCRIPTION:Predmeti: Machine elements 1 - RRP (SE1R)\nLetniki: RRP-2 (RRP
 -2)\nIzvajalci: Marko Nagode\nProstori: Lecture hall V/2\, Lecture hall V/
 8
LOCATION:Lecture hall V/2\, Lecture hall V/8
ORGANIZER:Marko Nagode
X-WR-TIMEZONE:Europe/Ljubljana
END:VEVENT
BEGIN:VEVENT
SUMMARY:Izpit: Strojni elementi 2 - PAP
DTSTART;TZID=Europe/Ljubljana:20260818T100000
DTEND;TZID=Europe/Ljubljana:20260818T120000
DTSTAMP:20260423T214140Z
UID:fs-AFLABS-URNIK:rezervacija:11866
ATTENDEE:Konstruiranje strojev in naprav (PAP-2)
CATEGORIES:Reservation
COLOR:royalblue
DESCRIPTION:Predmeti: Machine elements 2 - PAP (SE2P)\nLetniki: Konstruira
 nje strojev in naprav (PAP-2)\nIzvajalci: Marko Nagode\nProstori: Lecture 
 hall IV/4\, Lecture hall V/2
LOCATION:Lecture hall IV/4\, Lecture hall V/2
ORGANIZER:Marko Nagode
X-WR-TIMEZONE:Europe/Ljubljana
END:VEVENT
BEGIN:VEVENT
SUMMARY:Izpit: Konstruiranje na utrujanje
DTSTART;TZID=Europe/Ljubljana:20260820T100000
DTEND;TZID=Europe/Ljubljana:20260820T120000
DTSTAMP:20260423T214140Z
UID:fs-AFLABS-URNIK:rezervacija:11989
ATTENDEE:Design of machines and devices (PAP-3)
CATEGORIES:Reservation
COLOR:royalblue
DESCRIPTION:Predmeti: Fatigue design (KNUP)\nLetniki: Design of machines a
 nd devices (PAP-3)\nIzvajalci: Marko Nagode\nProstori: Lecture hall V/8
LOCATION:Lecture hall V/8
ORGANIZER:Marko Nagode
X-WR-TIMEZONE:Europe/Ljubljana
END:VEVENT
BEGIN:VEVENT
SUMMARY:Izpit: Obratovalna trdnost
DTSTART;TZID=Europe/Ljubljana:20260824T120000
DTEND;TZID=Europe/Ljubljana:20260824T140000
DTSTAMP:20260423T214140Z
UID:fs-AFLABS-URNIK:rezervacija:12156
ATTENDEE:Engineering design (MAG-1)
CATEGORIES:Reservation
COLOR:royalblue
DESCRIPTION:Predmeti: Operational strength (OBTM)\nLetniki: Engineering de
 sign (MAG-1)\nIzvajalci: Marko Nagode\nProstori: Lecture hall IV/4
LOCATION:Lecture hall IV/4
ORGANIZER:Marko Nagode
X-WR-TIMEZONE:Europe/Ljubljana
END:VEVENT
BEGIN:VEVENT
SUMMARY:Izpit: Obratovalna trdnost
DTSTART;TZID=Europe/Ljubljana:20260824T120000
DTEND;TZID=Europe/Ljubljana:20260824T140000
DTSTAMP:20260423T214140Z
UID:fs-AFLABS-URNIK:rezervacija:12157
ATTENDEE:Engineering design (MAG-1)
CATEGORIES:Reservation
COLOR:royalblue
DESCRIPTION:Predmeti: Operational strength (OBTM)\nLetniki: Engineering de
 sign (MAG-1)\nIzvajalci: Marko Nagode\nProstori: Lecture hall IV/4
LOCATION:Lecture hall IV/4
ORGANIZER:Marko Nagode
X-WR-TIMEZONE:Europe/Ljubljana
END:VEVENT
BEGIN:VEVENT
SUMMARY:Izpit: Fatigue Design
DTSTART;TZID=Europe/Ljubljana:20260824T120000
DTEND;TZID=Europe/Ljubljana:20260824T140000
DTSTAMP:20260423T214140Z
UID:fs-AFLABS-URNIK:rezervacija:12158
ATTENDEE:Erasmus (Erasmus)
CATEGORIES:Reservation
COLOR:royalblue
DESCRIPTION:Predmeti: Fatigue Design (FTDE)\nLetniki: Erasmus (Erasmus)\nI
 zvajalci: Marko Nagode\nProstori: Lecture hall IV/4
LOCATION:Lecture hall IV/4
ORGANIZER:Marko Nagode
X-WR-TIMEZONE:Europe/Ljubljana
END:VEVENT
BEGIN:VEVENT
SUMMARY:Izpit: Strojni elementi 1 - RRP
DTSTART;TZID=Europe/Ljubljana:20260812T100000
DTEND;TZID=Europe/Ljubljana:20260812T120000
DTSTAMP:20260423T214140Z
UID:fs-AFLABS-URNIK:rezervacija:12655
ATTENDEE:RRP-2 (RRP-2)
CATEGORIES:Reservation
COLOR:royalblue
DESCRIPTION:Predmeti: Machine elements 1 - RRP (SE1R)\nLetniki: RRP-2 (RRP
 -2)\nIzvajalci: Marko Nagode\nProstori: Lecture hall V/2\, Lecture hall V/
 8
LOCATION:Lecture hall V/2\, Lecture hall V/8
ORGANIZER:Marko Nagode
X-WR-TIMEZONE:Europe/Ljubljana
END:VEVENT
BEGIN:VEVENT
SUMMARY:Izpit: Strojni elementi 2 - RRP
DTSTART;TZID=Europe/Ljubljana:20260811T110000
DTEND;TZID=Europe/Ljubljana:20260811T130000
DTSTAMP:20260423T214140Z
UID:fs-AFLABS-URNIK:rezervacija:12662
ATTENDEE:RRP-2 (RRP-2)
CATEGORIES:Reservation
COLOR:royalblue
DESCRIPTION:Predmeti: Machine elements 2 - RRP (SE2R)\nLetniki: RRP-2 (RRP
 -2)\nIzvajalci: Marko Nagode\nProstori: Lecture hall V/8
LOCATION:Lecture hall V/8
ORGANIZER:Marko Nagode
X-WR-TIMEZONE:Europe/Ljubljana
END:VEVENT
BEGIN:VEVENT
SUMMARY:Izpit: Strojni elementi 2 - PAP
DTSTART;TZID=Europe/Ljubljana:20260818T100000
DTEND;TZID=Europe/Ljubljana:20260818T120000
DTSTAMP:20260423T214140Z
UID:fs-AFLABS-URNIK:rezervacija:12727
ATTENDEE:Konstruiranje strojev in naprav (PAP-2)
CATEGORIES:Reservation
COLOR:royalblue
DESCRIPTION:Predmeti: Machine elements 2 - PAP (SE2P)\nLetniki: Konstruira
 nje strojev in naprav (PAP-2)\nIzvajalci: Marko Nagode\nProstori: Lecture 
 hall IV/4\, Lecture hall V/2
LOCATION:Lecture hall IV/4\, Lecture hall V/2
ORGANIZER:Marko Nagode
X-WR-TIMEZONE:Europe/Ljubljana
END:VEVENT
END:VCALENDAR
