BEGIN:VCALENDAR
VERSION:2.0
PRODID:-//AFLabs urnik izvoz - fs//aflabs.si//SI
NAME:UL FS Urnik
X-WR-CALNAME:UL FS Urnik
DTSTAMP:20260422T215222Z
REFRESH-INTERVAL:PT1H
SOURCE:https://urnik.fs.uni-lj.si/en/teacher/785/?day=2024-01-22&export=1
URL:https://urnik.fs.uni-lj.si/en/teacher/785/?day=2024-01-22&export=1
X-PUBLISHED-TTL:PT1H
X-WR-TIMEZONE:Europe/Ljubljana
BEGIN:VTIMEZONE
TZID:Europe/Ljubljana
BEGIN:DAYLIGHT
DTSTART:20260329T020000
RDATE:20260329T020000
RDATE:20270328T020000
TZNAME:CEST
TZOFFSETFROM:+0100
TZOFFSETTO:+0200
END:DAYLIGHT
BEGIN:STANDARD
DTSTART:20261025T030000
RDATE:20261025T030000
RDATE:20271031T030000
TZNAME:CET
TZOFFSETFROM:+0200
TZOFFSETTO:+0100
END:STANDARD
END:VTIMEZONE
BEGIN:VEVENT
SUMMARY:Experimental methods in energy engineering (EMEP)\, Lecture exerci
 ses (VP)
DTSTART;TZID=Europe/Ljubljana:20240219T153000
DTEND;TZID=Europe/Ljubljana:20240219T173000
DTSTAMP:20260422T215222Z
UID:fs-AFLABS-URNIK:srecanje:3641-2024-02-19 15:30:00+01:00
DESCRIPTION:Predmet: Experimental methods in energy engineering (EMEP)\, L
 ecture exercises (VP)\nLetniki: Energy engineering (PAP-2)\nIzvajalci: Gre
 gor Bobovnik\, Lovrenc Novak\, Jernej Ortar\, Andrej Svete\nProstor: Lectu
 re hall III/3A
END:VEVENT
BEGIN:VEVENT
SUMMARY:Turbomachinery (TRSM)\, Lectures (P)
DTSTART;TZID=Europe/Ljubljana:20240220T120000
DTEND;TZID=Europe/Ljubljana:20240220T140000
DTSTAMP:20260422T215222Z
UID:fs-AFLABS-URNIK:srecanje:3929-2024-02-20 12:00:00+01:00
DESCRIPTION:Predmet: Turbomachinery (TRSM)\, Lectures (P)\nLetniki: Energy
  engineering (MAG-1)\nIzvajalci: Marko Hočevar\, Lovrenc Novak\nProstor: 
 Lecture hall III/4
END:VEVENT
BEGIN:VEVENT
SUMMARY:Turbomachinery (TRSM)\, Lecture exercises (VP)
DTSTART;TZID=Europe/Ljubljana:20240221T140000
DTEND;TZID=Europe/Ljubljana:20240221T160000
DTSTAMP:20260422T215222Z
UID:fs-AFLABS-URNIK:srecanje:8452-2024-02-21 14:00:00+01:00
DESCRIPTION:Predmet: Turbomachinery (TRSM)\, Lecture exercises (VP)\nLetni
 ki: Energy engineering (MAG-1)\nIzvajalci: Lovrenc Novak\, Jernej Ortar\nP
 rostor: Lecture hall IV/2
END:VEVENT
BEGIN:VEVENT
SUMMARY:Turbomachinery (TRME)\, Lectures (P)
DTSTART;TZID=Europe/Ljubljana:20240221T120000
DTEND;TZID=Europe/Ljubljana:20240221T140000
DTSTAMP:20260422T215222Z
UID:fs-AFLABS-URNIK:srecanje:3875-2024-02-21 12:00:00+01:00
DESCRIPTION:Predmet: Turbomachinery (TRME)\, Lectures (P)\nLetniki: Erasmu
 s (Erasmus)\nIzvajalci: Marko Hočevar\, Lovrenc Novak\nProstor: Lecture h
 all II/3A
END:VEVENT
BEGIN:VEVENT
SUMMARY:Turbomachinery (TRME)\, Lecture exercises (VP)
DTSTART;TZID=Europe/Ljubljana:20240222T140000
DTEND;TZID=Europe/Ljubljana:20240222T160000
DTSTAMP:20260422T215222Z
UID:fs-AFLABS-URNIK:srecanje:3876-2024-02-22 14:00:00+01:00
DESCRIPTION:Predmet: Turbomachinery (TRME)\, Lecture exercises (VP)\nLetni
 ki: Erasmus (Erasmus)\nIzvajalci: Lovrenc Novak\, Jernej Ortar\nProstor: L
 aboratory LVTS SI-67A
END:VEVENT
BEGIN:VEVENT
SUMMARY:Turbomachinery (TRSM)\, Laboratory excercises (VL)\, [S5]
DTSTART;TZID=Europe/Ljubljana:20240226T080000
DTEND;TZID=Europe/Ljubljana:20240226T100000
DTSTAMP:20260422T215222Z
UID:fs-AFLABS-URNIK:srecanje:8893-2024-02-26 08:00:00+01:00
DESCRIPTION:Predmet: Turbomachinery (TRSM)\, Laboratory excercises (VL)\, 
 [S5]\nLetniki: Energy engineering (MAG-1)\nIzvajalci: Lovrenc Novak\, Jern
 ej Ortar\, Žak Sovec\nProstor: Laboratory LTE SI-67
END:VEVENT
BEGIN:VEVENT
SUMMARY:Turbomachinery (TRSM)\, Laboratory excercises (VL)\, [S6]
DTSTART;TZID=Europe/Ljubljana:20240226T120000
DTEND;TZID=Europe/Ljubljana:20240226T140000
DTSTAMP:20260422T215222Z
UID:fs-AFLABS-URNIK:srecanje:8894-2024-02-26 12:00:00+01:00
DESCRIPTION:Predmet: Turbomachinery (TRSM)\, Laboratory excercises (VL)\, 
 [S6]\nLetniki: Energy engineering (MAG-1)\nIzvajalci: Lovrenc Novak\, Jern
 ej Ortar\, Žak Sovec\nProstor: Laboratory LTE SI-67
END:VEVENT
BEGIN:VEVENT
SUMMARY:Experimental methods in energy engineering (EMEP)\, Laboratory exc
 ercises (VL)\, [S1]
DTSTART;TZID=Europe/Ljubljana:20240226T153000
DTEND;TZID=Europe/Ljubljana:20240226T173000
DTSTAMP:20260422T215222Z
UID:fs-AFLABS-URNIK:srecanje:9073-2024-02-26 15:30:00+01:00
DESCRIPTION:Predmet: Experimental methods in energy engineering (EMEP)\, L
 aboratory excercises (VL)\, [S1]\nLetniki: Energy engineering (PAP-2)\nIzv
 ajalci: Gregor Bobovnik\, Lovrenc Novak\, Jernej Ortar\, Andrej Svete\nPro
 stor: Laboratory LMPS P-1
END:VEVENT
BEGIN:VEVENT
SUMMARY:Erasmus Turbomachinery VP
DTSTART;TZID=Europe/Ljubljana:20240222T133000
DTEND;TZID=Europe/Ljubljana:20240222T153000
DTSTAMP:20260422T215222Z
UID:fs-AFLABS-URNIK:rezervacija:4439
ATTENDEE:Erasmus (Erasmus)
CATEGORIES:Reservation
COLOR:royalblue
DESCRIPTION:Predmeti: Turbomachinery (TRME)\nLetniki: Erasmus (Erasmus)\nI
 zvajalci: Lovrenc Novak\nProstori: Lecture hall III/3B
LOCATION:Lecture hall III/3B
ORGANIZER:Lovrenc Novak
X-WR-TIMEZONE:Europe/Ljubljana
END:VEVENT
END:VCALENDAR
