BEGIN:VCALENDAR
VERSION:2.0
PRODID:-//AFLabs urnik izvoz - fs//aflabs.si//SI
NAME:UL FS Urnik
X-WR-CALNAME:UL FS Urnik
DTSTAMP:20260421T181254Z
REFRESH-INTERVAL:PT1H
SOURCE:https://urnik.fs.uni-lj.si/en/teacher/791/?day=2024-01-29&export=1
URL:https://urnik.fs.uni-lj.si/en/teacher/791/?day=2024-01-29&export=1
X-PUBLISHED-TTL:PT1H
X-WR-TIMEZONE:Europe/Ljubljana
BEGIN:VTIMEZONE
TZID:Europe/Ljubljana
BEGIN:DAYLIGHT
DTSTART:20260329T020000
RDATE:20260329T020000
RDATE:20270328T020000
TZNAME:CEST
TZOFFSETFROM:+0100
TZOFFSETTO:+0200
END:DAYLIGHT
BEGIN:STANDARD
DTSTART:20261025T030000
RDATE:20261025T030000
RDATE:20271031T030000
TZNAME:CET
TZOFFSETFROM:+0200
TZOFFSETTO:+0100
END:STANDARD
END:VTIMEZONE
BEGIN:VEVENT
SUMMARY:Machine elements 2 - PAP (SE2P)\, Lecture exercises (VP)
DTSTART;TZID=Europe/Ljubljana:20240221T153000
DTEND;TZID=Europe/Ljubljana:20240221T173000
DTSTAMP:20260421T181254Z
UID:fs-AFLABS-URNIK:srecanje:3832-2024-02-21 15:30:00+01:00
DESCRIPTION:Predmet: Machine elements 2 - PAP (SE2P)\, Lecture exercises (
 VP)\nLetniki: Konstruiranje strojev in naprav (PAP-2)\nIzvajalci: Ivan Oko
 rn\nProstor: Lecture hall III/3A
END:VEVENT
BEGIN:VEVENT
SUMMARY:Machine elements 2 - RRP (SE2R)\, Lecture exercises (VP)\, [S1]
DTSTART;TZID=Europe/Ljubljana:20240223T120000
DTEND;TZID=Europe/Ljubljana:20240223T140000
DTSTAMP:20260421T181254Z
UID:fs-AFLABS-URNIK:srecanje:8441-2024-02-23 12:00:00+01:00
DESCRIPTION:Predmet: Machine elements 2 - RRP (SE2R)\, Lecture exercises (
 VP)\, [S1]\nLetniki: RRP-2 (RRP-2)\nIzvajalci: Ivan Okorn\nProstor: Lectur
 e hall III/2
END:VEVENT
BEGIN:VEVENT
SUMMARY:Machine elements 2 - RRP (SE2R)\, Lecture exercises (VP)\, [S1]
DTSTART;TZID=Europe/Ljubljana:20240301T120000
DTEND;TZID=Europe/Ljubljana:20240301T140000
DTSTAMP:20260421T181254Z
UID:fs-AFLABS-URNIK:srecanje:8441-2024-03-01 12:00:00+01:00
DESCRIPTION:Predmet: Machine elements 2 - RRP (SE2R)\, Lecture exercises (
 VP)\, [S1]\nLetniki: RRP-2 (RRP-2)\nIzvajalci: Ivan Okorn\nProstor: Lectur
 e hall III/2
END:VEVENT
BEGIN:VEVENT
SUMMARY:Machine elements 2 - PAP (SE2P)\, Laboratory excercises (VL)\, [S2
 ]
DTSTART;TZID=Europe/Ljubljana:20240228T093000
DTEND;TZID=Europe/Ljubljana:20240228T113000
DTSTAMP:20260421T181254Z
UID:fs-AFLABS-URNIK:srecanje:9153-2024-02-28 09:30:00+01:00
DESCRIPTION:Predmet: Machine elements 2 - PAP (SE2P)\, Laboratory excercis
 es (VL)\, [S2]\nLetniki: Konstruiranje strojev in naprav (PAP-2)\nIzvajalc
 i: Ivan Okorn\, Dejan Tomažinčič\nProstor: Laboratory LASEM K-15B
END:VEVENT
BEGIN:VEVENT
SUMMARY:Machine elements 2 - PAP (SE2P)\, Laboratory excercises (VL)\, [S1
 ]
DTSTART;TZID=Europe/Ljubljana:20240228T153000
DTEND;TZID=Europe/Ljubljana:20240228T173000
DTSTAMP:20260421T181254Z
UID:fs-AFLABS-URNIK:srecanje:9154-2024-02-28 15:30:00+01:00
DESCRIPTION:Predmet: Machine elements 2 - PAP (SE2P)\, Laboratory excercis
 es (VL)\, [S1]\nLetniki: Konstruiranje strojev in naprav (PAP-2)\nIzvajalc
 i: Ivan Okorn\nProstor: Laboratory LASEM K-15B
END:VEVENT
BEGIN:VEVENT
SUMMARY:Strojni elementi 1 - popravljanje vaj
DTSTART;TZID=Europe/Ljubljana:20240220T160000
DTEND;TZID=Europe/Ljubljana:20240220T180000
DTSTAMP:20260421T181254Z
UID:fs-AFLABS-URNIK:rezervacija:4433
CATEGORIES:Reservation
COLOR:royalblue
DESCRIPTION:Predmeti: \nLetniki: \nIzvajalci: Ivan Okorn\nProstori: Lectur
 e hall V/8
LOCATION:Lecture hall V/8
ORGANIZER:Ivan Okorn
X-WR-TIMEZONE:Europe/Ljubljana
END:VEVENT
END:VCALENDAR
