BEGIN:VCALENDAR
VERSION:2.0
PRODID:-//AFLabs urnik izvoz - fs//aflabs.si//SI
NAME:UL FS Urnik
X-WR-CALNAME:UL FS Urnik
DTSTAMP:20260422T034810Z
REFRESH-INTERVAL:PT1H
SOURCE:https://urnik.fs.uni-lj.si/en/teacher/791/?day=2024-04-29&export=1
URL:https://urnik.fs.uni-lj.si/en/teacher/791/?day=2024-04-29&export=1
X-PUBLISHED-TTL:PT1H
X-WR-TIMEZONE:Europe/Ljubljana
BEGIN:VTIMEZONE
TZID:Europe/Ljubljana
BEGIN:DAYLIGHT
DTSTART:20260329T020000
RDATE:20260329T020000
RDATE:20270328T020000
TZNAME:CEST
TZOFFSETFROM:+0100
TZOFFSETTO:+0200
END:DAYLIGHT
BEGIN:STANDARD
DTSTART:20261025T030000
RDATE:20261025T030000
RDATE:20271031T030000
TZNAME:CET
TZOFFSETFROM:+0200
TZOFFSETTO:+0100
END:STANDARD
END:VTIMEZONE
BEGIN:VEVENT
SUMMARY:Machine elements 2 - PAP (SE2P)\, Lecture exercises (VP)
DTSTART;TZID=Europe/Ljubljana:20240221T153000
DTEND;TZID=Europe/Ljubljana:20240221T173000
DTSTAMP:20260422T034810Z
UID:fs-AFLABS-URNIK:srecanje:3832-2024-02-21 15:30:00+01:00
DESCRIPTION:Predmet: Machine elements 2 - PAP (SE2P)\, Lecture exercises (
 VP)\nLetniki: Konstruiranje strojev in naprav (PAP-2)\nIzvajalci: Ivan Oko
 rn\nProstor: Lecture hall III/3A
END:VEVENT
BEGIN:VEVENT
SUMMARY:Machine elements 2 - PAP (SE2P)\, Lecture exercises (VP)
DTSTART;TZID=Europe/Ljubljana:20240306T153000
DTEND;TZID=Europe/Ljubljana:20240306T173000
DTSTAMP:20260422T034810Z
UID:fs-AFLABS-URNIK:srecanje:3832-2024-03-06 15:30:00+01:00
DESCRIPTION:Predmet: Machine elements 2 - PAP (SE2P)\, Lecture exercises (
 VP)\nLetniki: Konstruiranje strojev in naprav (PAP-2)\nIzvajalci: Ivan Oko
 rn\nProstor: Lecture hall III/3A
END:VEVENT
BEGIN:VEVENT
SUMMARY:Machine elements 2 - PAP (SE2P)\, Lecture exercises (VP)
DTSTART;TZID=Europe/Ljubljana:20240320T153000
DTEND;TZID=Europe/Ljubljana:20240320T173000
DTSTAMP:20260422T034810Z
UID:fs-AFLABS-URNIK:srecanje:3832-2024-03-20 15:30:00+01:00
DESCRIPTION:Predmet: Machine elements 2 - PAP (SE2P)\, Lecture exercises (
 VP)\nLetniki: Konstruiranje strojev in naprav (PAP-2)\nIzvajalci: Ivan Oko
 rn\nProstor: Lecture hall III/3A
END:VEVENT
BEGIN:VEVENT
SUMMARY:Machine elements 2 - PAP (SE2P)\, Lecture exercises (VP)
DTSTART;TZID=Europe/Ljubljana:20240410T153000
DTEND;TZID=Europe/Ljubljana:20240410T173000
DTSTAMP:20260422T034810Z
UID:fs-AFLABS-URNIK:srecanje:3832-2024-04-10 15:30:00+02:00
DESCRIPTION:Predmet: Machine elements 2 - PAP (SE2P)\, Lecture exercises (
 VP)\nLetniki: Konstruiranje strojev in naprav (PAP-2)\nIzvajalci: Ivan Oko
 rn\nProstor: Lecture hall III/3A
END:VEVENT
BEGIN:VEVENT
SUMMARY:Machine elements 2 - PAP (SE2P)\, Lecture exercises (VP)
DTSTART;TZID=Europe/Ljubljana:20240424T153000
DTEND;TZID=Europe/Ljubljana:20240424T173000
DTSTAMP:20260422T034810Z
UID:fs-AFLABS-URNIK:srecanje:3832-2024-04-24 15:30:00+02:00
DESCRIPTION:Predmet: Machine elements 2 - PAP (SE2P)\, Lecture exercises (
 VP)\nLetniki: Konstruiranje strojev in naprav (PAP-2)\nIzvajalci: Ivan Oko
 rn\nProstor: Lecture hall III/3A
END:VEVENT
BEGIN:VEVENT
SUMMARY:Machine elements 2 - PAP (SE2P)\, Lecture exercises (VP)
DTSTART;TZID=Europe/Ljubljana:20240508T153000
DTEND;TZID=Europe/Ljubljana:20240508T173000
DTSTAMP:20260422T034810Z
UID:fs-AFLABS-URNIK:srecanje:3832-2024-05-08 15:30:00+02:00
DESCRIPTION:Predmet: Machine elements 2 - PAP (SE2P)\, Lecture exercises (
 VP)\nLetniki: Konstruiranje strojev in naprav (PAP-2)\nIzvajalci: Ivan Oko
 rn\nProstor: Lecture hall III/3A
END:VEVENT
BEGIN:VEVENT
SUMMARY:Machine elements 2 - PAP (SE2P)\, Lecture exercises (VP)
DTSTART;TZID=Europe/Ljubljana:20240529T153000
DTEND;TZID=Europe/Ljubljana:20240529T173000
DTSTAMP:20260422T034810Z
UID:fs-AFLABS-URNIK:srecanje:3832-2024-05-29 15:30:00+02:00
DESCRIPTION:Predmet: Machine elements 2 - PAP (SE2P)\, Lecture exercises (
 VP)\nLetniki: Konstruiranje strojev in naprav (PAP-2)\nIzvajalci: Ivan Oko
 rn\nProstor: Lecture hall III/3A
END:VEVENT
BEGIN:VEVENT
SUMMARY:Machine elements 2 - RRP (SE2R)\, Lecture exercises (VP)\, [S1]
DTSTART;TZID=Europe/Ljubljana:20240223T120000
DTEND;TZID=Europe/Ljubljana:20240223T140000
DTSTAMP:20260422T034810Z
UID:fs-AFLABS-URNIK:srecanje:8441-2024-02-23 12:00:00+01:00
DESCRIPTION:Predmet: Machine elements 2 - RRP (SE2R)\, Lecture exercises (
 VP)\, [S1]\nLetniki: RRP-2 (RRP-2)\nIzvajalci: Ivan Okorn\nProstor: Lectur
 e hall III/2
END:VEVENT
BEGIN:VEVENT
SUMMARY:Machine elements 2 - RRP (SE2R)\, Lecture exercises (VP)\, [S1]
DTSTART;TZID=Europe/Ljubljana:20240301T120000
DTEND;TZID=Europe/Ljubljana:20240301T140000
DTSTAMP:20260422T034810Z
UID:fs-AFLABS-URNIK:srecanje:8441-2024-03-01 12:00:00+01:00
DESCRIPTION:Predmet: Machine elements 2 - RRP (SE2R)\, Lecture exercises (
 VP)\, [S1]\nLetniki: RRP-2 (RRP-2)\nIzvajalci: Ivan Okorn\nProstor: Lectur
 e hall III/2
END:VEVENT
BEGIN:VEVENT
SUMMARY:Machine elements 2 - RRP (SE2R)\, Lecture exercises (VP)\, [S1]
DTSTART;TZID=Europe/Ljubljana:20240315T120000
DTEND;TZID=Europe/Ljubljana:20240315T140000
DTSTAMP:20260422T034810Z
UID:fs-AFLABS-URNIK:srecanje:8441-2024-03-15 12:00:00+01:00
DESCRIPTION:Predmet: Machine elements 2 - RRP (SE2R)\, Lecture exercises (
 VP)\, [S1]\nLetniki: RRP-2 (RRP-2)\nIzvajalci: Ivan Okorn\nProstor: Lectur
 e hall III/2
END:VEVENT
BEGIN:VEVENT
SUMMARY:Machine elements 2 - RRP (SE2R)\, Lecture exercises (VP)\, [S1]
DTSTART;TZID=Europe/Ljubljana:20240405T120000
DTEND;TZID=Europe/Ljubljana:20240405T140000
DTSTAMP:20260422T034810Z
UID:fs-AFLABS-URNIK:srecanje:8441-2024-04-05 12:00:00+02:00
DESCRIPTION:Predmet: Machine elements 2 - RRP (SE2R)\, Lecture exercises (
 VP)\, [S1]\nLetniki: RRP-2 (RRP-2)\nIzvajalci: Ivan Okorn\nProstor: Lectur
 e hall III/2
END:VEVENT
BEGIN:VEVENT
SUMMARY:Machine elements 2 - RRP (SE2R)\, Lecture exercises (VP)\, [S1]
DTSTART;TZID=Europe/Ljubljana:20240503T120000
DTEND;TZID=Europe/Ljubljana:20240503T140000
DTSTAMP:20260422T034810Z
UID:fs-AFLABS-URNIK:srecanje:8441-2024-05-03 12:00:00+02:00
DESCRIPTION:Predmet: Machine elements 2 - RRP (SE2R)\, Lecture exercises (
 VP)\, [S1]\nLetniki: RRP-2 (RRP-2)\nIzvajalci: Ivan Okorn\nProstor: Lectur
 e hall III/2
END:VEVENT
BEGIN:VEVENT
SUMMARY:Machine elements 2 - RRP (SE2R)\, Lecture exercises (VP)\, [S1]
DTSTART;TZID=Europe/Ljubljana:20240510T120000
DTEND;TZID=Europe/Ljubljana:20240510T140000
DTSTAMP:20260422T034810Z
UID:fs-AFLABS-URNIK:srecanje:8441-2024-05-10 12:00:00+02:00
DESCRIPTION:Predmet: Machine elements 2 - RRP (SE2R)\, Lecture exercises (
 VP)\, [S1]\nLetniki: RRP-2 (RRP-2)\nIzvajalci: Ivan Okorn\nProstor: Lectur
 e hall III/2
END:VEVENT
BEGIN:VEVENT
SUMMARY:Machine elements 2 - RRP (SE2R)\, Lecture exercises (VP)\, [S1]
DTSTART;TZID=Europe/Ljubljana:20240531T120000
DTEND;TZID=Europe/Ljubljana:20240531T140000
DTSTAMP:20260422T034810Z
UID:fs-AFLABS-URNIK:srecanje:8441-2024-05-31 12:00:00+02:00
DESCRIPTION:Predmet: Machine elements 2 - RRP (SE2R)\, Lecture exercises (
 VP)\, [S1]\nLetniki: RRP-2 (RRP-2)\nIzvajalci: Ivan Okorn\nProstor: Lectur
 e hall III/2
END:VEVENT
BEGIN:VEVENT
SUMMARY:Machine elements 2 - PAP (SE2P)\, Laboratory excercises (VL)\, [S2
 ]
DTSTART;TZID=Europe/Ljubljana:20240228T093000
DTEND;TZID=Europe/Ljubljana:20240228T113000
DTSTAMP:20260422T034810Z
UID:fs-AFLABS-URNIK:srecanje:9153-2024-02-28 09:30:00+01:00
DESCRIPTION:Predmet: Machine elements 2 - PAP (SE2P)\, Laboratory excercis
 es (VL)\, [S2]\nLetniki: Konstruiranje strojev in naprav (PAP-2)\nIzvajalc
 i: Ivan Okorn\, Dejan Tomažinčič\nProstor: Laboratory LASEM K-15B
END:VEVENT
BEGIN:VEVENT
SUMMARY:Machine elements 2 - PAP (SE2P)\, Laboratory excercises (VL)\, [S2
 ]
DTSTART;TZID=Europe/Ljubljana:20240313T093000
DTEND;TZID=Europe/Ljubljana:20240313T113000
DTSTAMP:20260422T034810Z
UID:fs-AFLABS-URNIK:srecanje:9153-2024-03-13 09:30:00+01:00
DESCRIPTION:Predmet: Machine elements 2 - PAP (SE2P)\, Laboratory excercis
 es (VL)\, [S2]\nLetniki: Konstruiranje strojev in naprav (PAP-2)\nIzvajalc
 i: Ivan Okorn\, Dejan Tomažinčič\nProstor: Laboratory LASEM K-15B
END:VEVENT
BEGIN:VEVENT
SUMMARY:Machine elements 2 - PAP (SE2P)\, Laboratory excercises (VL)\, [S2
 ]
DTSTART;TZID=Europe/Ljubljana:20240327T093000
DTEND;TZID=Europe/Ljubljana:20240327T113000
DTSTAMP:20260422T034810Z
UID:fs-AFLABS-URNIK:srecanje:9153-2024-03-27 09:30:00+01:00
DESCRIPTION:Predmet: Machine elements 2 - PAP (SE2P)\, Laboratory excercis
 es (VL)\, [S2]\nLetniki: Konstruiranje strojev in naprav (PAP-2)\nIzvajalc
 i: Ivan Okorn\, Dejan Tomažinčič\nProstor: Laboratory LASEM K-15B
END:VEVENT
BEGIN:VEVENT
SUMMARY:Machine elements 2 - PAP (SE2P)\, Laboratory excercises (VL)\, [S2
 ]
DTSTART;TZID=Europe/Ljubljana:20240403T093000
DTEND;TZID=Europe/Ljubljana:20240403T113000
DTSTAMP:20260422T034810Z
UID:fs-AFLABS-URNIK:srecanje:9153-2024-04-03 09:30:00+02:00
DESCRIPTION:Predmet: Machine elements 2 - PAP (SE2P)\, Laboratory excercis
 es (VL)\, [S2]\nLetniki: Konstruiranje strojev in naprav (PAP-2)\nIzvajalc
 i: Ivan Okorn\, Dejan Tomažinčič\nProstor: Laboratory LASEM K-15B
END:VEVENT
BEGIN:VEVENT
SUMMARY:Machine elements 2 - PAP (SE2P)\, Laboratory excercises (VL)\, [S2
 ]
DTSTART;TZID=Europe/Ljubljana:20240417T093000
DTEND;TZID=Europe/Ljubljana:20240417T113000
DTSTAMP:20260422T034810Z
UID:fs-AFLABS-URNIK:srecanje:9153-2024-04-17 09:30:00+02:00
DESCRIPTION:Predmet: Machine elements 2 - PAP (SE2P)\, Laboratory excercis
 es (VL)\, [S2]\nLetniki: Konstruiranje strojev in naprav (PAP-2)\nIzvajalc
 i: Ivan Okorn\, Dejan Tomažinčič\nProstor: Laboratory LASEM K-15B
END:VEVENT
BEGIN:VEVENT
SUMMARY:Machine elements 2 - PAP (SE2P)\, Laboratory excercises (VL)\, [S2
 ]
DTSTART;TZID=Europe/Ljubljana:20240501T093000
DTEND;TZID=Europe/Ljubljana:20240501T113000
DTSTAMP:20260422T034810Z
UID:fs-AFLABS-URNIK:srecanje:9153-2024-05-01 09:30:00+02:00
DESCRIPTION:Predmet: Machine elements 2 - PAP (SE2P)\, Laboratory excercis
 es (VL)\, [S2]\nLetniki: Konstruiranje strojev in naprav (PAP-2)\nIzvajalc
 i: Ivan Okorn\, Dejan Tomažinčič\nProstor: Laboratory LASEM K-15B
END:VEVENT
BEGIN:VEVENT
SUMMARY:Machine elements 2 - PAP (SE2P)\, Laboratory excercises (VL)\, [S2
 ]
DTSTART;TZID=Europe/Ljubljana:20240515T093000
DTEND;TZID=Europe/Ljubljana:20240515T113000
DTSTAMP:20260422T034810Z
UID:fs-AFLABS-URNIK:srecanje:9153-2024-05-15 09:30:00+02:00
DESCRIPTION:Predmet: Machine elements 2 - PAP (SE2P)\, Laboratory excercis
 es (VL)\, [S2]\nLetniki: Konstruiranje strojev in naprav (PAP-2)\nIzvajalc
 i: Ivan Okorn\, Dejan Tomažinčič\nProstor: Laboratory LASEM K-15B
END:VEVENT
BEGIN:VEVENT
SUMMARY:Machine elements 2 - PAP (SE2P)\, Laboratory excercises (VL)\, [S2
 ]
DTSTART;TZID=Europe/Ljubljana:20240522T093000
DTEND;TZID=Europe/Ljubljana:20240522T113000
DTSTAMP:20260422T034810Z
UID:fs-AFLABS-URNIK:srecanje:9153-2024-05-22 09:30:00+02:00
DESCRIPTION:Predmet: Machine elements 2 - PAP (SE2P)\, Laboratory excercis
 es (VL)\, [S2]\nLetniki: Konstruiranje strojev in naprav (PAP-2)\nIzvajalc
 i: Ivan Okorn\, Dejan Tomažinčič\nProstor: Laboratory LASEM K-15B
END:VEVENT
BEGIN:VEVENT
SUMMARY:Machine elements 2 - PAP (SE2P)\, Laboratory excercises (VL)\, [S1
 ]
DTSTART;TZID=Europe/Ljubljana:20240228T153000
DTEND;TZID=Europe/Ljubljana:20240228T173000
DTSTAMP:20260422T034810Z
UID:fs-AFLABS-URNIK:srecanje:9154-2024-02-28 15:30:00+01:00
DESCRIPTION:Predmet: Machine elements 2 - PAP (SE2P)\, Laboratory excercis
 es (VL)\, [S1]\nLetniki: Konstruiranje strojev in naprav (PAP-2)\nIzvajalc
 i: Ivan Okorn\nProstor: Laboratory LASEM K-15B
END:VEVENT
BEGIN:VEVENT
SUMMARY:Machine elements 2 - PAP (SE2P)\, Laboratory excercises (VL)\, [S1
 ]
DTSTART;TZID=Europe/Ljubljana:20240313T153000
DTEND;TZID=Europe/Ljubljana:20240313T173000
DTSTAMP:20260422T034810Z
UID:fs-AFLABS-URNIK:srecanje:9154-2024-03-13 15:30:00+01:00
DESCRIPTION:Predmet: Machine elements 2 - PAP (SE2P)\, Laboratory excercis
 es (VL)\, [S1]\nLetniki: Konstruiranje strojev in naprav (PAP-2)\nIzvajalc
 i: Ivan Okorn\nProstor: Laboratory LASEM K-15B
END:VEVENT
BEGIN:VEVENT
SUMMARY:Machine elements 2 - PAP (SE2P)\, Laboratory excercises (VL)\, [S1
 ]
DTSTART;TZID=Europe/Ljubljana:20240327T153000
DTEND;TZID=Europe/Ljubljana:20240327T173000
DTSTAMP:20260422T034810Z
UID:fs-AFLABS-URNIK:srecanje:9154-2024-03-27 15:30:00+01:00
DESCRIPTION:Predmet: Machine elements 2 - PAP (SE2P)\, Laboratory excercis
 es (VL)\, [S1]\nLetniki: Konstruiranje strojev in naprav (PAP-2)\nIzvajalc
 i: Ivan Okorn\nProstor: Laboratory LASEM K-15B
END:VEVENT
BEGIN:VEVENT
SUMMARY:Machine elements 2 - PAP (SE2P)\, Laboratory excercises (VL)\, [S1
 ]
DTSTART;TZID=Europe/Ljubljana:20240403T153000
DTEND;TZID=Europe/Ljubljana:20240403T173000
DTSTAMP:20260422T034810Z
UID:fs-AFLABS-URNIK:srecanje:9154-2024-04-03 15:30:00+02:00
DESCRIPTION:Predmet: Machine elements 2 - PAP (SE2P)\, Laboratory excercis
 es (VL)\, [S1]\nLetniki: Konstruiranje strojev in naprav (PAP-2)\nIzvajalc
 i: Ivan Okorn\nProstor: Laboratory LASEM K-15B
END:VEVENT
BEGIN:VEVENT
SUMMARY:Machine elements 2 - PAP (SE2P)\, Laboratory excercises (VL)\, [S1
 ]
DTSTART;TZID=Europe/Ljubljana:20240417T153000
DTEND;TZID=Europe/Ljubljana:20240417T173000
DTSTAMP:20260422T034810Z
UID:fs-AFLABS-URNIK:srecanje:9154-2024-04-17 15:30:00+02:00
DESCRIPTION:Predmet: Machine elements 2 - PAP (SE2P)\, Laboratory excercis
 es (VL)\, [S1]\nLetniki: Konstruiranje strojev in naprav (PAP-2)\nIzvajalc
 i: Ivan Okorn\nProstor: Laboratory LASEM K-15B
END:VEVENT
BEGIN:VEVENT
SUMMARY:Machine elements 2 - PAP (SE2P)\, Laboratory excercises (VL)\, [S1
 ]
DTSTART;TZID=Europe/Ljubljana:20240501T153000
DTEND;TZID=Europe/Ljubljana:20240501T173000
DTSTAMP:20260422T034810Z
UID:fs-AFLABS-URNIK:srecanje:9154-2024-05-01 15:30:00+02:00
DESCRIPTION:Predmet: Machine elements 2 - PAP (SE2P)\, Laboratory excercis
 es (VL)\, [S1]\nLetniki: Konstruiranje strojev in naprav (PAP-2)\nIzvajalc
 i: Ivan Okorn\nProstor: Laboratory LASEM K-15B
END:VEVENT
BEGIN:VEVENT
SUMMARY:Machine elements 2 - PAP (SE2P)\, Laboratory excercises (VL)\, [S1
 ]
DTSTART;TZID=Europe/Ljubljana:20240515T153000
DTEND;TZID=Europe/Ljubljana:20240515T173000
DTSTAMP:20260422T034810Z
UID:fs-AFLABS-URNIK:srecanje:9154-2024-05-15 15:30:00+02:00
DESCRIPTION:Predmet: Machine elements 2 - PAP (SE2P)\, Laboratory excercis
 es (VL)\, [S1]\nLetniki: Konstruiranje strojev in naprav (PAP-2)\nIzvajalc
 i: Ivan Okorn\nProstor: Laboratory LASEM K-15B
END:VEVENT
BEGIN:VEVENT
SUMMARY:Machine elements 2 - PAP (SE2P)\, Laboratory excercises (VL)\, [S1
 ]
DTSTART;TZID=Europe/Ljubljana:20240522T153000
DTEND;TZID=Europe/Ljubljana:20240522T173000
DTSTAMP:20260422T034810Z
UID:fs-AFLABS-URNIK:srecanje:9154-2024-05-22 15:30:00+02:00
DESCRIPTION:Predmet: Machine elements 2 - PAP (SE2P)\, Laboratory excercis
 es (VL)\, [S1]\nLetniki: Konstruiranje strojev in naprav (PAP-2)\nIzvajalc
 i: Ivan Okorn\nProstor: Laboratory LASEM K-15B
END:VEVENT
BEGIN:VEVENT
SUMMARY:Machine elements 2 - RRP (SE2R)\, Laboratory excercises (VL)\, [S2
 ]
DTSTART;TZID=Europe/Ljubljana:20240305T080000
DTEND;TZID=Europe/Ljubljana:20240305T093000
DTSTAMP:20260422T034810Z
UID:fs-AFLABS-URNIK:srecanje:8604-2024-03-05 08:00:00+01:00
DESCRIPTION:Predmet: Machine elements 2 - RRP (SE2R)\, Laboratory excercis
 es (VL)\, [S2]\nLetniki: RRP-2 (RRP-2)\nIzvajalci: Ivan Okorn\nProstor: La
 boratory LAVEK IV/6
END:VEVENT
BEGIN:VEVENT
SUMMARY:Machine elements 2 - RRP (SE2R)\, Laboratory excercises (VL)\, [S2
 ]
DTSTART;TZID=Europe/Ljubljana:20240319T080000
DTEND;TZID=Europe/Ljubljana:20240319T093000
DTSTAMP:20260422T034810Z
UID:fs-AFLABS-URNIK:srecanje:8604-2024-03-19 08:00:00+01:00
DESCRIPTION:Predmet: Machine elements 2 - RRP (SE2R)\, Laboratory excercis
 es (VL)\, [S2]\nLetniki: RRP-2 (RRP-2)\nIzvajalci: Ivan Okorn\nProstor: La
 boratory LAVEK IV/6
END:VEVENT
BEGIN:VEVENT
SUMMARY:Machine elements 2 - RRP (SE2R)\, Laboratory excercises (VL)\, [S2
 ]
DTSTART;TZID=Europe/Ljubljana:20240326T080000
DTEND;TZID=Europe/Ljubljana:20240326T093000
DTSTAMP:20260422T034810Z
UID:fs-AFLABS-URNIK:srecanje:8604-2024-03-26 08:00:00+01:00
DESCRIPTION:Predmet: Machine elements 2 - RRP (SE2R)\, Laboratory excercis
 es (VL)\, [S2]\nLetniki: RRP-2 (RRP-2)\nIzvajalci: Ivan Okorn\nProstor: La
 boratory LAVEK IV/6
END:VEVENT
BEGIN:VEVENT
SUMMARY:Machine elements 2 - RRP (SE2R)\, Laboratory excercises (VL)\, [S2
 ]
DTSTART;TZID=Europe/Ljubljana:20240409T080000
DTEND;TZID=Europe/Ljubljana:20240409T093000
DTSTAMP:20260422T034810Z
UID:fs-AFLABS-URNIK:srecanje:8604-2024-04-09 08:00:00+02:00
DESCRIPTION:Predmet: Machine elements 2 - RRP (SE2R)\, Laboratory excercis
 es (VL)\, [S2]\nLetniki: RRP-2 (RRP-2)\nIzvajalci: Ivan Okorn\nProstor: La
 boratory LAVEK IV/6
END:VEVENT
BEGIN:VEVENT
SUMMARY:Machine elements 2 - RRP (SE2R)\, Laboratory excercises (VL)\, [S2
 ]
DTSTART;TZID=Europe/Ljubljana:20240416T080000
DTEND;TZID=Europe/Ljubljana:20240416T093000
DTSTAMP:20260422T034810Z
UID:fs-AFLABS-URNIK:srecanje:8604-2024-04-16 08:00:00+02:00
DESCRIPTION:Predmet: Machine elements 2 - RRP (SE2R)\, Laboratory excercis
 es (VL)\, [S2]\nLetniki: RRP-2 (RRP-2)\nIzvajalci: Ivan Okorn\nProstor: La
 boratory LAVEK IV/6
END:VEVENT
BEGIN:VEVENT
SUMMARY:Machine elements 2 - RRP (SE2R)\, Laboratory excercises (VL)\, [S2
 ]
DTSTART;TZID=Europe/Ljubljana:20240423T080000
DTEND;TZID=Europe/Ljubljana:20240423T093000
DTSTAMP:20260422T034810Z
UID:fs-AFLABS-URNIK:srecanje:8604-2024-04-23 08:00:00+02:00
DESCRIPTION:Predmet: Machine elements 2 - RRP (SE2R)\, Laboratory excercis
 es (VL)\, [S2]\nLetniki: RRP-2 (RRP-2)\nIzvajalci: Ivan Okorn\nProstor: La
 boratory LAVEK IV/6
END:VEVENT
BEGIN:VEVENT
SUMMARY:Machine elements 2 - RRP (SE2R)\, Laboratory excercises (VL)\, [S2
 ]
DTSTART;TZID=Europe/Ljubljana:20240514T080000
DTEND;TZID=Europe/Ljubljana:20240514T093000
DTSTAMP:20260422T034810Z
UID:fs-AFLABS-URNIK:srecanje:8604-2024-05-14 08:00:00+02:00
DESCRIPTION:Predmet: Machine elements 2 - RRP (SE2R)\, Laboratory excercis
 es (VL)\, [S2]\nLetniki: RRP-2 (RRP-2)\nIzvajalci: Ivan Okorn\nProstor: La
 boratory LAVEK IV/6
END:VEVENT
BEGIN:VEVENT
SUMMARY:Machine elements 2 - RRP (SE2R)\, Laboratory excercises (VL)\, [S2
 ]
DTSTART;TZID=Europe/Ljubljana:20240521T080000
DTEND;TZID=Europe/Ljubljana:20240521T093000
DTSTAMP:20260422T034810Z
UID:fs-AFLABS-URNIK:srecanje:8604-2024-05-21 08:00:00+02:00
DESCRIPTION:Predmet: Machine elements 2 - RRP (SE2R)\, Laboratory excercis
 es (VL)\, [S2]\nLetniki: RRP-2 (RRP-2)\nIzvajalci: Ivan Okorn\nProstor: La
 boratory LAVEK IV/6
END:VEVENT
BEGIN:VEVENT
SUMMARY:Machine elements 2 - RRP (SE2R)\, Laboratory excercises (VL)\, [S4
 ]
DTSTART;TZID=Europe/Ljubljana:20240305T093000
DTEND;TZID=Europe/Ljubljana:20240305T110000
DTSTAMP:20260422T034810Z
UID:fs-AFLABS-URNIK:srecanje:8605-2024-03-05 09:30:00+01:00
DESCRIPTION:Predmet: Machine elements 2 - RRP (SE2R)\, Laboratory excercis
 es (VL)\, [S4]\nLetniki: RRP-2 (RRP-2)\nIzvajalci: Ivan Okorn\nProstor: La
 boratory LAVEK IV/6
END:VEVENT
BEGIN:VEVENT
SUMMARY:Machine elements 2 - RRP (SE2R)\, Laboratory excercises (VL)\, [S4
 ]
DTSTART;TZID=Europe/Ljubljana:20240319T093000
DTEND;TZID=Europe/Ljubljana:20240319T110000
DTSTAMP:20260422T034810Z
UID:fs-AFLABS-URNIK:srecanje:8605-2024-03-19 09:30:00+01:00
DESCRIPTION:Predmet: Machine elements 2 - RRP (SE2R)\, Laboratory excercis
 es (VL)\, [S4]\nLetniki: RRP-2 (RRP-2)\nIzvajalci: Ivan Okorn\nProstor: La
 boratory LAVEK IV/6
END:VEVENT
BEGIN:VEVENT
SUMMARY:Machine elements 2 - RRP (SE2R)\, Laboratory excercises (VL)\, [S4
 ]
DTSTART;TZID=Europe/Ljubljana:20240326T093000
DTEND;TZID=Europe/Ljubljana:20240326T110000
DTSTAMP:20260422T034810Z
UID:fs-AFLABS-URNIK:srecanje:8605-2024-03-26 09:30:00+01:00
DESCRIPTION:Predmet: Machine elements 2 - RRP (SE2R)\, Laboratory excercis
 es (VL)\, [S4]\nLetniki: RRP-2 (RRP-2)\nIzvajalci: Ivan Okorn\nProstor: La
 boratory LAVEK IV/6
END:VEVENT
BEGIN:VEVENT
SUMMARY:Machine elements 2 - RRP (SE2R)\, Laboratory excercises (VL)\, [S4
 ]
DTSTART;TZID=Europe/Ljubljana:20240409T093000
DTEND;TZID=Europe/Ljubljana:20240409T110000
DTSTAMP:20260422T034810Z
UID:fs-AFLABS-URNIK:srecanje:8605-2024-04-09 09:30:00+02:00
DESCRIPTION:Predmet: Machine elements 2 - RRP (SE2R)\, Laboratory excercis
 es (VL)\, [S4]\nLetniki: RRP-2 (RRP-2)\nIzvajalci: Ivan Okorn\nProstor: La
 boratory LAVEK IV/6
END:VEVENT
BEGIN:VEVENT
SUMMARY:Machine elements 2 - RRP (SE2R)\, Laboratory excercises (VL)\, [S4
 ]
DTSTART;TZID=Europe/Ljubljana:20240416T093000
DTEND;TZID=Europe/Ljubljana:20240416T110000
DTSTAMP:20260422T034810Z
UID:fs-AFLABS-URNIK:srecanje:8605-2024-04-16 09:30:00+02:00
DESCRIPTION:Predmet: Machine elements 2 - RRP (SE2R)\, Laboratory excercis
 es (VL)\, [S4]\nLetniki: RRP-2 (RRP-2)\nIzvajalci: Ivan Okorn\nProstor: La
 boratory LAVEK IV/6
END:VEVENT
BEGIN:VEVENT
SUMMARY:Machine elements 2 - RRP (SE2R)\, Laboratory excercises (VL)\, [S4
 ]
DTSTART;TZID=Europe/Ljubljana:20240423T093000
DTEND;TZID=Europe/Ljubljana:20240423T110000
DTSTAMP:20260422T034810Z
UID:fs-AFLABS-URNIK:srecanje:8605-2024-04-23 09:30:00+02:00
DESCRIPTION:Predmet: Machine elements 2 - RRP (SE2R)\, Laboratory excercis
 es (VL)\, [S4]\nLetniki: RRP-2 (RRP-2)\nIzvajalci: Ivan Okorn\nProstor: La
 boratory LAVEK IV/6
END:VEVENT
BEGIN:VEVENT
SUMMARY:Machine elements 2 - RRP (SE2R)\, Laboratory excercises (VL)\, [S4
 ]
DTSTART;TZID=Europe/Ljubljana:20240514T093000
DTEND;TZID=Europe/Ljubljana:20240514T110000
DTSTAMP:20260422T034810Z
UID:fs-AFLABS-URNIK:srecanje:8605-2024-05-14 09:30:00+02:00
DESCRIPTION:Predmet: Machine elements 2 - RRP (SE2R)\, Laboratory excercis
 es (VL)\, [S4]\nLetniki: RRP-2 (RRP-2)\nIzvajalci: Ivan Okorn\nProstor: La
 boratory LAVEK IV/6
END:VEVENT
BEGIN:VEVENT
SUMMARY:Machine elements 2 - RRP (SE2R)\, Laboratory excercises (VL)\, [S4
 ]
DTSTART;TZID=Europe/Ljubljana:20240521T093000
DTEND;TZID=Europe/Ljubljana:20240521T110000
DTSTAMP:20260422T034810Z
UID:fs-AFLABS-URNIK:srecanje:8605-2024-05-21 09:30:00+02:00
DESCRIPTION:Predmet: Machine elements 2 - RRP (SE2R)\, Laboratory excercis
 es (VL)\, [S4]\nLetniki: RRP-2 (RRP-2)\nIzvajalci: Ivan Okorn\nProstor: La
 boratory LAVEK IV/6
END:VEVENT
BEGIN:VEVENT
SUMMARY:Machine elements 2 - RRP (SE2R)\, Laboratory excercises (VL)\, [S1
 ]
DTSTART;TZID=Europe/Ljubljana:20240308T120000
DTEND;TZID=Europe/Ljubljana:20240308T140000
DTSTAMP:20260422T034810Z
UID:fs-AFLABS-URNIK:srecanje:8674-2024-03-08 12:00:00+01:00
DESCRIPTION:Predmet: Machine elements 2 - RRP (SE2R)\, Laboratory excercis
 es (VL)\, [S1]\nLetniki: RRP-2 (RRP-2)\nIzvajalci: Ivan Okorn\nProstor: La
 boratory LAVEK IV/6
END:VEVENT
BEGIN:VEVENT
SUMMARY:Machine elements 2 - RRP (SE2R)\, Laboratory excercises (VL)\, [S1
 ]
DTSTART;TZID=Europe/Ljubljana:20240322T120000
DTEND;TZID=Europe/Ljubljana:20240322T140000
DTSTAMP:20260422T034810Z
UID:fs-AFLABS-URNIK:srecanje:8674-2024-03-22 12:00:00+01:00
DESCRIPTION:Predmet: Machine elements 2 - RRP (SE2R)\, Laboratory excercis
 es (VL)\, [S1]\nLetniki: RRP-2 (RRP-2)\nIzvajalci: Ivan Okorn\nProstor: La
 boratory LAVEK IV/6
END:VEVENT
BEGIN:VEVENT
SUMMARY:Machine elements 2 - RRP (SE2R)\, Laboratory excercises (VL)\, [S1
 ]
DTSTART;TZID=Europe/Ljubljana:20240329T120000
DTEND;TZID=Europe/Ljubljana:20240329T140000
DTSTAMP:20260422T034810Z
UID:fs-AFLABS-URNIK:srecanje:8674-2024-03-29 12:00:00+01:00
DESCRIPTION:Predmet: Machine elements 2 - RRP (SE2R)\, Laboratory excercis
 es (VL)\, [S1]\nLetniki: RRP-2 (RRP-2)\nIzvajalci: Ivan Okorn\nProstor: La
 boratory LAVEK IV/6
END:VEVENT
BEGIN:VEVENT
SUMMARY:Machine elements 2 - RRP (SE2R)\, Laboratory excercises (VL)\, [S1
 ]
DTSTART;TZID=Europe/Ljubljana:20240412T120000
DTEND;TZID=Europe/Ljubljana:20240412T140000
DTSTAMP:20260422T034810Z
UID:fs-AFLABS-URNIK:srecanje:8674-2024-04-12 12:00:00+02:00
DESCRIPTION:Predmet: Machine elements 2 - RRP (SE2R)\, Laboratory excercis
 es (VL)\, [S1]\nLetniki: RRP-2 (RRP-2)\nIzvajalci: Ivan Okorn\nProstor: La
 boratory LAVEK IV/6
END:VEVENT
BEGIN:VEVENT
SUMMARY:Machine elements 2 - RRP (SE2R)\, Laboratory excercises (VL)\, [S1
 ]
DTSTART;TZID=Europe/Ljubljana:20240419T120000
DTEND;TZID=Europe/Ljubljana:20240419T140000
DTSTAMP:20260422T034810Z
UID:fs-AFLABS-URNIK:srecanje:8674-2024-04-19 12:00:00+02:00
DESCRIPTION:Predmet: Machine elements 2 - RRP (SE2R)\, Laboratory excercis
 es (VL)\, [S1]\nLetniki: RRP-2 (RRP-2)\nIzvajalci: Ivan Okorn\nProstor: La
 boratory LAVEK IV/6
END:VEVENT
BEGIN:VEVENT
SUMMARY:Machine elements 2 - RRP (SE2R)\, Laboratory excercises (VL)\, [S1
 ]
DTSTART;TZID=Europe/Ljubljana:20240426T120000
DTEND;TZID=Europe/Ljubljana:20240426T140000
DTSTAMP:20260422T034810Z
UID:fs-AFLABS-URNIK:srecanje:8674-2024-04-26 12:00:00+02:00
DESCRIPTION:Predmet: Machine elements 2 - RRP (SE2R)\, Laboratory excercis
 es (VL)\, [S1]\nLetniki: RRP-2 (RRP-2)\nIzvajalci: Ivan Okorn\nProstor: La
 boratory LAVEK IV/6
END:VEVENT
BEGIN:VEVENT
SUMMARY:Machine elements 2 - RRP (SE2R)\, Laboratory excercises (VL)\, [S1
 ]
DTSTART;TZID=Europe/Ljubljana:20240517T120000
DTEND;TZID=Europe/Ljubljana:20240517T140000
DTSTAMP:20260422T034810Z
UID:fs-AFLABS-URNIK:srecanje:8674-2024-05-17 12:00:00+02:00
DESCRIPTION:Predmet: Machine elements 2 - RRP (SE2R)\, Laboratory excercis
 es (VL)\, [S1]\nLetniki: RRP-2 (RRP-2)\nIzvajalci: Ivan Okorn\nProstor: La
 boratory LAVEK IV/6
END:VEVENT
BEGIN:VEVENT
SUMMARY:Machine elements 2 - RRP (SE2R)\, Laboratory excercises (VL)\, [S1
 ]
DTSTART;TZID=Europe/Ljubljana:20240524T120000
DTEND;TZID=Europe/Ljubljana:20240524T140000
DTSTAMP:20260422T034810Z
UID:fs-AFLABS-URNIK:srecanje:8674-2024-05-24 12:00:00+02:00
DESCRIPTION:Predmet: Machine elements 2 - RRP (SE2R)\, Laboratory excercis
 es (VL)\, [S1]\nLetniki: RRP-2 (RRP-2)\nIzvajalci: Ivan Okorn\nProstor: La
 boratory LAVEK IV/6
END:VEVENT
BEGIN:VEVENT
SUMMARY:Strojni elementi 1 - popravljanje vaj
DTSTART;TZID=Europe/Ljubljana:20240220T160000
DTEND;TZID=Europe/Ljubljana:20240220T180000
DTSTAMP:20260422T034810Z
UID:fs-AFLABS-URNIK:rezervacija:4433
CATEGORIES:Reservation
COLOR:royalblue
DESCRIPTION:Predmeti: \nLetniki: \nIzvajalci: Ivan Okorn\nProstori: Lectur
 e hall V/8
LOCATION:Lecture hall V/8
ORGANIZER:Ivan Okorn
X-WR-TIMEZONE:Europe/Ljubljana
END:VEVENT
BEGIN:VEVENT
SUMMARY:Strojni elementi 1 (RRP) - izredni izpitni rok
DTSTART;TZID=Europe/Ljubljana:20240305T173000
DTEND;TZID=Europe/Ljubljana:20240305T193000
DTSTAMP:20260422T034810Z
UID:fs-AFLABS-URNIK:rezervacija:4456
CATEGORIES:Reservation
COLOR:royalblue
DESCRIPTION:Predmeti: \nLetniki: \nIzvajalci: Ivan Okorn\nProstori: Lectur
 e hall V/8
LOCATION:Lecture hall V/8
ORGANIZER:Ivan Okorn
X-WR-TIMEZONE:Europe/Ljubljana
END:VEVENT
BEGIN:VEVENT
SUMMARY:Strojni elementi 2 (RRP) - zagovor kolokvija
DTSTART;TZID=Europe/Ljubljana:20240415T163000
DTEND;TZID=Europe/Ljubljana:20240415T180000
DTSTAMP:20260422T034810Z
UID:fs-AFLABS-URNIK:rezervacija:4878
CATEGORIES:Reservation
COLOR:royalblue
DESCRIPTION:Predmeti: \nLetniki: \nIzvajalci: Ivan Okorn\nProstori: Lectur
 e hall IV/3A
LOCATION:Lecture hall IV/3A
ORGANIZER:Ivan Okorn
X-WR-TIMEZONE:Europe/Ljubljana
END:VEVENT
END:VCALENDAR
