BEGIN:VCALENDAR
VERSION:2.0
PRODID:-//AFLabs urnik izvoz - fs//aflabs.si//SI
NAME:UL FS Urnik
X-WR-CALNAME:UL FS Urnik
DTSTAMP:20260420T153730Z
REFRESH-INTERVAL:PT1H
SOURCE:https://urnik.fs.uni-lj.si/en/teacher/792/?day=2025-02-10&export=1
URL:https://urnik.fs.uni-lj.si/en/teacher/792/?day=2025-02-10&export=1
X-PUBLISHED-TTL:PT1H
X-WR-TIMEZONE:Europe/Ljubljana
BEGIN:VTIMEZONE
TZID:Europe/Ljubljana
BEGIN:DAYLIGHT
DTSTART:20260329T020000
RDATE:20260329T020000
RDATE:20270328T020000
TZNAME:CEST
TZOFFSETFROM:+0100
TZOFFSETTO:+0200
END:DAYLIGHT
BEGIN:STANDARD
DTSTART:20261025T030000
RDATE:20261025T030000
RDATE:20271031T030000
TZNAME:CET
TZOFFSETFROM:+0200
TZOFFSETTO:+0100
END:STANDARD
END:VTIMEZONE
BEGIN:VEVENT
SUMMARY:Operational Strength (OPSE)\, Lectures (P)
DTSTART;TZID=Europe/Ljubljana:20250217T140000
DTEND;TZID=Europe/Ljubljana:20250217T160000
DTSTAMP:20260420T153730Z
UID:fs-AFLABS-URNIK:srecanje:9892-2025-02-17 14:00:00+01:00
DESCRIPTION:Predmet: Operational Strength (OPSE)\, Lectures (P)\nLetniki: 
 Erasmus (Erasmus)\nIzvajalci: Marko Nagode\, Simon Oman\nProstor: Lecture 
 hall II/5
END:VEVENT
BEGIN:VEVENT
SUMMARY:Operational Strength (OPSE)\, Lectures (P)
DTSTART;TZID=Europe/Ljubljana:20250224T140000
DTEND;TZID=Europe/Ljubljana:20250224T160000
DTSTAMP:20260420T153730Z
UID:fs-AFLABS-URNIK:srecanje:9892-2025-02-24 14:00:00+01:00
DESCRIPTION:Predmet: Operational Strength (OPSE)\, Lectures (P)\nLetniki: 
 Erasmus (Erasmus)\nIzvajalci: Marko Nagode\, Simon Oman\nProstor: Lecture 
 hall II/5
END:VEVENT
BEGIN:VEVENT
SUMMARY:Operational Strength (OPSE)\, Lectures (P)
DTSTART;TZID=Europe/Ljubljana:20250303T140000
DTEND;TZID=Europe/Ljubljana:20250303T160000
DTSTAMP:20260420T153730Z
UID:fs-AFLABS-URNIK:srecanje:9892-2025-03-03 14:00:00+01:00
DESCRIPTION:Predmet: Operational Strength (OPSE)\, Lectures (P)\nLetniki: 
 Erasmus (Erasmus)\nIzvajalci: Marko Nagode\, Simon Oman\nProstor: Lecture 
 hall II/5
END:VEVENT
BEGIN:VEVENT
SUMMARY:Operational Strength (OPSE)\, Lectures (P)
DTSTART;TZID=Europe/Ljubljana:20250310T140000
DTEND;TZID=Europe/Ljubljana:20250310T160000
DTSTAMP:20260420T153730Z
UID:fs-AFLABS-URNIK:srecanje:9892-2025-03-10 14:00:00+01:00
DESCRIPTION:Predmet: Operational Strength (OPSE)\, Lectures (P)\nLetniki: 
 Erasmus (Erasmus)\nIzvajalci: Marko Nagode\, Simon Oman\nProstor: Lecture 
 hall II/5
END:VEVENT
BEGIN:VEVENT
SUMMARY:Operational Strength (OPSE)\, Lectures (P)
DTSTART;TZID=Europe/Ljubljana:20250317T140000
DTEND;TZID=Europe/Ljubljana:20250317T160000
DTSTAMP:20260420T153730Z
UID:fs-AFLABS-URNIK:srecanje:9892-2025-03-17 14:00:00+01:00
DESCRIPTION:Predmet: Operational Strength (OPSE)\, Lectures (P)\nLetniki: 
 Erasmus (Erasmus)\nIzvajalci: Marko Nagode\, Simon Oman\nProstor: Lecture 
 hall II/5
END:VEVENT
BEGIN:VEVENT
SUMMARY:Operational strength (OBTM)\, Lecture exercises (VP)
DTSTART;TZID=Europe/Ljubljana:20250218T160000
DTEND;TZID=Europe/Ljubljana:20250218T180000
DTSTAMP:20260420T153730Z
UID:fs-AFLABS-URNIK:srecanje:9868-2025-02-18 16:00:00+01:00
DESCRIPTION:Predmet: Operational strength (OBTM)\, Lecture exercises (VP)\
 nLetniki: Engineering design (MAG-1)\nIzvajalci: Aleš Gosar\, Simon Oman\
 nProstor: Lecture hall III/4
END:VEVENT
BEGIN:VEVENT
SUMMARY:Operational strength (OBTM)\, Laboratory excercises (VL)\, [S1]
DTSTART;TZID=Europe/Ljubljana:20250224T080000
DTEND;TZID=Europe/Ljubljana:20250224T100000
DTSTAMP:20260420T153730Z
UID:fs-AFLABS-URNIK:srecanje:9864-2025-02-24 08:00:00+01:00
DESCRIPTION:Predmet: Operational strength (OBTM)\, Laboratory excercises (
 VL)\, [S1]\nLetniki: Engineering design (MAG-1)\nIzvajalci: Simon Oman\nPr
 ostor: Laboratory LAVEK IV/6
END:VEVENT
BEGIN:VEVENT
SUMMARY:Operational strength (OBTM)\, Laboratory excercises (VL)\, [S1]
DTSTART;TZID=Europe/Ljubljana:20250303T080000
DTEND;TZID=Europe/Ljubljana:20250303T100000
DTSTAMP:20260420T153730Z
UID:fs-AFLABS-URNIK:srecanje:9864-2025-03-03 08:00:00+01:00
DESCRIPTION:Predmet: Operational strength (OBTM)\, Laboratory excercises (
 VL)\, [S1]\nLetniki: Engineering design (MAG-1)\nIzvajalci: Simon Oman\nPr
 ostor: Laboratory LAVEK IV/6
END:VEVENT
BEGIN:VEVENT
SUMMARY:Operational strength (OBTM)\, Laboratory excercises (VL)\, [S1]
DTSTART;TZID=Europe/Ljubljana:20250310T080000
DTEND;TZID=Europe/Ljubljana:20250310T100000
DTSTAMP:20260420T153730Z
UID:fs-AFLABS-URNIK:srecanje:9864-2025-03-10 08:00:00+01:00
DESCRIPTION:Predmet: Operational strength (OBTM)\, Laboratory excercises (
 VL)\, [S1]\nLetniki: Engineering design (MAG-1)\nIzvajalci: Simon Oman\nPr
 ostor: Laboratory LAVEK IV/6
END:VEVENT
BEGIN:VEVENT
SUMMARY:Operational strength (OBTM)\, Laboratory excercises (VL)\, [S1]
DTSTART;TZID=Europe/Ljubljana:20250317T080000
DTEND;TZID=Europe/Ljubljana:20250317T100000
DTSTAMP:20260420T153730Z
UID:fs-AFLABS-URNIK:srecanje:9864-2025-03-17 08:00:00+01:00
DESCRIPTION:Predmet: Operational strength (OBTM)\, Laboratory excercises (
 VL)\, [S1]\nLetniki: Engineering design (MAG-1)\nIzvajalci: Simon Oman\nPr
 ostor: Laboratory LAVEK IV/6
END:VEVENT
BEGIN:VEVENT
SUMMARY:Operational strength (OBTM)\, Laboratory excercises (VL)\, [S2]
DTSTART;TZID=Europe/Ljubljana:20250224T120000
DTEND;TZID=Europe/Ljubljana:20250224T140000
DTSTAMP:20260420T153730Z
UID:fs-AFLABS-URNIK:srecanje:9865-2025-02-24 12:00:00+01:00
DESCRIPTION:Predmet: Operational strength (OBTM)\, Laboratory excercises (
 VL)\, [S2]\nLetniki: Engineering design (MAG-1)\nIzvajalci: Simon Oman\nPr
 ostor: Laboratory LAVEK IV/6
END:VEVENT
BEGIN:VEVENT
SUMMARY:Operational strength (OBTM)\, Laboratory excercises (VL)\, [S2]
DTSTART;TZID=Europe/Ljubljana:20250303T120000
DTEND;TZID=Europe/Ljubljana:20250303T140000
DTSTAMP:20260420T153730Z
UID:fs-AFLABS-URNIK:srecanje:9865-2025-03-03 12:00:00+01:00
DESCRIPTION:Predmet: Operational strength (OBTM)\, Laboratory excercises (
 VL)\, [S2]\nLetniki: Engineering design (MAG-1)\nIzvajalci: Simon Oman\nPr
 ostor: Laboratory LAVEK IV/6
END:VEVENT
BEGIN:VEVENT
SUMMARY:Operational strength (OBTM)\, Laboratory excercises (VL)\, [S2]
DTSTART;TZID=Europe/Ljubljana:20250310T120000
DTEND;TZID=Europe/Ljubljana:20250310T140000
DTSTAMP:20260420T153730Z
UID:fs-AFLABS-URNIK:srecanje:9865-2025-03-10 12:00:00+01:00
DESCRIPTION:Predmet: Operational strength (OBTM)\, Laboratory excercises (
 VL)\, [S2]\nLetniki: Engineering design (MAG-1)\nIzvajalci: Simon Oman\nPr
 ostor: Laboratory LAVEK IV/6
END:VEVENT
BEGIN:VEVENT
SUMMARY:Operational strength (OBTM)\, Laboratory excercises (VL)\, [S2]
DTSTART;TZID=Europe/Ljubljana:20250317T120000
DTEND;TZID=Europe/Ljubljana:20250317T140000
DTSTAMP:20260420T153730Z
UID:fs-AFLABS-URNIK:srecanje:9865-2025-03-17 12:00:00+01:00
DESCRIPTION:Predmet: Operational strength (OBTM)\, Laboratory excercises (
 VL)\, [S2]\nLetniki: Engineering design (MAG-1)\nIzvajalci: Simon Oman\nPr
 ostor: Laboratory LAVEK IV/6
END:VEVENT
BEGIN:VEVENT
SUMMARY:Zagovor diplomske naloge Ledinek
DTSTART;TZID=Europe/Ljubljana:20250305T100000
DTEND;TZID=Europe/Ljubljana:20250305T110000
DTSTAMP:20260420T153730Z
UID:fs-AFLABS-URNIK:rezervacija:9152
CATEGORIES:Reservation
COLOR:royalblue
DESCRIPTION:Predmeti: \nLetniki: \nIzvajalci: Simon Oman\nProstori: Lectur
 e hall II/3A
LOCATION:Lecture hall II/3A
ORGANIZER:Simon Oman
X-WR-TIMEZONE:Europe/Ljubljana
END:VEVENT
BEGIN:VEVENT
SUMMARY:KSERV
DTSTART;TZID=Europe/Ljubljana:20250219T100000
DTEND;TZID=Europe/Ljubljana:20250219T110000
DTSTAMP:20260420T153730Z
UID:fs-AFLABS-URNIK:rezervacija:9215
CATEGORIES:Reservation
COLOR:royalblue
DESCRIPTION:Predmeti: \nLetniki: \nIzvajalci: Simon Oman\nProstori: Lectur
 e hall II/3B
LOCATION:Lecture hall II/3B
ORGANIZER:Simon Oman
X-WR-TIMEZONE:Europe/Ljubljana
END:VEVENT
END:VCALENDAR
