BEGIN:VCALENDAR
VERSION:2.0
PRODID:-//AFLabs urnik izvoz - fs//aflabs.si//SI
NAME:UL FS Urnik
X-WR-CALNAME:UL FS Urnik
DTSTAMP:20260425T202937Z
REFRESH-INTERVAL:PT1H
SOURCE:https://urnik.fs.uni-lj.si/en/teacher/798/?day=2024-01-29&export=1
URL:https://urnik.fs.uni-lj.si/en/teacher/798/?day=2024-01-29&export=1
X-PUBLISHED-TTL:PT1H
X-WR-TIMEZONE:Europe/Ljubljana
BEGIN:VTIMEZONE
TZID:Europe/Ljubljana
BEGIN:DAYLIGHT
DTSTART:20260329T020000
RDATE:20260329T020000
RDATE:20270328T020000
TZNAME:CEST
TZOFFSETFROM:+0100
TZOFFSETTO:+0200
END:DAYLIGHT
BEGIN:STANDARD
DTSTART:20261025T030000
RDATE:20261025T030000
RDATE:20271031T030000
TZNAME:CET
TZOFFSETFROM:+0200
TZOFFSETTO:+0100
END:STANDARD
END:VTIMEZONE
BEGIN:VEVENT
SUMMARY:System design in the industry (KVIP)\, Lecture exercises (VP)
DTSTART;TZID=Europe/Ljubljana:20240223T153000
DTEND;TZID=Europe/Ljubljana:20240223T173000
DTSTAMP:20260425T202937Z
UID:fs-AFLABS-URNIK:srecanje:8039-2024-02-23 15:30:00+01:00
DESCRIPTION:Predmet: System design in the industry (KVIP)\, Lecture exerci
 ses (VP)\nLetniki: Design of machines and devices (PAP-2)\nIzvajalci: Bran
 islav Panić\nProstor: Lecture hall III/3A
END:VEVENT
BEGIN:VEVENT
SUMMARY:System design in the industry (KVIP)\, Laboratory excercises (VL)\
 , [S2]
DTSTART;TZID=Europe/Ljubljana:20240301T073000
DTEND;TZID=Europe/Ljubljana:20240301T093000
DTSTAMP:20260425T202937Z
UID:fs-AFLABS-URNIK:srecanje:9051-2024-03-01 07:30:00+01:00
DESCRIPTION:Predmet: System design in the industry (KVIP)\, Laboratory exc
 ercises (VL)\, [S2]\nLetniki: Design of machines and devices (PAP-2)\nIzva
 jalci: Branislav Panić\nProstor: Laboratory LAVEK IV/6
END:VEVENT
BEGIN:VEVENT
SUMMARY:System design in the industry (KVIP)\, Laboratory excercises (VL)\
 , [S1]
DTSTART;TZID=Europe/Ljubljana:20240301T153000
DTEND;TZID=Europe/Ljubljana:20240301T173000
DTSTAMP:20260425T202937Z
UID:fs-AFLABS-URNIK:srecanje:9052-2024-03-01 15:30:00+01:00
DESCRIPTION:Predmet: System design in the industry (KVIP)\, Laboratory exc
 ercises (VL)\, [S1]\nLetniki: Design of machines and devices (PAP-2)\nIzva
 jalci: Branislav Panić\nProstor: Laboratory LAVEK IV/6
END:VEVENT
END:VCALENDAR
