BEGIN:VCALENDAR
VERSION:2.0
PRODID:-//AFLabs urnik izvoz - fs//aflabs.si//SI
NAME:UL FS Urnik
X-WR-CALNAME:UL FS Urnik
DTSTAMP:20260419T174501Z
REFRESH-INTERVAL:PT1H
SOURCE:https://urnik.fs.uni-lj.si/en/teacher/800/?day=2023-06-19&export=1
URL:https://urnik.fs.uni-lj.si/en/teacher/800/?day=2023-06-19&export=1
X-PUBLISHED-TTL:PT1H
X-WR-TIMEZONE:Europe/Ljubljana
BEGIN:VTIMEZONE
TZID:Europe/Ljubljana
BEGIN:DAYLIGHT
DTSTART:20260329T020000
RDATE:20260329T020000
RDATE:20270328T020000
TZNAME:CEST
TZOFFSETFROM:+0100
TZOFFSETTO:+0200
END:DAYLIGHT
BEGIN:STANDARD
DTSTART:20261025T030000
RDATE:20261025T030000
RDATE:20271031T030000
TZNAME:CET
TZOFFSETFROM:+0200
TZOFFSETTO:+0100
END:STANDARD
END:VTIMEZONE
BEGIN:VEVENT
SUMMARY:NPPM - Ustni zagovori
DTSTART;TZID=Europe/Ljubljana:20230621T080000
DTEND;TZID=Europe/Ljubljana:20230621T093000
DTSTAMP:20260419T174501Z
UID:fs-AFLABS-URNIK:rezervacija:855
CATEGORIES:Reservation
COLOR:royalblue
DESCRIPTION:Predmeti: \nLetniki: \nIzvajalci: Tomaž Pepelnjak\nProstori: 
 Lecture hall IV/3A
LOCATION:Lecture hall IV/3A
ORGANIZER:Tomaž Pepelnjak
X-WR-TIMEZONE:Europe/Ljubljana
END:VEVENT
BEGIN:VEVENT
SUMMARY:NPPM - Ustni zagovori
DTSTART;TZID=Europe/Ljubljana:20230614T090000
DTEND;TZID=Europe/Ljubljana:20230614T110000
DTSTAMP:20260419T174501Z
UID:fs-AFLABS-URNIK:rezervacija:1156
CATEGORIES:Reservation
COLOR:royalblue
DESCRIPTION:Predmeti: \nLetniki: \nIzvajalci: Tomaž Pepelnjak\nProstori: 
 Lecture hall III/3A
LOCATION:Lecture hall III/3A
ORGANIZER:Tomaž Pepelnjak
X-WR-TIMEZONE:Europe/Ljubljana
END:VEVENT
BEGIN:VEVENT
SUMMARY:NPPM - Ustni zagovori
DTSTART;TZID=Europe/Ljubljana:20230613T090000
DTEND;TZID=Europe/Ljubljana:20230613T160000
DTSTAMP:20260419T174501Z
UID:fs-AFLABS-URNIK:rezervacija:1386
ATTENDEE:Production engineering (MAG-1)
CATEGORIES:Reservation
COLOR:royalblue
DESCRIPTION:Predmeti: Advanced forming processes (NPPM)\nLetniki: Producti
 on engineering (MAG-1)\nIzvajalci: Tomaž Pepelnjak\nProstori: Lecture hal
 l III/3A
LOCATION:Lecture hall III/3A
ORGANIZER:Tomaž Pepelnjak
X-WR-TIMEZONE:Europe/Ljubljana
END:VEVENT
BEGIN:VEVENT
SUMMARY:Sestanek Pepelnjak
DTSTART;TZID=Europe/Ljubljana:20230621T150000
DTEND;TZID=Europe/Ljubljana:20230621T160000
DTSTAMP:20260419T174501Z
UID:fs-AFLABS-URNIK:rezervacija:1617
CATEGORIES:Reservation
COLOR:royalblue
DESCRIPTION:Predmeti: \nLetniki: \nIzvajalci: Tomaž Pepelnjak\nProstori: 
 Lecture hall III/3A
LOCATION:Lecture hall III/3A
ORGANIZER:Tomaž Pepelnjak
X-WR-TIMEZONE:Europe/Ljubljana
END:VEVENT
BEGIN:VEVENT
SUMMARY:Izpit: Izdelovalne tehnologije 1
DTSTART;TZID=Europe/Ljubljana:20230608T080000
DTEND;TZID=Europe/Ljubljana:20230608T100000
DTSTAMP:20260419T174501Z
UID:fs-AFLABS-URNIK:rezervacija:2246
ATTENDEE:RRP-2 (RRP-2)
CATEGORIES:Reservation
COLOR:royalblue
DESCRIPTION:Predmeti: Production technologies 1 (IT1R)\nLetniki: RRP-2 (RR
 P-2)\nIzvajalci: Tomaž Pepelnjak\nProstori: Lecture hall V/8
LOCATION:Lecture hall V/8
ORGANIZER:Tomaž Pepelnjak
X-WR-TIMEZONE:Europe/Ljubljana
END:VEVENT
BEGIN:VEVENT
SUMMARY:Izpit: Izdelovalne tehnologije 1
DTSTART;TZID=Europe/Ljubljana:20230622T100000
DTEND;TZID=Europe/Ljubljana:20230622T120000
DTSTAMP:20260419T174501Z
UID:fs-AFLABS-URNIK:rezervacija:2247
ATTENDEE:RRP-2 (RRP-2)
CATEGORIES:Reservation
COLOR:royalblue
DESCRIPTION:Predmeti: Production technologies 1 (IT1R)\nLetniki: RRP-2 (RR
 P-2)\nIzvajalci: Tomaž Pepelnjak\nProstori: Lecture hall V/8
LOCATION:Lecture hall V/8
ORGANIZER:Tomaž Pepelnjak
X-WR-TIMEZONE:Europe/Ljubljana
END:VEVENT
BEGIN:VEVENT
SUMMARY:Izpit: Izdelovalne tehnologije 1 (2028)
DTSTART;TZID=Europe/Ljubljana:20230608T100000
DTEND;TZID=Europe/Ljubljana:20230608T120000
DTSTAMP:20260419T174501Z
UID:fs-AFLABS-URNIK:rezervacija:2250
CATEGORIES:Reservation
COLOR:royalblue
DESCRIPTION:Predmeti: \nLetniki: \nIzvajalci: Tomaž Pepelnjak\nProstori: 
 Lecture hall V/8
LOCATION:Lecture hall V/8
ORGANIZER:Tomaž Pepelnjak
X-WR-TIMEZONE:Europe/Ljubljana
END:VEVENT
BEGIN:VEVENT
SUMMARY:Izpit: Napredni preoblikovalni procesi
DTSTART;TZID=Europe/Ljubljana:20230606T120000
DTEND;TZID=Europe/Ljubljana:20230606T140000
DTSTAMP:20260419T174501Z
UID:fs-AFLABS-URNIK:rezervacija:2252
ATTENDEE:Production engineering (MAG-1)
CATEGORIES:Reservation
COLOR:royalblue
DESCRIPTION:Predmeti: Advanced forming processes (NPPM)\nLetniki: Producti
 on engineering (MAG-1)\nIzvajalci: Tomaž Pepelnjak\nProstori: Lecture hal
 l V/2\, Lecture hall V/8
LOCATION:Lecture hall V/2\, Lecture hall V/8
ORGANIZER:Tomaž Pepelnjak
X-WR-TIMEZONE:Europe/Ljubljana
END:VEVENT
BEGIN:VEVENT
SUMMARY:Izpit: Napredni preoblikovalni procesi
DTSTART;TZID=Europe/Ljubljana:20230620T080000
DTEND;TZID=Europe/Ljubljana:20230620T100000
DTSTAMP:20260419T174501Z
UID:fs-AFLABS-URNIK:rezervacija:2253
ATTENDEE:Production engineering (MAG-1)
CATEGORIES:Reservation
COLOR:royalblue
DESCRIPTION:Predmeti: Advanced forming processes (NPPM)\nLetniki: Producti
 on engineering (MAG-1)\nIzvajalci: Tomaž Pepelnjak\nProstori: Lecture hal
 l V/2
LOCATION:Lecture hall V/2
ORGANIZER:Tomaž Pepelnjak
X-WR-TIMEZONE:Europe/Ljubljana
END:VEVENT
BEGIN:VEVENT
SUMMARY:Izpit: Preoblikovanje kovin (6033)
DTSTART;TZID=Europe/Ljubljana:20230620T080000
DTEND;TZID=Europe/Ljubljana:20230620T100000
DTSTAMP:20260419T174501Z
UID:fs-AFLABS-URNIK:rezervacija:2255
CATEGORIES:Reservation
COLOR:royalblue
DESCRIPTION:Predmeti: \nLetniki: \nIzvajalci: Tomaž Pepelnjak\nProstori: 
 Lecture hall V/2
LOCATION:Lecture hall V/2
ORGANIZER:Tomaž Pepelnjak
X-WR-TIMEZONE:Europe/Ljubljana
END:VEVENT
BEGIN:VEVENT
SUMMARY:Izpit: Tehnologija preoblikovanja (3040)
DTSTART;TZID=Europe/Ljubljana:20230616T100000
DTEND;TZID=Europe/Ljubljana:20230616T120000
DTSTAMP:20260419T174501Z
UID:fs-AFLABS-URNIK:rezervacija:2257
CATEGORIES:Reservation
COLOR:royalblue
DESCRIPTION:Predmeti: \nLetniki: \nIzvajalci: Tomaž Pepelnjak\nProstori: 
 Lecture hall IV/2
LOCATION:Lecture hall IV/2
ORGANIZER:Tomaž Pepelnjak
X-WR-TIMEZONE:Europe/Ljubljana
END:VEVENT
END:VCALENDAR
