BEGIN:VCALENDAR
VERSION:2.0
PRODID:-//AFLabs urnik izvoz - fs//aflabs.si//SI
NAME:UL FS Urnik
X-WR-CALNAME:UL FS Urnik
DTSTAMP:20260419T224254Z
REFRESH-INTERVAL:PT1H
SOURCE:https://urnik.fs.uni-lj.si/en/teacher/800/?day=2023-07-31&export=1
URL:https://urnik.fs.uni-lj.si/en/teacher/800/?day=2023-07-31&export=1
X-PUBLISHED-TTL:PT1H
X-WR-TIMEZONE:Europe/Ljubljana
BEGIN:VTIMEZONE
TZID:Europe/Ljubljana
BEGIN:DAYLIGHT
DTSTART:20260329T020000
RDATE:20260329T020000
RDATE:20270328T020000
TZNAME:CEST
TZOFFSETFROM:+0100
TZOFFSETTO:+0200
END:DAYLIGHT
BEGIN:STANDARD
DTSTART:20261025T030000
RDATE:20261025T030000
RDATE:20271031T030000
TZNAME:CET
TZOFFSETFROM:+0200
TZOFFSETTO:+0100
END:STANDARD
END:VTIMEZONE
BEGIN:VEVENT
SUMMARY:Ceepus summer school / Forming laboratory
DTSTART;TZID=Europe/Ljubljana:20230901T083000
DTEND;TZID=Europe/Ljubljana:20230901T120000
DTSTAMP:20260419T224254Z
UID:fs-AFLABS-URNIK:rezervacija:543
CATEGORIES:Reservation
COLOR:royalblue
DESCRIPTION:Predmeti: \nLetniki: \nIzvajalci: Tomaž Pepelnjak\nProstori: 
 Lecture hall II/3A
LOCATION:Lecture hall II/3A
ORGANIZER:Tomaž Pepelnjak
X-WR-TIMEZONE:Europe/Ljubljana
END:VEVENT
BEGIN:VEVENT
SUMMARY:Ceepus summer school / Forming laboratory
DTSTART;TZID=Europe/Ljubljana:20230830T100000
DTEND;TZID=Europe/Ljubljana:20230830T163000
DTSTAMP:20260419T224254Z
UID:fs-AFLABS-URNIK:rezervacija:626
CATEGORIES:Reservation
COLOR:royalblue
DESCRIPTION:Predmeti: \nLetniki: \nIzvajalci: Tomaž Pepelnjak\nProstori: 
 Lecture hall II/2
LOCATION:Lecture hall II/2
ORGANIZER:Tomaž Pepelnjak
X-WR-TIMEZONE:Europe/Ljubljana
END:VEVENT
BEGIN:VEVENT
SUMMARY:Ceepus summer school / Forming laboratory
DTSTART;TZID=Europe/Ljubljana:20230829T130000
DTEND;TZID=Europe/Ljubljana:20230829T143000
DTSTAMP:20260419T224254Z
UID:fs-AFLABS-URNIK:rezervacija:1477
CATEGORIES:Reservation
COLOR:royalblue
DESCRIPTION:Predmeti: \nLetniki: \nIzvajalci: Tomaž Pepelnjak\nProstori: 
 Lecture hall II/3B
LOCATION:Lecture hall II/3B
ORGANIZER:Tomaž Pepelnjak
X-WR-TIMEZONE:Europe/Ljubljana
END:VEVENT
BEGIN:VEVENT
SUMMARY:Ceepus summer school / Forming laboratory
DTSTART;TZID=Europe/Ljubljana:20230829T143000
DTEND;TZID=Europe/Ljubljana:20230829T160000
DTSTAMP:20260419T224254Z
UID:fs-AFLABS-URNIK:rezervacija:1704
CATEGORIES:Reservation
COLOR:royalblue
DESCRIPTION:Predmeti: \nLetniki: \nIzvajalci: Tomaž Pepelnjak\nProstori: 
 Lecture hall II/3B
LOCATION:Lecture hall II/3B
ORGANIZER:Tomaž Pepelnjak
X-WR-TIMEZONE:Europe/Ljubljana
END:VEVENT
BEGIN:VEVENT
SUMMARY:Ceepus summer school / Forming laboratory
DTSTART;TZID=Europe/Ljubljana:20230830T083000
DTEND;TZID=Europe/Ljubljana:20230830T100000
DTSTAMP:20260419T224254Z
UID:fs-AFLABS-URNIK:rezervacija:1780
CATEGORIES:Reservation
COLOR:royalblue
DESCRIPTION:Predmeti: \nLetniki: \nIzvajalci: Tomaž Pepelnjak\nProstori: 
 Lecture hall II/2
LOCATION:Lecture hall II/2
ORGANIZER:Tomaž Pepelnjak
X-WR-TIMEZONE:Europe/Ljubljana
END:VEVENT
BEGIN:VEVENT
SUMMARY:Sestanek
DTSTART;TZID=Europe/Ljubljana:20230901T143000
DTEND;TZID=Europe/Ljubljana:20230901T160000
DTSTAMP:20260419T224254Z
UID:fs-AFLABS-URNIK:rezervacija:1783
CATEGORIES:Reservation
COLOR:royalblue
DESCRIPTION:Predmeti: \nLetniki: \nIzvajalci: Tomaž Pepelnjak\nProstori: 
 Conference room
LOCATION:Conference room
ORGANIZER:Tomaž Pepelnjak
X-WR-TIMEZONE:Europe/Ljubljana
END:VEVENT
BEGIN:VEVENT
SUMMARY:Izpit: Izdelovalne tehnologije 1
DTSTART;TZID=Europe/Ljubljana:20230821T080000
DTEND;TZID=Europe/Ljubljana:20230821T100000
DTSTAMP:20260419T224254Z
UID:fs-AFLABS-URNIK:rezervacija:2248
ATTENDEE:RRP-2 (RRP-2)
CATEGORIES:Reservation
COLOR:royalblue
DESCRIPTION:Predmeti: Production technologies 1 (IT1R)\nLetniki: RRP-2 (RR
 P-2)\nIzvajalci: Tomaž Pepelnjak\nProstori: Lecture hall V/8
LOCATION:Lecture hall V/8
ORGANIZER:Tomaž Pepelnjak
X-WR-TIMEZONE:Europe/Ljubljana
END:VEVENT
BEGIN:VEVENT
SUMMARY:Izpit: Izdelovalne tehnologije 1 (2028)
DTSTART;TZID=Europe/Ljubljana:20230821T080000
DTEND;TZID=Europe/Ljubljana:20230821T100000
DTSTAMP:20260419T224254Z
UID:fs-AFLABS-URNIK:rezervacija:2251
CATEGORIES:Reservation
COLOR:royalblue
DESCRIPTION:Predmeti: \nLetniki: \nIzvajalci: Tomaž Pepelnjak\nProstori: 
 Lecture hall V/8
LOCATION:Lecture hall V/8
ORGANIZER:Tomaž Pepelnjak
X-WR-TIMEZONE:Europe/Ljubljana
END:VEVENT
BEGIN:VEVENT
SUMMARY:Izpit: Preoblikovanje kovin (6033)
DTSTART;TZID=Europe/Ljubljana:20230818T090000
DTEND;TZID=Europe/Ljubljana:20230818T110000
DTSTAMP:20260419T224254Z
UID:fs-AFLABS-URNIK:rezervacija:2256
CATEGORIES:Reservation
COLOR:royalblue
DESCRIPTION:Predmeti: \nLetniki: \nIzvajalci: Tomaž Pepelnjak\nProstori: 
 Lecture hall II/3A
LOCATION:Lecture hall II/3A
ORGANIZER:Tomaž Pepelnjak
X-WR-TIMEZONE:Europe/Ljubljana
END:VEVENT
BEGIN:VEVENT
SUMMARY:Izpit: Tehnologija preoblikovanja (3040)
DTSTART;TZID=Europe/Ljubljana:20230825T080000
DTEND;TZID=Europe/Ljubljana:20230825T100000
DTSTAMP:20260419T224254Z
UID:fs-AFLABS-URNIK:rezervacija:2258
CATEGORIES:Reservation
COLOR:royalblue
DESCRIPTION:Predmeti: \nLetniki: \nIzvajalci: Tomaž Pepelnjak\nProstori: 
 Lecture hall III/2
LOCATION:Lecture hall III/2
ORGANIZER:Tomaž Pepelnjak
X-WR-TIMEZONE:Europe/Ljubljana
END:VEVENT
BEGIN:VEVENT
SUMMARY:Izpit: Napredni preoblikovalni procesi
DTSTART;TZID=Europe/Ljubljana:20230901T120000
DTEND;TZID=Europe/Ljubljana:20230901T140000
DTSTAMP:20260419T224254Z
UID:fs-AFLABS-URNIK:rezervacija:2305
ATTENDEE:Production engineering (MAG-1)
CATEGORIES:Reservation
COLOR:royalblue
DESCRIPTION:Predmeti: Advanced forming processes (NPPM)\nLetniki: Producti
 on engineering (MAG-1)\nIzvajalci: Tomaž Pepelnjak\nProstori: Lecture hal
 l III/2
LOCATION:Lecture hall III/2
ORGANIZER:Tomaž Pepelnjak
X-WR-TIMEZONE:Europe/Ljubljana
END:VEVENT
END:VCALENDAR
