BEGIN:VCALENDAR
VERSION:2.0
PRODID:-//AFLabs urnik izvoz - fs//aflabs.si//SI
NAME:UL FS Urnik
X-WR-CALNAME:UL FS Urnik
DTSTAMP:20260419T233528Z
REFRESH-INTERVAL:PT1H
SOURCE:https://urnik.fs.uni-lj.si/en/teacher/800/?day=2026-01-19&export=1
URL:https://urnik.fs.uni-lj.si/en/teacher/800/?day=2026-01-19&export=1
X-PUBLISHED-TTL:PT1H
X-WR-TIMEZONE:Europe/Ljubljana
BEGIN:VTIMEZONE
TZID:Europe/Ljubljana
BEGIN:DAYLIGHT
DTSTART:20260329T020000
RDATE:20260329T020000
RDATE:20270328T020000
TZNAME:CEST
TZOFFSETFROM:+0100
TZOFFSETTO:+0200
END:DAYLIGHT
BEGIN:STANDARD
DTSTART:20261025T030000
RDATE:20261025T030000
RDATE:20271031T030000
TZNAME:CET
TZOFFSETFROM:+0200
TZOFFSETTO:+0100
END:STANDARD
END:VTIMEZONE
BEGIN:VEVENT
SUMMARY:Production technologies 2 (TP2P)\, Lectures (P)
DTSTART;TZID=Europe/Ljubljana:20251216T073000
DTEND;TZID=Europe/Ljubljana:20251216T100000
DTSTAMP:20260419T233528Z
UID:fs-AFLABS-URNIK:srecanje:15714-2025-12-16 07:30:00+01:00
DESCRIPTION:Predmet: Production technologies 2 (TP2P)\, Lectures (P)\nLetn
 iki: Aircraft design and maintenance (PAP-2)\, Airline transport pilot (PA
 P-2)\, Design of machines and devices (PAP-2)\, Energy engineering (PAP-2)
 \, Mechatronics (PAP-2)\, Process engineering (PAP-2)\, Production enginee
 ring (PAP-2)\, Production technologies (PAP-2)\, Konstruiranje strojev in 
 naprav (PAP-2)\nIzvajalci: Damjan Klobčar\, Tomaž Pepelnjak\nProstor: Le
 cture hall V/2
END:VEVENT
BEGIN:VEVENT
SUMMARY:Production technologies 2 (TP2P)\, Lectures (P)
DTSTART;TZID=Europe/Ljubljana:20251223T073000
DTEND;TZID=Europe/Ljubljana:20251223T100000
DTSTAMP:20260419T233528Z
UID:fs-AFLABS-URNIK:srecanje:15714-2025-12-23 07:30:00+01:00
DESCRIPTION:Predmet: Production technologies 2 (TP2P)\, Lectures (P)\nLetn
 iki: Aircraft design and maintenance (PAP-2)\, Airline transport pilot (PA
 P-2)\, Design of machines and devices (PAP-2)\, Energy engineering (PAP-2)
 \, Mechatronics (PAP-2)\, Process engineering (PAP-2)\, Production enginee
 ring (PAP-2)\, Production technologies (PAP-2)\, Konstruiranje strojev in 
 naprav (PAP-2)\nIzvajalci: Damjan Klobčar\, Tomaž Pepelnjak\nProstor: Le
 cture hall V/2
END:VEVENT
BEGIN:VEVENT
SUMMARY:Production technologies 2 (TP2P)\, Lectures (P)
DTSTART;TZID=Europe/Ljubljana:20260106T073000
DTEND;TZID=Europe/Ljubljana:20260106T100000
DTSTAMP:20260419T233528Z
UID:fs-AFLABS-URNIK:srecanje:15714-2026-01-06 07:30:00+01:00
DESCRIPTION:Predmet: Production technologies 2 (TP2P)\, Lectures (P)\nLetn
 iki: Aircraft design and maintenance (PAP-2)\, Airline transport pilot (PA
 P-2)\, Design of machines and devices (PAP-2)\, Energy engineering (PAP-2)
 \, Mechatronics (PAP-2)\, Process engineering (PAP-2)\, Production enginee
 ring (PAP-2)\, Production technologies (PAP-2)\, Konstruiranje strojev in 
 naprav (PAP-2)\nIzvajalci: Damjan Klobčar\, Tomaž Pepelnjak\nProstor: Le
 cture hall V/2
END:VEVENT
BEGIN:VEVENT
SUMMARY:Production technologies 2 (TP2P)\, Lectures (P)
DTSTART;TZID=Europe/Ljubljana:20260113T073000
DTEND;TZID=Europe/Ljubljana:20260113T100000
DTSTAMP:20260419T233528Z
UID:fs-AFLABS-URNIK:srecanje:15714-2026-01-13 07:30:00+01:00
DESCRIPTION:Predmet: Production technologies 2 (TP2P)\, Lectures (P)\nLetn
 iki: Aircraft design and maintenance (PAP-2)\, Airline transport pilot (PA
 P-2)\, Design of machines and devices (PAP-2)\, Energy engineering (PAP-2)
 \, Mechatronics (PAP-2)\, Process engineering (PAP-2)\, Production enginee
 ring (PAP-2)\, Production technologies (PAP-2)\, Konstruiranje strojev in 
 naprav (PAP-2)\nIzvajalci: Damjan Klobčar\, Tomaž Pepelnjak\nProstor: Le
 cture hall V/2
END:VEVENT
BEGIN:VEVENT
SUMMARY:Design on forming technologies (NTPP)\, Lectures (P)
DTSTART;TZID=Europe/Ljubljana:20251216T133000
DTEND;TZID=Europe/Ljubljana:20251216T153000
DTSTAMP:20260419T233528Z
UID:fs-AFLABS-URNIK:srecanje:4075-2025-12-16 13:30:00+01:00
DESCRIPTION:Predmet: Design on forming technologies (NTPP)\, Lectures (P)\
 nLetniki: Production technologies (PAP-3)\nIzvajalci: Tomaž Pepelnjak\nPr
 ostor: Lecture hall III/3A
END:VEVENT
BEGIN:VEVENT
SUMMARY:Design on forming technologies (NTPP)\, Lectures (P)
DTSTART;TZID=Europe/Ljubljana:20251223T133000
DTEND;TZID=Europe/Ljubljana:20251223T153000
DTSTAMP:20260419T233528Z
UID:fs-AFLABS-URNIK:srecanje:4075-2025-12-23 13:30:00+01:00
DESCRIPTION:Predmet: Design on forming technologies (NTPP)\, Lectures (P)\
 nLetniki: Production technologies (PAP-3)\nIzvajalci: Tomaž Pepelnjak\nPr
 ostor: Lecture hall III/3A
END:VEVENT
BEGIN:VEVENT
SUMMARY:Design on forming technologies (NTPP)\, Lectures (P)
DTSTART;TZID=Europe/Ljubljana:20260106T133000
DTEND;TZID=Europe/Ljubljana:20260106T153000
DTSTAMP:20260419T233528Z
UID:fs-AFLABS-URNIK:srecanje:4075-2026-01-06 13:30:00+01:00
DESCRIPTION:Predmet: Design on forming technologies (NTPP)\, Lectures (P)\
 nLetniki: Production technologies (PAP-3)\nIzvajalci: Tomaž Pepelnjak\nPr
 ostor: Lecture hall III/3A
END:VEVENT
BEGIN:VEVENT
SUMMARY:Design on forming technologies (NTPP)\, Lectures (P)
DTSTART;TZID=Europe/Ljubljana:20260113T133000
DTEND;TZID=Europe/Ljubljana:20260113T153000
DTSTAMP:20260419T233528Z
UID:fs-AFLABS-URNIK:srecanje:4075-2026-01-13 13:30:00+01:00
DESCRIPTION:Predmet: Design on forming technologies (NTPP)\, Lectures (P)\
 nLetniki: Production technologies (PAP-3)\nIzvajalci: Tomaž Pepelnjak\nPr
 ostor: Lecture hall III/3A
END:VEVENT
BEGIN:VEVENT
SUMMARY:Advanced forming processes (NPPM)\, Lectures (P)
DTSTART;TZID=Europe/Ljubljana:20260216T120000
DTEND;TZID=Europe/Ljubljana:20260216T140000
DTSTAMP:20260419T233528Z
UID:fs-AFLABS-URNIK:srecanje:14968-2026-02-16 12:00:00+01:00
DESCRIPTION:Predmet: Advanced forming processes (NPPM)\, Lectures (P)\nLet
 niki: Production engineering (MAG-1)\nIzvajalci: Tomaž Pepelnjak\nProstor
 : Lecture hall III/4
END:VEVENT
BEGIN:VEVENT
SUMMARY:Advanced forming processes (NPPM)\, Lectures (P)
DTSTART;TZID=Europe/Ljubljana:20260223T120000
DTEND;TZID=Europe/Ljubljana:20260223T140000
DTSTAMP:20260419T233528Z
UID:fs-AFLABS-URNIK:srecanje:14968-2026-02-23 12:00:00+01:00
DESCRIPTION:Predmet: Advanced forming processes (NPPM)\, Lectures (P)\nLet
 niki: Production engineering (MAG-1)\nIzvajalci: Tomaž Pepelnjak\nProstor
 : Lecture hall III/4
END:VEVENT
BEGIN:VEVENT
SUMMARY:Production technologies 1 (IT1R)\, Lectures (P)
DTSTART;TZID=Europe/Ljubljana:20260218T100000
DTEND;TZID=Europe/Ljubljana:20260218T130000
DTSTAMP:20260419T233528Z
UID:fs-AFLABS-URNIK:srecanje:511-2026-02-18 10:00:00+01:00
DESCRIPTION:Predmet: Production technologies 1 (IT1R)\, Lectures (P)\nLetn
 iki: RRP-2 (RRP-2)\nIzvajalci: Tomaž Pepelnjak\, Franci Pušavec\nProstor
 : Lecture hall V/2
END:VEVENT
BEGIN:VEVENT
SUMMARY:Advanced Forming Processes (AFPE)\, Lectures (P)
DTSTART;TZID=Europe/Ljubljana:20260218T080000
DTEND;TZID=Europe/Ljubljana:20260218T100000
DTSTAMP:20260419T233528Z
UID:fs-AFLABS-URNIK:srecanje:17664-2026-02-18 08:00:00+01:00
DESCRIPTION:Predmet: Advanced Forming Processes (AFPE)\, Lectures (P)\nLet
 niki: Erasmus (Erasmus)\nIzvajalci: Tomaž Pepelnjak\nProstor: Lecture hal
 l II/3B
END:VEVENT
BEGIN:VEVENT
SUMMARY:Advanced Forming Processes (AFPE)\, Lecture exercises (VP)\, [S1]
DTSTART;TZID=Europe/Ljubljana:20260219T080000
DTEND;TZID=Europe/Ljubljana:20260219T100000
DTSTAMP:20260419T233528Z
UID:fs-AFLABS-URNIK:srecanje:17665-2026-02-19 08:00:00+01:00
DESCRIPTION:Predmet: Advanced Forming Processes (AFPE)\, Lecture exercises
  (VP)\, [S1]\nLetniki: Erasmus (Erasmus)\nIzvajalci: Tomaž Pepelnjak\, Lu
 ka Sevšek\nProstor: Lecture hall I/4A
END:VEVENT
BEGIN:VEVENT
SUMMARY:NTP ustni zagovori
DTSTART;TZID=Europe/Ljubljana:20260126T083000
DTEND;TZID=Europe/Ljubljana:20260126T123000
DTSTAMP:20260419T233528Z
UID:fs-AFLABS-URNIK:rezervacija:13531
ATTENDEE:Production technologies (PAP-3)
CATEGORIES:Reservation
COLOR:royalblue
DESCRIPTION:Predmeti: Design on forming technologies (NTPP)\nLetniki: Prod
 uction technologies (PAP-3)\nIzvajalci: Tomaž Pepelnjak\nProstori: Lectur
 e hall III/3B
LOCATION:Lecture hall III/3B
ORGANIZER:Tomaž Pepelnjak
X-WR-TIMEZONE:Europe/Ljubljana
END:VEVENT
BEGIN:VEVENT
SUMMARY:kolokvij
DTSTART;TZID=Europe/Ljubljana:20260115T153000
DTEND;TZID=Europe/Ljubljana:20260115T170000
DTSTAMP:20260419T233528Z
UID:fs-AFLABS-URNIK:rezervacija:13015
ATTENDEE:Production technologies (PAP-3)
CATEGORIES:Reservation
COLOR:royalblue
DESCRIPTION:Predmeti: Design on forming technologies (NTPP)\nLetniki: Prod
 uction technologies (PAP-3)\nIzvajalci: Tomaž Pepelnjak\nProstori: Lectur
 e hall III/4
LOCATION:Lecture hall III/4
ORGANIZER:Tomaž Pepelnjak
X-WR-TIMEZONE:Europe/Ljubljana
END:VEVENT
BEGIN:VEVENT
SUMMARY:Izpit: Načrtovanje tehnologij preoblikovanja
DTSTART;TZID=Europe/Ljubljana:20260123T110000
DTEND;TZID=Europe/Ljubljana:20260123T130000
DTSTAMP:20260419T233528Z
UID:fs-AFLABS-URNIK:rezervacija:12091
ATTENDEE:Production technologies (PAP-3)
CATEGORIES:Reservation
COLOR:royalblue
DESCRIPTION:Predmeti: Design on forming technologies (NTPP)\nLetniki: Prod
 uction technologies (PAP-3)\nIzvajalci: Tomaž Pepelnjak\nProstori: Lectur
 e hall III/2
LOCATION:Lecture hall III/2
ORGANIZER:Tomaž Pepelnjak
X-WR-TIMEZONE:Europe/Ljubljana
END:VEVENT
BEGIN:VEVENT
SUMMARY:kolokvij NTM - ALUO
DTSTART;TZID=Europe/Ljubljana:20251217T120000
DTEND;TZID=Europe/Ljubljana:20251217T130000
DTSTAMP:20260419T233528Z
UID:fs-AFLABS-URNIK:rezervacija:13093
CATEGORIES:Reservation
COLOR:royalblue
DESCRIPTION:Predmeti: \nLetniki: \nIzvajalci: Tomaž Pepelnjak\nProstori: 
 Lecture hall III/2
LOCATION:Lecture hall III/2
ORGANIZER:Tomaž Pepelnjak
X-WR-TIMEZONE:Europe/Ljubljana
END:VEVENT
BEGIN:VEVENT
SUMMARY:colloquium ATM
DTSTART;TZID=Europe/Ljubljana:20251217T140000
DTEND;TZID=Europe/Ljubljana:20251217T150000
DTSTAMP:20260419T233528Z
UID:fs-AFLABS-URNIK:rezervacija:13390
CATEGORIES:Reservation
COLOR:royalblue
DESCRIPTION:Predmeti: \nLetniki: \nIzvajalci: Tomaž Pepelnjak\nProstori: 
 Lecture hall IV/3A
LOCATION:Lecture hall IV/3A
ORGANIZER:Tomaž Pepelnjak
X-WR-TIMEZONE:Europe/Ljubljana
END:VEVENT
BEGIN:VEVENT
SUMMARY:Izpit: Načrtovanje tehnologij preoblikovanja
DTSTART;TZID=Europe/Ljubljana:20260206T080000
DTEND;TZID=Europe/Ljubljana:20260206T100000
DTSTAMP:20260419T233528Z
UID:fs-AFLABS-URNIK:rezervacija:12595
ATTENDEE:Production technologies (PAP-3)
CATEGORIES:Reservation
COLOR:royalblue
DESCRIPTION:Predmeti: Design on forming technologies (NTPP)\nLetniki: Prod
 uction technologies (PAP-3)\nIzvajalci: Tomaž Pepelnjak\nProstori: Lectur
 e hall III/2
LOCATION:Lecture hall III/2
ORGANIZER:Tomaž Pepelnjak
X-WR-TIMEZONE:Europe/Ljubljana
END:VEVENT
END:VCALENDAR
