BEGIN:VCALENDAR
VERSION:2.0
PRODID:-//AFLabs urnik izvoz - fs//aflabs.si//SI
NAME:UL FS Urnik
X-WR-CALNAME:UL FS Urnik
DTSTAMP:20260421T190053Z
REFRESH-INTERVAL:PT1H
SOURCE:https://urnik.fs.uni-lj.si/en/teacher/802/?day=2023-09-25&export=1
URL:https://urnik.fs.uni-lj.si/en/teacher/802/?day=2023-09-25&export=1
X-PUBLISHED-TTL:PT1H
X-WR-TIMEZONE:Europe/Ljubljana
BEGIN:VTIMEZONE
TZID:Europe/Ljubljana
BEGIN:DAYLIGHT
DTSTART:20260329T020000
RDATE:20260329T020000
RDATE:20270328T020000
TZNAME:CEST
TZOFFSETFROM:+0100
TZOFFSETTO:+0200
END:DAYLIGHT
BEGIN:STANDARD
DTSTART:20261025T030000
RDATE:20261025T030000
RDATE:20271031T030000
TZNAME:CET
TZOFFSETFROM:+0200
TZOFFSETTO:+0100
END:STANDARD
END:VTIMEZONE
BEGIN:VEVENT
SUMMARY:Multiphase Systems (VFSM)\, Lectures (P)
DTSTART;TZID=Europe/Ljubljana:20231002T120000
DTEND;TZID=Europe/Ljubljana:20231002T140000
DTSTAMP:20260421T190053Z
UID:fs-AFLABS-URNIK:srecanje:3947-2023-10-02 12:00:00+02:00
DESCRIPTION:Predmet: Multiphase Systems (VFSM)\, Lectures (P)\nLetniki: Pr
 ocess engineering (MAG-2)\nIzvajalci: Andrej Bombač\, Matjaž Perpar\, Bo
 židar Šarler\nProstor: Lecture hall II/2
END:VEVENT
BEGIN:VEVENT
SUMMARY:Multiphase Systems (VFSM)\, Lectures (P)
DTSTART;TZID=Europe/Ljubljana:20231009T120000
DTEND;TZID=Europe/Ljubljana:20231009T140000
DTSTAMP:20260421T190053Z
UID:fs-AFLABS-URNIK:srecanje:3947-2023-10-09 12:00:00+02:00
DESCRIPTION:Predmet: Multiphase Systems (VFSM)\, Lectures (P)\nLetniki: Pr
 ocess engineering (MAG-2)\nIzvajalci: Andrej Bombač\, Matjaž Perpar\, Bo
 židar Šarler\nProstor: Lecture hall II/2
END:VEVENT
BEGIN:VEVENT
SUMMARY:Multiphase Systems (VFSM)\, Lectures (P)
DTSTART;TZID=Europe/Ljubljana:20231016T120000
DTEND;TZID=Europe/Ljubljana:20231016T140000
DTSTAMP:20260421T190053Z
UID:fs-AFLABS-URNIK:srecanje:3947-2023-10-16 12:00:00+02:00
DESCRIPTION:Predmet: Multiphase Systems (VFSM)\, Lectures (P)\nLetniki: Pr
 ocess engineering (MAG-2)\nIzvajalci: Andrej Bombač\, Matjaž Perpar\, Bo
 židar Šarler\nProstor: Lecture hall II/2
END:VEVENT
BEGIN:VEVENT
SUMMARY:Multiphase Systems (VFSM)\, Lectures (P)
DTSTART;TZID=Europe/Ljubljana:20231023T120000
DTEND;TZID=Europe/Ljubljana:20231023T140000
DTSTAMP:20260421T190053Z
UID:fs-AFLABS-URNIK:srecanje:3947-2023-10-23 12:00:00+02:00
DESCRIPTION:Predmet: Multiphase Systems (VFSM)\, Lectures (P)\nLetniki: Pr
 ocess engineering (MAG-2)\nIzvajalci: Andrej Bombač\, Matjaž Perpar\, Bo
 židar Šarler\nProstor: Lecture hall II/2
END:VEVENT
BEGIN:VEVENT
SUMMARY:Fluid statics and dynamics (SDTR)\, Lecture exercises (VP)\, [S1]
DTSTART;TZID=Europe/Ljubljana:20231005T113000
DTEND;TZID=Europe/Ljubljana:20231005T133000
DTSTAMP:20260421T190053Z
UID:fs-AFLABS-URNIK:srecanje:2535-2023-10-05 11:30:00+02:00
DESCRIPTION:Predmet: Fluid statics and dynamics (SDTR)\, Lecture exercises
  (VP)\, [S1]\nLetniki: RRP-2 (RRP-2)\nIzvajalci: Matjaž Perpar\nProstor: 
 Lecture hall II/3B
END:VEVENT
BEGIN:VEVENT
SUMMARY:Fluid statics and dynamics (SDTR)\, Lecture exercises (VP)\, [S1]
DTSTART;TZID=Europe/Ljubljana:20231012T113000
DTEND;TZID=Europe/Ljubljana:20231012T133000
DTSTAMP:20260421T190053Z
UID:fs-AFLABS-URNIK:srecanje:2535-2023-10-12 11:30:00+02:00
DESCRIPTION:Predmet: Fluid statics and dynamics (SDTR)\, Lecture exercises
  (VP)\, [S1]\nLetniki: RRP-2 (RRP-2)\nIzvajalci: Matjaž Perpar\nProstor: 
 Lecture hall II/3B
END:VEVENT
BEGIN:VEVENT
SUMMARY:Fluid statics and dynamics (SDTR)\, Lecture exercises (VP)\, [S1]
DTSTART;TZID=Europe/Ljubljana:20231019T113000
DTEND;TZID=Europe/Ljubljana:20231019T133000
DTSTAMP:20260421T190053Z
UID:fs-AFLABS-URNIK:srecanje:2535-2023-10-19 11:30:00+02:00
DESCRIPTION:Predmet: Fluid statics and dynamics (SDTR)\, Lecture exercises
  (VP)\, [S1]\nLetniki: RRP-2 (RRP-2)\nIzvajalci: Matjaž Perpar\nProstor: 
 Lecture hall II/3B
END:VEVENT
BEGIN:VEVENT
SUMMARY:Fluid statics and dynamics (SDTR)\, Lecture exercises (VP)\, [S1]
DTSTART;TZID=Europe/Ljubljana:20231026T113000
DTEND;TZID=Europe/Ljubljana:20231026T133000
DTSTAMP:20260421T190053Z
UID:fs-AFLABS-URNIK:srecanje:2535-2023-10-26 11:30:00+02:00
DESCRIPTION:Predmet: Fluid statics and dynamics (SDTR)\, Lecture exercises
  (VP)\, [S1]\nLetniki: RRP-2 (RRP-2)\nIzvajalci: Matjaž Perpar\nProstor: 
 Lecture hall II/3B
END:VEVENT
BEGIN:VEVENT
SUMMARY:Fluid statics and dynamics (SDTR)\, Lecture exercises (VP)\, [S4]
DTSTART;TZID=Europe/Ljubljana:20231005T080000
DTEND;TZID=Europe/Ljubljana:20231005T100000
DTSTAMP:20260421T190053Z
UID:fs-AFLABS-URNIK:srecanje:6206-2023-10-05 08:00:00+02:00
DESCRIPTION:Predmet: Fluid statics and dynamics (SDTR)\, Lecture exercises
  (VP)\, [S4]\nLetniki: RRP-2 (RRP-2)\nIzvajalci: Matjaž Perpar\nProstor: 
 Lecture hall I/4A
END:VEVENT
BEGIN:VEVENT
SUMMARY:Multiphase Systems (VFSM)\, Lecture exercises (VP)
DTSTART;TZID=Europe/Ljubljana:20231005T120000
DTEND;TZID=Europe/Ljubljana:20231005T140000
DTSTAMP:20260421T190053Z
UID:fs-AFLABS-URNIK:srecanje:4591-2023-10-05 12:00:00+02:00
DESCRIPTION:Predmet: Multiphase Systems (VFSM)\, Lecture exercises (VP)\nL
 etniki: Process engineering (MAG-2)\nIzvajalci: Matjaž Perpar\nProstor: L
 ecture hall IV/3A
END:VEVENT
BEGIN:VEVENT
SUMMARY:Multiphase Systems (VFSM)\, Lecture exercises (VP)
DTSTART;TZID=Europe/Ljubljana:20231019T120000
DTEND;TZID=Europe/Ljubljana:20231019T140000
DTSTAMP:20260421T190053Z
UID:fs-AFLABS-URNIK:srecanje:4591-2023-10-19 12:00:00+02:00
DESCRIPTION:Predmet: Multiphase Systems (VFSM)\, Lecture exercises (VP)\nL
 etniki: Process engineering (MAG-2)\nIzvajalci: Matjaž Perpar\nProstor: L
 ecture hall IV/3A
END:VEVENT
BEGIN:VEVENT
SUMMARY:Fluid statics and dynamics (SDTR)\, Lecture exercises (VP)\, [S2]
DTSTART;TZID=Europe/Ljubljana:20231006T073000
DTEND;TZID=Europe/Ljubljana:20231006T093000
DTSTAMP:20260421T190053Z
UID:fs-AFLABS-URNIK:srecanje:2536-2023-10-06 07:30:00+02:00
DESCRIPTION:Predmet: Fluid statics and dynamics (SDTR)\, Lecture exercises
  (VP)\, [S2]\nLetniki: RRP-2 (RRP-2)\nIzvajalci: Matjaž Perpar\nProstor: 
 Lecture hall IV/3A
END:VEVENT
BEGIN:VEVENT
SUMMARY:Fluid statics and dynamics (SDTR)\, Lecture exercises (VP)\, [S2]
DTSTART;TZID=Europe/Ljubljana:20231013T073000
DTEND;TZID=Europe/Ljubljana:20231013T093000
DTSTAMP:20260421T190053Z
UID:fs-AFLABS-URNIK:srecanje:2536-2023-10-13 07:30:00+02:00
DESCRIPTION:Predmet: Fluid statics and dynamics (SDTR)\, Lecture exercises
  (VP)\, [S2]\nLetniki: RRP-2 (RRP-2)\nIzvajalci: Matjaž Perpar\nProstor: 
 Lecture hall IV/3A
END:VEVENT
BEGIN:VEVENT
SUMMARY:Fluid statics and dynamics (SDTR)\, Lecture exercises (VP)\, [S2]
DTSTART;TZID=Europe/Ljubljana:20231020T073000
DTEND;TZID=Europe/Ljubljana:20231020T093000
DTSTAMP:20260421T190053Z
UID:fs-AFLABS-URNIK:srecanje:2536-2023-10-20 07:30:00+02:00
DESCRIPTION:Predmet: Fluid statics and dynamics (SDTR)\, Lecture exercises
  (VP)\, [S2]\nLetniki: RRP-2 (RRP-2)\nIzvajalci: Matjaž Perpar\nProstor: 
 Lecture hall IV/3A
END:VEVENT
BEGIN:VEVENT
SUMMARY:Fluid statics and dynamics (SDTR)\, Lecture exercises (VP)\, [S2]
DTSTART;TZID=Europe/Ljubljana:20231027T073000
DTEND;TZID=Europe/Ljubljana:20231027T093000
DTSTAMP:20260421T190053Z
UID:fs-AFLABS-URNIK:srecanje:2536-2023-10-27 07:30:00+02:00
DESCRIPTION:Predmet: Fluid statics and dynamics (SDTR)\, Lecture exercises
  (VP)\, [S2]\nLetniki: RRP-2 (RRP-2)\nIzvajalci: Matjaž Perpar\nProstor: 
 Lecture hall IV/3A
END:VEVENT
BEGIN:VEVENT
SUMMARY:Fluid statics and dynamics (SDTR)\, Lecture exercises (VP)\, [S3]
DTSTART;TZID=Europe/Ljubljana:20231006T103000
DTEND;TZID=Europe/Ljubljana:20231006T123000
DTSTAMP:20260421T190053Z
UID:fs-AFLABS-URNIK:srecanje:2537-2023-10-06 10:30:00+02:00
DESCRIPTION:Predmet: Fluid statics and dynamics (SDTR)\, Lecture exercises
  (VP)\, [S3]\nLetniki: RRP-2 (RRP-2)\nIzvajalci: Matjaž Perpar\nProstor: 
 Lecture hall IV/3A
END:VEVENT
BEGIN:VEVENT
SUMMARY:Fluid statics and dynamics (SDTR)\, Lecture exercises (VP)\, [S3]
DTSTART;TZID=Europe/Ljubljana:20231013T103000
DTEND;TZID=Europe/Ljubljana:20231013T123000
DTSTAMP:20260421T190053Z
UID:fs-AFLABS-URNIK:srecanje:2537-2023-10-13 10:30:00+02:00
DESCRIPTION:Predmet: Fluid statics and dynamics (SDTR)\, Lecture exercises
  (VP)\, [S3]\nLetniki: RRP-2 (RRP-2)\nIzvajalci: Matjaž Perpar\nProstor: 
 Lecture hall IV/3A
END:VEVENT
BEGIN:VEVENT
SUMMARY:Fluid statics and dynamics (SDTR)\, Lecture exercises (VP)\, [S3]
DTSTART;TZID=Europe/Ljubljana:20231020T103000
DTEND;TZID=Europe/Ljubljana:20231020T123000
DTSTAMP:20260421T190053Z
UID:fs-AFLABS-URNIK:srecanje:2537-2023-10-20 10:30:00+02:00
DESCRIPTION:Predmet: Fluid statics and dynamics (SDTR)\, Lecture exercises
  (VP)\, [S3]\nLetniki: RRP-2 (RRP-2)\nIzvajalci: Matjaž Perpar\nProstor: 
 Lecture hall IV/3A
END:VEVENT
BEGIN:VEVENT
SUMMARY:Fluid statics and dynamics (SDTR)\, Lecture exercises (VP)\, [S3]
DTSTART;TZID=Europe/Ljubljana:20231027T103000
DTEND;TZID=Europe/Ljubljana:20231027T123000
DTSTAMP:20260421T190053Z
UID:fs-AFLABS-URNIK:srecanje:2537-2023-10-27 10:30:00+02:00
DESCRIPTION:Predmet: Fluid statics and dynamics (SDTR)\, Lecture exercises
  (VP)\, [S3]\nLetniki: RRP-2 (RRP-2)\nIzvajalci: Matjaž Perpar\nProstor: 
 Lecture hall IV/3A
END:VEVENT
BEGIN:VEVENT
SUMMARY:Fluid statics and dynamics (SDTR)\, Lecture exercises (VP)\, [S4]
DTSTART;TZID=Europe/Ljubljana:20231012T080000
DTEND;TZID=Europe/Ljubljana:20231012T100000
DTSTAMP:20260421T190053Z
UID:fs-AFLABS-URNIK:srecanje:5940-2023-10-12 08:00:00+02:00
DESCRIPTION:Predmet: Fluid statics and dynamics (SDTR)\, Lecture exercises
  (VP)\, [S4]\nLetniki: RRP-2 (RRP-2)\nIzvajalci: Matjaž Perpar\nProstor: 
 Lecture hall IV/3A
END:VEVENT
BEGIN:VEVENT
SUMMARY:Fluid statics and dynamics (SDTR)\, Lecture exercises (VP)\, [S4]
DTSTART;TZID=Europe/Ljubljana:20231019T080000
DTEND;TZID=Europe/Ljubljana:20231019T100000
DTSTAMP:20260421T190053Z
UID:fs-AFLABS-URNIK:srecanje:5940-2023-10-19 08:00:00+02:00
DESCRIPTION:Predmet: Fluid statics and dynamics (SDTR)\, Lecture exercises
  (VP)\, [S4]\nLetniki: RRP-2 (RRP-2)\nIzvajalci: Matjaž Perpar\nProstor: 
 Lecture hall IV/3A
END:VEVENT
BEGIN:VEVENT
SUMMARY:Fluid statics and dynamics (SDTR)\, Lecture exercises (VP)\, [S4]
DTSTART;TZID=Europe/Ljubljana:20231026T080000
DTEND;TZID=Europe/Ljubljana:20231026T100000
DTSTAMP:20260421T190053Z
UID:fs-AFLABS-URNIK:srecanje:5940-2023-10-26 08:00:00+02:00
DESCRIPTION:Predmet: Fluid statics and dynamics (SDTR)\, Lecture exercises
  (VP)\, [S4]\nLetniki: RRP-2 (RRP-2)\nIzvajalci: Matjaž Perpar\nProstor: 
 Lecture hall IV/3A
END:VEVENT
BEGIN:VEVENT
SUMMARY:Multiphase Systems (VFSM)\, Laboratory excercises (VL)\, [S2]
DTSTART;TZID=Europe/Ljubljana:20231012T100000
DTEND;TZID=Europe/Ljubljana:20231012T120000
DTSTAMP:20260421T190053Z
UID:fs-AFLABS-URNIK:srecanje:5018-2023-10-12 10:00:00+02:00
DESCRIPTION:Predmet: Multiphase Systems (VFSM)\, Laboratory excercises (VL
 )\, [S2]\nLetniki: Process engineering (MAG-2)\nIzvajalci: Boštjan Mavri
 č\, Matjaž Perpar\nProstor: Laboratory LFDT K-1B
END:VEVENT
BEGIN:VEVENT
SUMMARY:Multiphase Systems (VFSM)\, Laboratory excercises (VL)\, [S2]
DTSTART;TZID=Europe/Ljubljana:20231026T100000
DTEND;TZID=Europe/Ljubljana:20231026T120000
DTSTAMP:20260421T190053Z
UID:fs-AFLABS-URNIK:srecanje:5018-2023-10-26 10:00:00+02:00
DESCRIPTION:Predmet: Multiphase Systems (VFSM)\, Laboratory excercises (VL
 )\, [S2]\nLetniki: Process engineering (MAG-2)\nIzvajalci: Boštjan Mavri
 č\, Matjaž Perpar\nProstor: Laboratory LFDT K-1B
END:VEVENT
BEGIN:VEVENT
SUMMARY:Multiphase Systems (VFSM)\, Laboratory excercises (VL)\, [S1]
DTSTART;TZID=Europe/Ljubljana:20231012T120000
DTEND;TZID=Europe/Ljubljana:20231012T140000
DTSTAMP:20260421T190053Z
UID:fs-AFLABS-URNIK:srecanje:6280-2023-10-12 12:00:00+02:00
DESCRIPTION:Predmet: Multiphase Systems (VFSM)\, Laboratory excercises (VL
 )\, [S1]\nLetniki: Process engineering (MAG-2)\nIzvajalci: Boštjan Mavri
 č\, Matjaž Perpar\nProstor: Laboratory LFDT K-1B
END:VEVENT
BEGIN:VEVENT
SUMMARY:Multiphase Systems (VFSM)\, Laboratory excercises (VL)\, [S1]
DTSTART;TZID=Europe/Ljubljana:20231026T120000
DTEND;TZID=Europe/Ljubljana:20231026T140000
DTSTAMP:20260421T190053Z
UID:fs-AFLABS-URNIK:srecanje:6280-2023-10-26 12:00:00+02:00
DESCRIPTION:Predmet: Multiphase Systems (VFSM)\, Laboratory excercises (VL
 )\, [S1]\nLetniki: Process engineering (MAG-2)\nIzvajalci: Boštjan Mavri
 č\, Matjaž Perpar\nProstor: Laboratory LFDT K-1B
END:VEVENT
BEGIN:VEVENT
SUMMARY:Multiphase Systems (VFSM)\, Laboratory excercises (VL)\, [S3]
DTSTART;TZID=Europe/Ljubljana:20231012T160000
DTEND;TZID=Europe/Ljubljana:20231012T180000
DTSTAMP:20260421T190053Z
UID:fs-AFLABS-URNIK:srecanje:5020-2023-10-12 16:00:00+02:00
DESCRIPTION:Predmet: Multiphase Systems (VFSM)\, Laboratory excercises (VL
 )\, [S3]\nLetniki: Process engineering (MAG-2)\nIzvajalci: Boštjan Mavri
 č\, Matjaž Perpar\nProstor: Laboratory LFDT K-1B
END:VEVENT
BEGIN:VEVENT
SUMMARY:Multiphase Systems (VFSM)\, Laboratory excercises (VL)\, [S3]
DTSTART;TZID=Europe/Ljubljana:20231026T160000
DTEND;TZID=Europe/Ljubljana:20231026T180000
DTSTAMP:20260421T190053Z
UID:fs-AFLABS-URNIK:srecanje:5020-2023-10-26 16:00:00+02:00
DESCRIPTION:Predmet: Multiphase Systems (VFSM)\, Laboratory excercises (VL
 )\, [S3]\nLetniki: Process engineering (MAG-2)\nIzvajalci: Boštjan Mavri
 č\, Matjaž Perpar\nProstor: Laboratory LFDT K-1B
END:VEVENT
BEGIN:VEVENT
SUMMARY:Zagovor zaključne naloge
DTSTART;TZID=Europe/Ljubljana:20230821T110000
DTEND;TZID=Europe/Ljubljana:20230821T130000
DTSTAMP:20260421T190053Z
UID:fs-AFLABS-URNIK:rezervacija:1012
CATEGORIES:Reservation
COLOR:royalblue
DESCRIPTION:Predmeti: \nLetniki: \nIzvajalci: Matjaž Perpar\nProstori: Le
 cture hall III/3B
LOCATION:Lecture hall III/3B
ORGANIZER:Matjaž Perpar
X-WR-TIMEZONE:Europe/Ljubljana
END:VEVENT
END:VCALENDAR
