BEGIN:VCALENDAR
VERSION:2.0
PRODID:-//AFLabs urnik izvoz - fs//aflabs.si//SI
NAME:UL FS Urnik
X-WR-CALNAME:UL FS Urnik
DTSTAMP:20260424T073542Z
REFRESH-INTERVAL:PT1H
SOURCE:https://urnik.fs.uni-lj.si/en/teacher/806/?day=2025-01-06&export=1
URL:https://urnik.fs.uni-lj.si/en/teacher/806/?day=2025-01-06&export=1
X-PUBLISHED-TTL:PT1H
X-WR-TIMEZONE:Europe/Ljubljana
BEGIN:VTIMEZONE
TZID:Europe/Ljubljana
BEGIN:DAYLIGHT
DTSTART:20260329T020000
RDATE:20260329T020000
RDATE:20270328T020000
TZNAME:CEST
TZOFFSETFROM:+0100
TZOFFSETTO:+0200
END:DAYLIGHT
BEGIN:STANDARD
DTSTART:20261025T030000
RDATE:20261025T030000
RDATE:20271031T030000
TZNAME:CET
TZOFFSETFROM:+0200
TZOFFSETTO:+0100
END:STANDARD
END:VTIMEZONE
BEGIN:VEVENT
SUMMARY:Performance of aircraft (ZMLP)\, Lectures (P)
DTSTART;TZID=Europe/Ljubljana:20241001T113000
DTEND;TZID=Europe/Ljubljana:20241001T153000
DTSTAMP:20260424T073542Z
UID:fs-AFLABS-URNIK:srecanje:7787-2024-10-01 11:30:00+02:00
DESCRIPTION:Predmet: Performance of aircraft (ZMLP)\, Lectures (P)\nLetnik
 i: Aircraft design and maintenance (PAP-3)\, Airline transport pilot (PAP-
 3)\nIzvajalci: Tomaž Mrlak\, Igor Petrović\nProstor: Lecture hall IV/3A
END:VEVENT
BEGIN:VEVENT
SUMMARY:Performance of aircraft (ZMLP)\, Lectures (P)
DTSTART;TZID=Europe/Ljubljana:20241008T113000
DTEND;TZID=Europe/Ljubljana:20241008T153000
DTSTAMP:20260424T073542Z
UID:fs-AFLABS-URNIK:srecanje:7787-2024-10-08 11:30:00+02:00
DESCRIPTION:Predmet: Performance of aircraft (ZMLP)\, Lectures (P)\nLetnik
 i: Aircraft design and maintenance (PAP-3)\, Airline transport pilot (PAP-
 3)\nIzvajalci: Tomaž Mrlak\, Igor Petrović\nProstor: Lecture hall IV/3A
END:VEVENT
BEGIN:VEVENT
SUMMARY:Performance of aircraft (ZMLP)\, Lectures (P)
DTSTART;TZID=Europe/Ljubljana:20241015T113000
DTEND;TZID=Europe/Ljubljana:20241015T153000
DTSTAMP:20260424T073542Z
UID:fs-AFLABS-URNIK:srecanje:7787-2024-10-15 11:30:00+02:00
DESCRIPTION:Predmet: Performance of aircraft (ZMLP)\, Lectures (P)\nLetnik
 i: Aircraft design and maintenance (PAP-3)\, Airline transport pilot (PAP-
 3)\nIzvajalci: Tomaž Mrlak\, Igor Petrović\nProstor: Lecture hall IV/3A
END:VEVENT
BEGIN:VEVENT
SUMMARY:Performance of aircraft (ZMLP)\, Lectures (P)
DTSTART;TZID=Europe/Ljubljana:20241022T113000
DTEND;TZID=Europe/Ljubljana:20241022T153000
DTSTAMP:20260424T073542Z
UID:fs-AFLABS-URNIK:srecanje:7787-2024-10-22 11:30:00+02:00
DESCRIPTION:Predmet: Performance of aircraft (ZMLP)\, Lectures (P)\nLetnik
 i: Aircraft design and maintenance (PAP-3)\, Airline transport pilot (PAP-
 3)\nIzvajalci: Tomaž Mrlak\, Igor Petrović\nProstor: Lecture hall IV/3A
END:VEVENT
BEGIN:VEVENT
SUMMARY:Performance of aircraft (ZMLP)\, Lectures (P)
DTSTART;TZID=Europe/Ljubljana:20241105T113000
DTEND;TZID=Europe/Ljubljana:20241105T153000
DTSTAMP:20260424T073542Z
UID:fs-AFLABS-URNIK:srecanje:7787-2024-11-05 11:30:00+01:00
DESCRIPTION:Predmet: Performance of aircraft (ZMLP)\, Lectures (P)\nLetnik
 i: Aircraft design and maintenance (PAP-3)\, Airline transport pilot (PAP-
 3)\nIzvajalci: Tomaž Mrlak\, Igor Petrović\nProstor: Lecture hall IV/3A
END:VEVENT
BEGIN:VEVENT
SUMMARY:Performance of aircraft (ZMLP)\, Lectures (P)
DTSTART;TZID=Europe/Ljubljana:20241112T113000
DTEND;TZID=Europe/Ljubljana:20241112T153000
DTSTAMP:20260424T073542Z
UID:fs-AFLABS-URNIK:srecanje:7787-2024-11-12 11:30:00+01:00
DESCRIPTION:Predmet: Performance of aircraft (ZMLP)\, Lectures (P)\nLetnik
 i: Aircraft design and maintenance (PAP-3)\, Airline transport pilot (PAP-
 3)\nIzvajalci: Tomaž Mrlak\, Igor Petrović\nProstor: Lecture hall IV/3A
END:VEVENT
BEGIN:VEVENT
SUMMARY:Performance of aircraft (ZMLP)\, Lectures (P)
DTSTART;TZID=Europe/Ljubljana:20241119T113000
DTEND;TZID=Europe/Ljubljana:20241119T153000
DTSTAMP:20260424T073542Z
UID:fs-AFLABS-URNIK:srecanje:7787-2024-11-19 11:30:00+01:00
DESCRIPTION:Predmet: Performance of aircraft (ZMLP)\, Lectures (P)\nLetnik
 i: Aircraft design and maintenance (PAP-3)\, Airline transport pilot (PAP-
 3)\nIzvajalci: Tomaž Mrlak\, Igor Petrović\nProstor: Lecture hall IV/3A
END:VEVENT
BEGIN:VEVENT
SUMMARY:Performance of aircraft (ZMLP)\, Lectures (P)
DTSTART;TZID=Europe/Ljubljana:20241126T113000
DTEND;TZID=Europe/Ljubljana:20241126T153000
DTSTAMP:20260424T073542Z
UID:fs-AFLABS-URNIK:srecanje:7787-2024-11-26 11:30:00+01:00
DESCRIPTION:Predmet: Performance of aircraft (ZMLP)\, Lectures (P)\nLetnik
 i: Aircraft design and maintenance (PAP-3)\, Airline transport pilot (PAP-
 3)\nIzvajalci: Tomaž Mrlak\, Igor Petrović\nProstor: Lecture hall IV/3A
END:VEVENT
BEGIN:VEVENT
SUMMARY:Performance of aircraft (ZMLP)\, Lectures (P)
DTSTART;TZID=Europe/Ljubljana:20241203T113000
DTEND;TZID=Europe/Ljubljana:20241203T153000
DTSTAMP:20260424T073542Z
UID:fs-AFLABS-URNIK:srecanje:7787-2024-12-03 11:30:00+01:00
DESCRIPTION:Predmet: Performance of aircraft (ZMLP)\, Lectures (P)\nLetnik
 i: Aircraft design and maintenance (PAP-3)\, Airline transport pilot (PAP-
 3)\nIzvajalci: Tomaž Mrlak\, Igor Petrović\nProstor: Lecture hall IV/3A
END:VEVENT
BEGIN:VEVENT
SUMMARY:Performance of aircraft (ZMLP)\, Lectures (P)
DTSTART;TZID=Europe/Ljubljana:20241210T113000
DTEND;TZID=Europe/Ljubljana:20241210T153000
DTSTAMP:20260424T073542Z
UID:fs-AFLABS-URNIK:srecanje:7787-2024-12-10 11:30:00+01:00
DESCRIPTION:Predmet: Performance of aircraft (ZMLP)\, Lectures (P)\nLetnik
 i: Aircraft design and maintenance (PAP-3)\, Airline transport pilot (PAP-
 3)\nIzvajalci: Tomaž Mrlak\, Igor Petrović\nProstor: Lecture hall IV/3A
END:VEVENT
BEGIN:VEVENT
SUMMARY:Performance of aircraft (ZMLP)\, Lectures (P)
DTSTART;TZID=Europe/Ljubljana:20241217T113000
DTEND;TZID=Europe/Ljubljana:20241217T153000
DTSTAMP:20260424T073542Z
UID:fs-AFLABS-URNIK:srecanje:7787-2024-12-17 11:30:00+01:00
DESCRIPTION:Predmet: Performance of aircraft (ZMLP)\, Lectures (P)\nLetnik
 i: Aircraft design and maintenance (PAP-3)\, Airline transport pilot (PAP-
 3)\nIzvajalci: Tomaž Mrlak\, Igor Petrović\nProstor: Lecture hall IV/3A
END:VEVENT
BEGIN:VEVENT
SUMMARY:Performance of aircraft (ZMLP)\, Lectures (P)
DTSTART;TZID=Europe/Ljubljana:20241224T113000
DTEND;TZID=Europe/Ljubljana:20241224T153000
DTSTAMP:20260424T073542Z
UID:fs-AFLABS-URNIK:srecanje:7787-2024-12-24 11:30:00+01:00
DESCRIPTION:Predmet: Performance of aircraft (ZMLP)\, Lectures (P)\nLetnik
 i: Aircraft design and maintenance (PAP-3)\, Airline transport pilot (PAP-
 3)\nIzvajalci: Tomaž Mrlak\, Igor Petrović\nProstor: Lecture hall IV/3A
END:VEVENT
BEGIN:VEVENT
SUMMARY:Performance of aircraft (ZMLP)\, Lectures (P)
DTSTART;TZID=Europe/Ljubljana:20250107T113000
DTEND;TZID=Europe/Ljubljana:20250107T153000
DTSTAMP:20260424T073542Z
UID:fs-AFLABS-URNIK:srecanje:7787-2025-01-07 11:30:00+01:00
DESCRIPTION:Predmet: Performance of aircraft (ZMLP)\, Lectures (P)\nLetnik
 i: Aircraft design and maintenance (PAP-3)\, Airline transport pilot (PAP-
 3)\nIzvajalci: Tomaž Mrlak\, Igor Petrović\nProstor: Lecture hall IV/3A
END:VEVENT
BEGIN:VEVENT
SUMMARY:Performance of aircraft (ZMLP)\, Lectures (P)
DTSTART;TZID=Europe/Ljubljana:20250114T113000
DTEND;TZID=Europe/Ljubljana:20250114T153000
DTSTAMP:20260424T073542Z
UID:fs-AFLABS-URNIK:srecanje:7787-2025-01-14 11:30:00+01:00
DESCRIPTION:Predmet: Performance of aircraft (ZMLP)\, Lectures (P)\nLetnik
 i: Aircraft design and maintenance (PAP-3)\, Airline transport pilot (PAP-
 3)\nIzvajalci: Tomaž Mrlak\, Igor Petrović\nProstor: Lecture hall IV/3A
END:VEVENT
BEGIN:VEVENT
SUMMARY:DBF uvodni sestanek
DTSTART;TZID=Europe/Ljubljana:20241007T180000
DTEND;TZID=Europe/Ljubljana:20241007T193000
DTSTAMP:20260424T073542Z
UID:fs-AFLABS-URNIK:rezervacija:7841
CATEGORIES:Reservation
COLOR:royalblue
DESCRIPTION:Predmeti: \nLetniki: \nIzvajalci: Igor Petrović\nProstori: Le
 cture hall V/8
LOCATION:Lecture hall V/8
ORGANIZER:Igor Petrović
X-WR-TIMEZONE:Europe/Ljubljana
END:VEVENT
BEGIN:VEVENT
SUMMARY:Sistemi na letalu kolokvij
DTSTART;TZID=Europe/Ljubljana:20250106T183000
DTEND;TZID=Europe/Ljubljana:20250106T200000
DTSTAMP:20260424T073542Z
UID:fs-AFLABS-URNIK:rezervacija:8828
CATEGORIES:Reservation
COLOR:royalblue
DESCRIPTION:Predmeti: \nLetniki: \nIzvajalci: Igor Petrović\, Peter Pipp\
 nProstori: Lecture hall IV/2
LOCATION:Lecture hall IV/2
ORGANIZER:Igor Petrović, Peter Pipp
X-WR-TIMEZONE:Europe/Ljubljana
END:VEVENT
BEGIN:VEVENT
SUMMARY:Sestanek AEROL
DTSTART;TZID=Europe/Ljubljana:20241219T120000
DTEND;TZID=Europe/Ljubljana:20241219T140000
DTSTAMP:20260424T073542Z
UID:fs-AFLABS-URNIK:rezervacija:8816
CATEGORIES:Reservation
COLOR:royalblue
DESCRIPTION:Predmeti: \nLetniki: \nIzvajalci: FS Dekanat\, Igor Petrović\
 nProstori: Conference room
LOCATION:Conference room
ORGANIZER:FS Dekanat, Igor Petrović
X-WR-TIMEZONE:Europe/Ljubljana
END:VEVENT
BEGIN:VEVENT
SUMMARY:sestanek
DTSTART;TZID=Europe/Ljubljana:20241113T130000
DTEND;TZID=Europe/Ljubljana:20241113T143000
DTSTAMP:20260424T073542Z
UID:fs-AFLABS-URNIK:rezervacija:8538
CATEGORIES:Reservation
COLOR:royalblue
DESCRIPTION:Predmeti: \nLetniki: \nIzvajalci: Igor Petrović\nProstori: Co
 nference room
LOCATION:Conference room
ORGANIZER:Igor Petrović
X-WR-TIMEZONE:Europe/Ljubljana
END:VEVENT
BEGIN:VEVENT
SUMMARY:Aerol sestanek
DTSTART;TZID=Europe/Ljubljana:20250129T120000
DTEND;TZID=Europe/Ljubljana:20250129T130000
DTSTAMP:20260424T073542Z
UID:fs-AFLABS-URNIK:rezervacija:9151
CATEGORIES:Reservation
COLOR:royalblue
DESCRIPTION:Predmeti: \nLetniki: \nIzvajalci: Igor Petrović\nProstori: Co
 nference room
LOCATION:Conference room
ORGANIZER:Igor Petrović
X-WR-TIMEZONE:Europe/Ljubljana
END:VEVENT
END:VCALENDAR
