BEGIN:VCALENDAR
VERSION:2.0
PRODID:-//AFLabs urnik izvoz - fs//aflabs.si//SI
NAME:UL FS Urnik
X-WR-CALNAME:UL FS Urnik
DTSTAMP:20260425T164852Z
REFRESH-INTERVAL:PT1H
SOURCE:https://urnik.fs.uni-lj.si/en/teacher/811/?day=2026-06-29&export=1
URL:https://urnik.fs.uni-lj.si/en/teacher/811/?day=2026-06-29&export=1
X-PUBLISHED-TTL:PT1H
X-WR-TIMEZONE:Europe/Ljubljana
BEGIN:VTIMEZONE
TZID:Europe/Ljubljana
BEGIN:DAYLIGHT
DTSTART:20260329T020000
RDATE:20260329T020000
RDATE:20270328T020000
TZNAME:CEST
TZOFFSETFROM:+0100
TZOFFSETTO:+0200
END:DAYLIGHT
BEGIN:STANDARD
DTSTART:20261025T030000
RDATE:20261025T030000
RDATE:20271031T030000
TZNAME:CET
TZOFFSETFROM:+0200
TZOFFSETTO:+0100
END:STANDARD
END:VTIMEZONE
BEGIN:VEVENT
SUMMARY:Izpit: Krmiljeni elektromotorni pogoni
DTSTART;TZID=Europe/Ljubljana:20260609T100000
DTEND;TZID=Europe/Ljubljana:20260609T120000
DTSTAMP:20260425T164852Z
UID:fs-AFLABS-URNIK:rezervacija:11471
ATTENDEE:Mehatronika (PAP-3)
CATEGORIES:Reservation
COLOR:royalblue
DESCRIPTION:Predmeti: Controlled Electric Devices (3081)\nLetniki: Mehatro
 nika (PAP-3)\nIzvajalci: Primož Podržaj\nProstori: Lecture hall III/2
LOCATION:Lecture hall III/2
ORGANIZER:Primož Podržaj
X-WR-TIMEZONE:Europe/Ljubljana
END:VEVENT
BEGIN:VEVENT
SUMMARY:Izpit: Diskretni krmilni sistemi
DTSTART;TZID=Europe/Ljubljana:20260612T120000
DTEND;TZID=Europe/Ljubljana:20260612T140000
DTSTAMP:20260425T164852Z
UID:fs-AFLABS-URNIK:rezervacija:11651
ATTENDEE:Mechatronics and laser technology (MAG-1)
CATEGORIES:Reservation
COLOR:royalblue
DESCRIPTION:Predmeti: Discrete control systems (DKSM)\nLetniki: Mechatroni
 cs and laser technology (MAG-1)\nIzvajalci: Primož Podržaj\nProstori: Le
 cture hall III/2\, Lecture hall III/4\, Lecture hall IV/4
LOCATION:Lecture hall III/2\, Lecture hall III/4\, Lecture hall IV/4
ORGANIZER:Primož Podržaj
X-WR-TIMEZONE:Europe/Ljubljana
END:VEVENT
BEGIN:VEVENT
SUMMARY:Izpit: Diskretni krmilni sistemi
DTSTART;TZID=Europe/Ljubljana:20260612T120000
DTEND;TZID=Europe/Ljubljana:20260612T140000
DTSTAMP:20260425T164852Z
UID:fs-AFLABS-URNIK:rezervacija:11652
ATTENDEE:Mechatronics and laser technology (MAG-1)
CATEGORIES:Reservation
COLOR:royalblue
DESCRIPTION:Predmeti: Discrete control systems (DKSM)\nLetniki: Mechatroni
 cs and laser technology (MAG-1)\nIzvajalci: Primož Podržaj\nProstori: Le
 cture hall III/2\, Lecture hall III/4\, Lecture hall IV/4
LOCATION:Lecture hall III/2\, Lecture hall III/4\, Lecture hall IV/4
ORGANIZER:Primož Podržaj
X-WR-TIMEZONE:Europe/Ljubljana
END:VEVENT
BEGIN:VEVENT
SUMMARY:Izpit: Krmiljenje mehatronskih sistemov
DTSTART;TZID=Europe/Ljubljana:20260619T100000
DTEND;TZID=Europe/Ljubljana:20260619T120000
DTSTAMP:20260425T164852Z
UID:fs-AFLABS-URNIK:rezervacija:11897
ATTENDEE:Mechatronics (PAP-3)
CATEGORIES:Reservation
COLOR:royalblue
DESCRIPTION:Predmeti: Mechatronic system control (KMSP)\nLetniki: Mechatro
 nics (PAP-3)\nIzvajalci: Primož Podržaj\nProstori: Lecture hall II/5
LOCATION:Lecture hall II/5
ORGANIZER:Primož Podržaj
X-WR-TIMEZONE:Europe/Ljubljana
END:VEVENT
BEGIN:VEVENT
SUMMARY:Izpit: Mehatronski aktuatorji
DTSTART;TZID=Europe/Ljubljana:20260622T120000
DTEND;TZID=Europe/Ljubljana:20260622T140000
DTSTAMP:20260425T164852Z
UID:fs-AFLABS-URNIK:rezervacija:12060
ATTENDEE:Mechatronics (PAP-2)
CATEGORIES:Reservation
COLOR:royalblue
DESCRIPTION:Predmeti: Mechatronic actuators (MHAP)\nLetniki: Mechatronics 
 (PAP-2)\nIzvajalci: Primož Podržaj\nProstori: Lecture hall II/2
LOCATION:Lecture hall II/2
ORGANIZER:Primož Podržaj
X-WR-TIMEZONE:Europe/Ljubljana
END:VEVENT
BEGIN:VEVENT
SUMMARY:Izpit: Diskretni krmilni sistemi
DTSTART;TZID=Europe/Ljubljana:20260630T140000
DTEND;TZID=Europe/Ljubljana:20260630T160000
DTSTAMP:20260425T164852Z
UID:fs-AFLABS-URNIK:rezervacija:12250
ATTENDEE:Mechatronics and laser technology (MAG-1)
CATEGORIES:Reservation
COLOR:royalblue
DESCRIPTION:Predmeti: Discrete control systems (DKSM)\nLetniki: Mechatroni
 cs and laser technology (MAG-1)\nIzvajalci: Primož Podržaj\nProstori: Le
 cture hall III/4
LOCATION:Lecture hall III/4
ORGANIZER:Primož Podržaj
X-WR-TIMEZONE:Europe/Ljubljana
END:VEVENT
BEGIN:VEVENT
SUMMARY:Izpit: Diskretni krmilni sistemi
DTSTART;TZID=Europe/Ljubljana:20260630T140000
DTEND;TZID=Europe/Ljubljana:20260630T160000
DTSTAMP:20260425T164852Z
UID:fs-AFLABS-URNIK:rezervacija:12251
ATTENDEE:Mechatronics and laser technology (MAG-1)
CATEGORIES:Reservation
COLOR:royalblue
DESCRIPTION:Predmeti: Discrete control systems (DKSM)\nLetniki: Mechatroni
 cs and laser technology (MAG-1)\nIzvajalci: Primož Podržaj\nProstori: Le
 cture hall III/4
LOCATION:Lecture hall III/4
ORGANIZER:Primož Podržaj
X-WR-TIMEZONE:Europe/Ljubljana
END:VEVENT
BEGIN:VEVENT
SUMMARY:Izpit: Advanced Sensory Systems and Networks
DTSTART;TZID=Europe/Ljubljana:20260603T160000
DTEND;TZID=Europe/Ljubljana:20260603T180000
DTSTAMP:20260425T164852Z
UID:fs-AFLABS-URNIK:rezervacija:12487
ATTENDEE:Erasmus (Erasmus)
CATEGORIES:Reservation
COLOR:royalblue
DESCRIPTION:Predmeti: Advanced Sensory Systems and Networks (ASSE)\nLetnik
 i: Erasmus (Erasmus)\nIzvajalci: Primož Podržaj\nProstori: Lecture hall 
 III/2
LOCATION:Lecture hall III/2
ORGANIZER:Primož Podržaj
X-WR-TIMEZONE:Europe/Ljubljana
END:VEVENT
BEGIN:VEVENT
SUMMARY:Izpit: Napredni senzorski sistemi in omrežja
DTSTART;TZID=Europe/Ljubljana:20260603T160000
DTEND;TZID=Europe/Ljubljana:20260603T180000
DTSTAMP:20260425T164852Z
UID:fs-AFLABS-URNIK:rezervacija:12488
ATTENDEE:Mechatronics and laser technology (MAG-2)
CATEGORIES:Reservation
COLOR:royalblue
DESCRIPTION:Predmeti: Advanced sensory systems and networks (NSSM)\nLetnik
 i: Mechatronics and laser technology (MAG-2)\nIzvajalci: Primož Podržaj\
 nProstori: Lecture hall III/2
LOCATION:Lecture hall III/2
ORGANIZER:Primož Podržaj
X-WR-TIMEZONE:Europe/Ljubljana
END:VEVENT
BEGIN:VEVENT
SUMMARY:Izpit: Mehatronski aktuatorji
DTSTART;TZID=Europe/Ljubljana:20260608T100000
DTEND;TZID=Europe/Ljubljana:20260608T120000
DTSTAMP:20260425T164852Z
UID:fs-AFLABS-URNIK:rezervacija:12630
ATTENDEE:Mechatronics (PAP-2)
CATEGORIES:Reservation
COLOR:royalblue
DESCRIPTION:Predmeti: Mechatronic actuators (MHAP)\nLetniki: Mechatronics 
 (PAP-2)\nIzvajalci: Primož Podržaj\nProstori: Lecture hall IV/4
LOCATION:Lecture hall IV/4
ORGANIZER:Primož Podržaj
X-WR-TIMEZONE:Europe/Ljubljana
END:VEVENT
BEGIN:VEVENT
SUMMARY:Izpit: Mehatronski aktuatorji
DTSTART;TZID=Europe/Ljubljana:20260622T120000
DTEND;TZID=Europe/Ljubljana:20260622T140000
DTSTAMP:20260425T164852Z
UID:fs-AFLABS-URNIK:rezervacija:12767
ATTENDEE:Mechatronics (PAP-2)
CATEGORIES:Reservation
COLOR:royalblue
DESCRIPTION:Predmeti: Mechatronic actuators (MHAP)\nLetniki: Mechatronics 
 (PAP-2)\nIzvajalci: Primož Podržaj\nProstori: Lecture hall II/2
LOCATION:Lecture hall II/2
ORGANIZER:Primož Podržaj
X-WR-TIMEZONE:Europe/Ljubljana
END:VEVENT
BEGIN:VEVENT
SUMMARY:Izpit: Mehatronski aktuatorji
DTSTART;TZID=Europe/Ljubljana:20260608T100000
DTEND;TZID=Europe/Ljubljana:20260608T120000
DTSTAMP:20260425T164852Z
UID:fs-AFLABS-URNIK:rezervacija:12768
ATTENDEE:Mechatronics (PAP-2)
CATEGORIES:Reservation
COLOR:royalblue
DESCRIPTION:Predmeti: Mechatronic actuators (MHAP)\nLetniki: Mechatronics 
 (PAP-2)\nIzvajalci: Primož Podržaj\nProstori: Lecture hall IV/4
LOCATION:Lecture hall IV/4
ORGANIZER:Primož Podržaj
X-WR-TIMEZONE:Europe/Ljubljana
END:VEVENT
BEGIN:VEVENT
SUMMARY:Izpit: Napredni senzorski sistemi in omrežja
DTSTART;TZID=Europe/Ljubljana:20260603T160000
DTEND;TZID=Europe/Ljubljana:20260603T180000
DTSTAMP:20260425T164852Z
UID:fs-AFLABS-URNIK:rezervacija:12886
ATTENDEE:Mechatronics and laser technology (MAG-2)
CATEGORIES:Reservation
COLOR:royalblue
DESCRIPTION:Predmeti: Advanced sensory systems and networks (NSSM)\nLetnik
 i: Mechatronics and laser technology (MAG-2)\nIzvajalci: Primož Podržaj\
 nProstori: Lecture hall III/2
LOCATION:Lecture hall III/2
ORGANIZER:Primož Podržaj
X-WR-TIMEZONE:Europe/Ljubljana
END:VEVENT
BEGIN:VEVENT
SUMMARY:Advanced Sensory Systems and Networks (6062-M)
DTSTART;TZID=Europe/Ljubljana:20260617T110000
DTEND;TZID=Europe/Ljubljana:20260617T130000
DTSTAMP:20260425T164852Z
UID:fs-AFLABS-URNIK:rezervacija:14293
ATTENDEE:Erasmus (Erasmus)
CATEGORIES:Reservation
COLOR:royalblue
DESCRIPTION:Predmeti: Advanced Sensory Systems and Networks (ASSE)\nLetnik
 i: Erasmus (Erasmus)\nIzvajalci: Primož Podržaj\nProstori: Lecture hall 
 II/5
LOCATION:Lecture hall II/5
ORGANIZER:Primož Podržaj
X-WR-TIMEZONE:Europe/Ljubljana
END:VEVENT
END:VCALENDAR
