BEGIN:VCALENDAR
VERSION:2.0
PRODID:-//AFLabs urnik izvoz - fs//aflabs.si//SI
NAME:UL FS Urnik
X-WR-CALNAME:UL FS Urnik
DTSTAMP:20260425T205416Z
REFRESH-INTERVAL:PT1H
SOURCE:https://urnik.fs.uni-lj.si/en/teacher/821/?day=2026-01-19&export=1
URL:https://urnik.fs.uni-lj.si/en/teacher/821/?day=2026-01-19&export=1
X-PUBLISHED-TTL:PT1H
X-WR-TIMEZONE:Europe/Ljubljana
BEGIN:VTIMEZONE
TZID:Europe/Ljubljana
BEGIN:DAYLIGHT
DTSTART:20260329T020000
RDATE:20260329T020000
RDATE:20270328T020000
TZNAME:CEST
TZOFFSETFROM:+0100
TZOFFSETTO:+0200
END:DAYLIGHT
BEGIN:STANDARD
DTSTART:20261025T030000
RDATE:20261025T030000
RDATE:20271031T030000
TZNAME:CET
TZOFFSETFROM:+0200
TZOFFSETTO:+0100
END:STANDARD
END:VTIMEZONE
BEGIN:VEVENT
SUMMARY:Systems for compressed gases and vacuum (SKMP)\, Laboratory excerc
 ises (VL)\, [S1]
DTSTART;TZID=Europe/Ljubljana:20251216T153000
DTEND;TZID=Europe/Ljubljana:20251216T170000
DTSTAMP:20260425T205416Z
UID:fs-AFLABS-URNIK:srecanje:16550-2025-12-16 15:30:00+01:00
DESCRIPTION:Predmet: Systems for compressed gases and vacuum (SKMP)\, Labo
 ratory excercises (VL)\, [S1]\nLetniki: Energy engineering (PAP-3)\nIzvaja
 lci: Luka Čurović\, Jurij Prezelj\nProstor: Laboratory LDSTA SP-72
END:VEVENT
BEGIN:VEVENT
SUMMARY:Systems for compressed gases and vacuum (SKMP)\, Laboratory excerc
 ises (VL)\, [S1]
DTSTART;TZID=Europe/Ljubljana:20251223T153000
DTEND;TZID=Europe/Ljubljana:20251223T170000
DTSTAMP:20260425T205416Z
UID:fs-AFLABS-URNIK:srecanje:16550-2025-12-23 15:30:00+01:00
DESCRIPTION:Predmet: Systems for compressed gases and vacuum (SKMP)\, Labo
 ratory excercises (VL)\, [S1]\nLetniki: Energy engineering (PAP-3)\nIzvaja
 lci: Luka Čurović\, Jurij Prezelj\nProstor: Laboratory LDSTA SP-72
END:VEVENT
BEGIN:VEVENT
SUMMARY:Systems for compressed gases and vacuum (SKMP)\, Laboratory excerc
 ises (VL)\, [S1]
DTSTART;TZID=Europe/Ljubljana:20260106T153000
DTEND;TZID=Europe/Ljubljana:20260106T170000
DTSTAMP:20260425T205416Z
UID:fs-AFLABS-URNIK:srecanje:16550-2026-01-06 15:30:00+01:00
DESCRIPTION:Predmet: Systems for compressed gases and vacuum (SKMP)\, Labo
 ratory excercises (VL)\, [S1]\nLetniki: Energy engineering (PAP-3)\nIzvaja
 lci: Luka Čurović\, Jurij Prezelj\nProstor: Laboratory LDSTA SP-72
END:VEVENT
BEGIN:VEVENT
SUMMARY:Systems for compressed gases and vacuum (SKMP)\, Laboratory excerc
 ises (VL)\, [S2]
DTSTART;TZID=Europe/Ljubljana:20251216T170000
DTEND;TZID=Europe/Ljubljana:20251216T183000
DTSTAMP:20260425T205416Z
UID:fs-AFLABS-URNIK:srecanje:16551-2025-12-16 17:00:00+01:00
DESCRIPTION:Predmet: Systems for compressed gases and vacuum (SKMP)\, Labo
 ratory excercises (VL)\, [S2]\nLetniki: Energy engineering (PAP-3)\nIzvaja
 lci: Luka Čurović\, Jurij Prezelj\nProstor: Laboratory LDSTA SP-72
END:VEVENT
BEGIN:VEVENT
SUMMARY:Systems for compressed gases and vacuum (SKMP)\, Laboratory excerc
 ises (VL)\, [S2]
DTSTART;TZID=Europe/Ljubljana:20251223T170000
DTEND;TZID=Europe/Ljubljana:20251223T183000
DTSTAMP:20260425T205416Z
UID:fs-AFLABS-URNIK:srecanje:16551-2025-12-23 17:00:00+01:00
DESCRIPTION:Predmet: Systems for compressed gases and vacuum (SKMP)\, Labo
 ratory excercises (VL)\, [S2]\nLetniki: Energy engineering (PAP-3)\nIzvaja
 lci: Luka Čurović\, Jurij Prezelj\nProstor: Laboratory LDSTA SP-72
END:VEVENT
BEGIN:VEVENT
SUMMARY:Systems for compressed gases and vacuum (SKMP)\, Laboratory excerc
 ises (VL)\, [S2]
DTSTART;TZID=Europe/Ljubljana:20260106T170000
DTEND;TZID=Europe/Ljubljana:20260106T183000
DTSTAMP:20260425T205416Z
UID:fs-AFLABS-URNIK:srecanje:16551-2026-01-06 17:00:00+01:00
DESCRIPTION:Predmet: Systems for compressed gases and vacuum (SKMP)\, Labo
 ratory excercises (VL)\, [S2]\nLetniki: Energy engineering (PAP-3)\nIzvaja
 lci: Luka Čurović\, Jurij Prezelj\nProstor: Laboratory LDSTA SP-72
END:VEVENT
BEGIN:VEVENT
SUMMARY:Technical acoustics (THAM)\, Lectures (P)
DTSTART;TZID=Europe/Ljubljana:20251218T080000
DTEND;TZID=Europe/Ljubljana:20251218T100000
DTSTAMP:20260425T205416Z
UID:fs-AFLABS-URNIK:srecanje:17016-2025-12-18 08:00:00+01:00
DESCRIPTION:Predmet: Technical acoustics (THAM)\, Lectures (P)\nLetniki: E
 nergy engineering (MAG-2)\nIzvajalci: Jurij Prezelj\nProstor: Lecture hall
  IV/4
END:VEVENT
BEGIN:VEVENT
SUMMARY:Technical acoustics (THAM)\, Lectures (P)
DTSTART;TZID=Europe/Ljubljana:20251225T080000
DTEND;TZID=Europe/Ljubljana:20251225T100000
DTSTAMP:20260425T205416Z
UID:fs-AFLABS-URNIK:srecanje:17016-2025-12-25 08:00:00+01:00
DESCRIPTION:Predmet: Technical acoustics (THAM)\, Lectures (P)\nLetniki: E
 nergy engineering (MAG-2)\nIzvajalci: Jurij Prezelj\nProstor: Lecture hall
  IV/4
END:VEVENT
BEGIN:VEVENT
SUMMARY:Technical acoustics (THAM)\, Lectures (P)
DTSTART;TZID=Europe/Ljubljana:20260108T080000
DTEND;TZID=Europe/Ljubljana:20260108T100000
DTSTAMP:20260425T205416Z
UID:fs-AFLABS-URNIK:srecanje:17016-2026-01-08 08:00:00+01:00
DESCRIPTION:Predmet: Technical acoustics (THAM)\, Lectures (P)\nLetniki: E
 nergy engineering (MAG-2)\nIzvajalci: Jurij Prezelj\nProstor: Lecture hall
  IV/4
END:VEVENT
BEGIN:VEVENT
SUMMARY:Technical acoustics (THAM)\, Lectures (P)
DTSTART;TZID=Europe/Ljubljana:20260115T080000
DTEND;TZID=Europe/Ljubljana:20260115T100000
DTSTAMP:20260425T205416Z
UID:fs-AFLABS-URNIK:srecanje:17016-2026-01-15 08:00:00+01:00
DESCRIPTION:Predmet: Technical acoustics (THAM)\, Lectures (P)\nLetniki: E
 nergy engineering (MAG-2)\nIzvajalci: Jurij Prezelj\nProstor: Lecture hall
  IV/4
END:VEVENT
BEGIN:VEVENT
SUMMARY:Systems for compressed gases and vacuum (SKMP)\, Lectures (P)
DTSTART;TZID=Europe/Ljubljana:20251218T113000
DTEND;TZID=Europe/Ljubljana:20251218T133000
DTSTAMP:20260425T205416Z
UID:fs-AFLABS-URNIK:srecanje:16016-2025-12-18 11:30:00+01:00
DESCRIPTION:Predmet: Systems for compressed gases and vacuum (SKMP)\, Lect
 ures (P)\nLetniki: Energy engineering (PAP-3)\nIzvajalci: Jurij Prezelj\nP
 rostor: Lecture hall IV/3B
END:VEVENT
BEGIN:VEVENT
SUMMARY:Systems for compressed gases and vacuum (SKMP)\, Lectures (P)
DTSTART;TZID=Europe/Ljubljana:20251225T113000
DTEND;TZID=Europe/Ljubljana:20251225T133000
DTSTAMP:20260425T205416Z
UID:fs-AFLABS-URNIK:srecanje:16016-2025-12-25 11:30:00+01:00
DESCRIPTION:Predmet: Systems for compressed gases and vacuum (SKMP)\, Lect
 ures (P)\nLetniki: Energy engineering (PAP-3)\nIzvajalci: Jurij Prezelj\nP
 rostor: Lecture hall IV/3B
END:VEVENT
BEGIN:VEVENT
SUMMARY:Systems for compressed gases and vacuum (SKMP)\, Lectures (P)
DTSTART;TZID=Europe/Ljubljana:20260108T113000
DTEND;TZID=Europe/Ljubljana:20260108T133000
DTSTAMP:20260425T205416Z
UID:fs-AFLABS-URNIK:srecanje:16016-2026-01-08 11:30:00+01:00
DESCRIPTION:Predmet: Systems for compressed gases and vacuum (SKMP)\, Lect
 ures (P)\nLetniki: Energy engineering (PAP-3)\nIzvajalci: Jurij Prezelj\nP
 rostor: Lecture hall IV/3B
END:VEVENT
BEGIN:VEVENT
SUMMARY:Systems for compressed gases and vacuum (SKMP)\, Lectures (P)
DTSTART;TZID=Europe/Ljubljana:20260115T113000
DTEND;TZID=Europe/Ljubljana:20260115T133000
DTSTAMP:20260425T205416Z
UID:fs-AFLABS-URNIK:srecanje:16016-2026-01-15 11:30:00+01:00
DESCRIPTION:Predmet: Systems for compressed gases and vacuum (SKMP)\, Lect
 ures (P)\nLetniki: Energy engineering (PAP-3)\nIzvajalci: Jurij Prezelj\nP
 rostor: Lecture hall IV/3B
END:VEVENT
BEGIN:VEVENT
SUMMARY:Noise\, Vibrations and Acoustic Engineering (NVAE)\, Lectures (P)
DTSTART;TZID=Europe/Ljubljana:20260119T140000
DTEND;TZID=Europe/Ljubljana:20260119T160000
DTSTAMP:20260425T205416Z
UID:fs-AFLABS-URNIK:premaknjeno-srecanje:128167
ATTENDEE:Erasmus (Erasmus)
CATEGORIES:Entry,Special
COLOR:forestgreen
DESCRIPTION:Predmet: Noise\, Vibrations and Acoustic Engineering (NVAE)\, 
 Lectures (P)\nLetniki: Erasmus (Erasmus)\nIzvajalci: Jurij Prezelj\nProsto
 r: Lecture hall I/4A
LOCATION:Lecture hall I/4A
ORGANIZER:Jurij Prezelj
RELATED-TO:fs-AFLABS-URNIK:srecanje:17581
X-WR-TIMEZONE:Europe/Ljubljana
END:VEVENT
BEGIN:VEVENT
SUMMARY:Noise\, Vibrations and Acoustic Engineering (NVAE)\, Lectures (P)
DTSTART;TZID=Europe/Ljubljana:20251219T140000
DTEND;TZID=Europe/Ljubljana:20251219T160000
DTSTAMP:20260425T205416Z
UID:fs-AFLABS-URNIK:srecanje:17581-2025-12-19 14:00:00+01:00
DESCRIPTION:Predmet: Noise\, Vibrations and Acoustic Engineering (NVAE)\, 
 Lectures (P)\nLetniki: Erasmus (Erasmus)\nIzvajalci: Jurij Prezelj\nProsto
 r: Lecture hall I/4A
END:VEVENT
BEGIN:VEVENT
SUMMARY:Noise\, Vibrations and Acoustic Engineering (NVAE)\, Lectures (P)
DTSTART;TZID=Europe/Ljubljana:20251226T140000
DTEND;TZID=Europe/Ljubljana:20251226T160000
DTSTAMP:20260425T205416Z
UID:fs-AFLABS-URNIK:srecanje:17581-2025-12-26 14:00:00+01:00
DESCRIPTION:Predmet: Noise\, Vibrations and Acoustic Engineering (NVAE)\, 
 Lectures (P)\nLetniki: Erasmus (Erasmus)\nIzvajalci: Jurij Prezelj\nProsto
 r: Lecture hall I/4A
END:VEVENT
BEGIN:VEVENT
SUMMARY:Noise\, Vibrations and Acoustic Engineering (NVAE)\, Lectures (P)
DTSTART;TZID=Europe/Ljubljana:20260109T140000
DTEND;TZID=Europe/Ljubljana:20260109T160000
DTSTAMP:20260425T205416Z
UID:fs-AFLABS-URNIK:srecanje:17581-2026-01-09 14:00:00+01:00
DESCRIPTION:Predmet: Noise\, Vibrations and Acoustic Engineering (NVAE)\, 
 Lectures (P)\nLetniki: Erasmus (Erasmus)\nIzvajalci: Jurij Prezelj\nProsto
 r: Lecture hall I/4A
END:VEVENT
BEGIN:VEVENT
SUMMARY:Noise\, Vibrations and Acoustic Engineering (NVAE)\, Lectures (P)
DTSTART;TZID=Europe/Ljubljana:20260116T140000
DTEND;TZID=Europe/Ljubljana:20260116T160000
DTSTAMP:20260425T205416Z
UID:fs-AFLABS-URNIK:srecanje:17581-2026-01-16 14:00:00+01:00
DESCRIPTION:Predmet: Noise\, Vibrations and Acoustic Engineering (NVAE)\, 
 Lectures (P)\nLetniki: Erasmus (Erasmus)\nIzvajalci: Jurij Prezelj\nProsto
 r: Lecture hall I/4A
END:VEVENT
BEGIN:VEVENT
SUMMARY:Systems for compressed gases and vacuum (SKMP)\, Lecture exercises
  (VP)\, [S1]
DTSTART;TZID=Europe/Ljubljana:20260113T153000
DTEND;TZID=Europe/Ljubljana:20260113T170000
DTSTAMP:20260425T205416Z
UID:fs-AFLABS-URNIK:srecanje:16043-2026-01-13 15:30:00+01:00
DESCRIPTION:Predmet: Systems for compressed gases and vacuum (SKMP)\, Lect
 ure exercises (VP)\, [S1]\nLetniki: Energy engineering (PAP-3)\nIzvajalci:
  Jurij Prezelj\nProstor: Lecture hall III/3B
END:VEVENT
BEGIN:VEVENT
SUMMARY:Introduction to acoustics (UVAP)\, Lectures (P)
DTSTART;TZID=Europe/Ljubljana:20260219T073000
DTEND;TZID=Europe/Ljubljana:20260219T093000
DTSTAMP:20260425T205416Z
UID:fs-AFLABS-URNIK:srecanje:16430-2026-02-19 07:30:00+01:00
DESCRIPTION:Predmet: Introduction to acoustics (UVAP)\, Lectures (P)\nLetn
 iki: Energy engineering (PAP-2)\nIzvajalci: Jurij Prezelj\nProstor: Lectur
 e hall II/3A
END:VEVENT
BEGIN:VEVENT
SUMMARY:Izpit: Tehniška akustika
DTSTART;TZID=Europe/Ljubljana:20260213T080000
DTEND;TZID=Europe/Ljubljana:20260213T100000
DTSTAMP:20260425T205416Z
UID:fs-AFLABS-URNIK:rezervacija:12796
ATTENDEE:Energy engineering (MAG-2)
CATEGORIES:Reservation
COLOR:royalblue
DESCRIPTION:Predmeti: Technical acoustics (THAM)\nLetniki: Energy engineer
 ing (MAG-2)\nIzvajalci: Jurij Prezelj\nProstori: Lecture hall II/5
LOCATION:Lecture hall II/5
ORGANIZER:Jurij Prezelj
X-WR-TIMEZONE:Europe/Ljubljana
END:VEVENT
BEGIN:VEVENT
SUMMARY:Izpit: Tehniška akustika
DTSTART;TZID=Europe/Ljubljana:20260213T080000
DTEND;TZID=Europe/Ljubljana:20260213T100000
DTSTAMP:20260425T205416Z
UID:fs-AFLABS-URNIK:rezervacija:11687
ATTENDEE:Energy engineering (MAG-2)
CATEGORIES:Reservation
COLOR:royalblue
DESCRIPTION:Predmeti: Technical acoustics (THAM)\nLetniki: Energy engineer
 ing (MAG-2)\nIzvajalci: Jurij Prezelj\nProstori: Lecture hall II/5
LOCATION:Lecture hall II/5
ORGANIZER:Jurij Prezelj
X-WR-TIMEZONE:Europe/Ljubljana
END:VEVENT
BEGIN:VEVENT
SUMMARY:Izpit: Sistemi komprimiranih medijev in vakuuma
DTSTART;TZID=Europe/Ljubljana:20260128T120000
DTEND;TZID=Europe/Ljubljana:20260128T140000
DTSTAMP:20260425T205416Z
UID:fs-AFLABS-URNIK:rezervacija:12348
ATTENDEE:Energy engineering (PAP-3)
CATEGORIES:Reservation
COLOR:royalblue
DESCRIPTION:Predmeti: Systems for compressed gases and vacuum (SKMP)\nLetn
 iki: Energy engineering (PAP-3)\nIzvajalci: Jurij Prezelj\nProstori: Lectu
 re hall III/2
LOCATION:Lecture hall III/2
ORGANIZER:Jurij Prezelj
X-WR-TIMEZONE:Europe/Ljubljana
END:VEVENT
BEGIN:VEVENT
SUMMARY:Izpit: Tehnična akustika
DTSTART;TZID=Europe/Ljubljana:20260212T080000
DTEND;TZID=Europe/Ljubljana:20260212T100000
DTSTAMP:20260425T205416Z
UID:fs-AFLABS-URNIK:rezervacija:11627
ATTENDEE:RRP-3 (RRP-3)
CATEGORIES:Reservation
COLOR:royalblue
DESCRIPTION:Predmeti: Technical Acoustics (2051)\nLetniki: RRP-3 (RRP-3)\n
 Izvajalci: Jurij Prezelj\nProstori: Lecture hall IV/3A
LOCATION:Lecture hall IV/3A
ORGANIZER:Jurij Prezelj
X-WR-TIMEZONE:Europe/Ljubljana
END:VEVENT
BEGIN:VEVENT
SUMMARY:Izpit: Inženirska akustika
DTSTART;TZID=Europe/Ljubljana:20260202T130000
DTEND;TZID=Europe/Ljubljana:20260202T150000
DTSTAMP:20260425T205416Z
UID:fs-AFLABS-URNIK:rezervacija:12394
CATEGORIES:Reservation
COLOR:royalblue
DESCRIPTION:Predmeti: \nLetniki: \nIzvajalci: Jurij Prezelj\nProstori: Lec
 ture hall IV/2
LOCATION:Lecture hall IV/2
ORGANIZER:Jurij Prezelj
X-WR-TIMEZONE:Europe/Ljubljana
END:VEVENT
BEGIN:VEVENT
SUMMARY:Izpit: Gonilniki tekočin
DTSTART;TZID=Europe/Ljubljana:20260129T120000
DTEND;TZID=Europe/Ljubljana:20260129T140000
DTSTAMP:20260425T205416Z
UID:fs-AFLABS-URNIK:rezervacija:12427
ATTENDEE:Energetsko, procesno in okoljsko inženirstvo - Energetsko strojn
 ištvo (PAP-3)
ATTENDEE:Energetsko, procesno in okoljsko inženirstvo - Procesno inženir
 stvo (PAP-3)
CATEGORIES:Reservation
COLOR:royalblue
DESCRIPTION:Predmeti: Fluid Movers (3051)\nLetniki: Energetsko\, procesno 
 in okoljsko inženirstvo - Procesno inženirstvo (PAP-3)\, Energetsko\, pr
 ocesno in okoljsko inženirstvo - Energetsko strojništvo (PAP-3)\nIzvajal
 ci: Jurij Prezelj\nProstori: Lecture hall IV/4
LOCATION:Lecture hall IV/4
ORGANIZER:Jurij Prezelj
X-WR-TIMEZONE:Europe/Ljubljana
END:VEVENT
BEGIN:VEVENT
SUMMARY:Izpit: Noise\, Vibrations and Acoustic Engineering
DTSTART;TZID=Europe/Ljubljana:20260130T100000
DTEND;TZID=Europe/Ljubljana:20260130T120000
DTSTAMP:20260425T205416Z
UID:fs-AFLABS-URNIK:rezervacija:12439
ATTENDEE:Erasmus (Erasmus)
CATEGORIES:Reservation
COLOR:royalblue
DESCRIPTION:Predmeti: Noise\, Vibrations and Acoustic Engineering (NVAE)\n
 Letniki: Erasmus (Erasmus)\nIzvajalci: Jurij Prezelj\nProstori: Lecture ha
 ll III/2
LOCATION:Lecture hall III/2
ORGANIZER:Jurij Prezelj
X-WR-TIMEZONE:Europe/Ljubljana
END:VEVENT
BEGIN:VEVENT
SUMMARY:Izpit: Tehniška akustika
DTSTART;TZID=Europe/Ljubljana:20260130T100000
DTEND;TZID=Europe/Ljubljana:20260130T120000
DTSTAMP:20260425T205416Z
UID:fs-AFLABS-URNIK:rezervacija:12799
ATTENDEE:Energy engineering (MAG-2)
CATEGORIES:Reservation
COLOR:royalblue
DESCRIPTION:Predmeti: Technical acoustics (THAM)\nLetniki: Energy engineer
 ing (MAG-2)\nIzvajalci: Jurij Prezelj\nProstori: Lecture hall III/2
LOCATION:Lecture hall III/2
ORGANIZER:Jurij Prezelj
X-WR-TIMEZONE:Europe/Ljubljana
END:VEVENT
BEGIN:VEVENT
SUMMARY:Kolokvij Tehniška Akustika
DTSTART;TZID=Europe/Ljubljana:20260109T140000
DTEND;TZID=Europe/Ljubljana:20260109T160000
DTSTAMP:20260425T205416Z
UID:fs-AFLABS-URNIK:rezervacija:13424
ATTENDEE:Energy engineering (MAG-2)
CATEGORIES:Reservation
COLOR:royalblue
DESCRIPTION:Predmeti: Technical acoustics (THAM)\nLetniki: Energy engineer
 ing (MAG-2)\nIzvajalci: Jurij Prezelj\nProstori: Lecture hall V/2
LOCATION:Lecture hall V/2
ORGANIZER:Jurij Prezelj
X-WR-TIMEZONE:Europe/Ljubljana
END:VEVENT
BEGIN:VEVENT
SUMMARY:Izpit: Sistemi komprimiranih medijev in vakuuma
DTSTART;TZID=Europe/Ljubljana:20260211T130000
DTEND;TZID=Europe/Ljubljana:20260211T150000
DTSTAMP:20260425T205416Z
UID:fs-AFLABS-URNIK:rezervacija:11563
ATTENDEE:Energy engineering (PAP-3)
CATEGORIES:Reservation
COLOR:royalblue
DESCRIPTION:Predmeti: Systems for compressed gases and vacuum (SKMP)\nLetn
 iki: Energy engineering (PAP-3)\nIzvajalci: Jurij Prezelj\nProstori: Lectu
 re hall IV/2
LOCATION:Lecture hall IV/2
ORGANIZER:Jurij Prezelj
X-WR-TIMEZONE:Europe/Ljubljana
END:VEVENT
BEGIN:VEVENT
SUMMARY:Izpit: Noise\, Vibrations and Acoustic Engineering
DTSTART;TZID=Europe/Ljubljana:20260213T080000
DTEND;TZID=Europe/Ljubljana:20260213T100000
DTSTAMP:20260425T205416Z
UID:fs-AFLABS-URNIK:rezervacija:11686
ATTENDEE:Erasmus (Erasmus)
CATEGORIES:Reservation
COLOR:royalblue
DESCRIPTION:Predmeti: Noise\, Vibrations and Acoustic Engineering (NVAE)\n
 Letniki: Erasmus (Erasmus)\nIzvajalci: Jurij Prezelj\nProstori: Lecture ha
 ll II/5
LOCATION:Lecture hall II/5
ORGANIZER:Jurij Prezelj
X-WR-TIMEZONE:Europe/Ljubljana
END:VEVENT
BEGIN:VEVENT
SUMMARY:KOLOKVIJ SKMiV
DTSTART;TZID=Europe/Ljubljana:20260119T080000
DTEND;TZID=Europe/Ljubljana:20260119T100000
DTSTAMP:20260425T205416Z
UID:fs-AFLABS-URNIK:rezervacija:13520
ATTENDEE:Energy engineering (PAP-3)
CATEGORIES:Reservation
COLOR:royalblue
DESCRIPTION:Predmeti: Systems for compressed gases and vacuum (SKMP)\nLetn
 iki: Energy engineering (PAP-3)\nIzvajalci: Jurij Prezelj\nProstori: Lectu
 re hall I/4A
LOCATION:Lecture hall I/4A
ORGANIZER:Jurij Prezelj
X-WR-TIMEZONE:Europe/Ljubljana
END:VEVENT
BEGIN:VEVENT
SUMMARY:Izpit: Tehniška akustika
DTSTART;TZID=Europe/Ljubljana:20260130T100000
DTEND;TZID=Europe/Ljubljana:20260130T120000
DTSTAMP:20260425T205416Z
UID:fs-AFLABS-URNIK:rezervacija:12440
ATTENDEE:Energy engineering (MAG-2)
CATEGORIES:Reservation
COLOR:royalblue
DESCRIPTION:Predmeti: Technical acoustics (THAM)\nLetniki: Energy engineer
 ing (MAG-2)\nIzvajalci: Jurij Prezelj\nProstori: Lecture hall III/2
LOCATION:Lecture hall III/2
ORGANIZER:Jurij Prezelj
X-WR-TIMEZONE:Europe/Ljubljana
END:VEVENT
END:VCALENDAR
