BEGIN:VCALENDAR
VERSION:2.0
PRODID:-//AFLabs urnik izvoz - fs//aflabs.si//SI
NAME:UL FS Urnik
X-WR-CALNAME:UL FS Urnik
DTSTAMP:20260426T000636Z
REFRESH-INTERVAL:PT1H
SOURCE:https://urnik.fs.uni-lj.si/en/teacher/821/?day=2026-08-10&export=1
URL:https://urnik.fs.uni-lj.si/en/teacher/821/?day=2026-08-10&export=1
X-PUBLISHED-TTL:PT1H
X-WR-TIMEZONE:Europe/Ljubljana
BEGIN:VTIMEZONE
TZID:Europe/Ljubljana
BEGIN:DAYLIGHT
DTSTART:20260329T020000
RDATE:20260329T020000
RDATE:20270328T020000
TZNAME:CEST
TZOFFSETFROM:+0100
TZOFFSETTO:+0200
END:DAYLIGHT
BEGIN:STANDARD
DTSTART:20261025T030000
RDATE:20261025T030000
RDATE:20271031T030000
TZNAME:CET
TZOFFSETFROM:+0200
TZOFFSETTO:+0100
END:STANDARD
END:VTIMEZONE
BEGIN:VEVENT
SUMMARY:Izpit: Tehnična akustika
DTSTART;TZID=Europe/Ljubljana:20260812T080000
DTEND;TZID=Europe/Ljubljana:20260812T100000
DTSTAMP:20260426T000636Z
UID:fs-AFLABS-URNIK:rezervacija:11674
ATTENDEE:RRP-3 (RRP-3)
CATEGORIES:Reservation
COLOR:royalblue
DESCRIPTION:Predmeti: Technical Acoustics (2051)\nLetniki: RRP-3 (RRP-3)\n
 Izvajalci: Jurij Prezelj\nProstori: Lecture hall IV/3B
LOCATION:Lecture hall IV/3B
ORGANIZER:Jurij Prezelj
X-WR-TIMEZONE:Europe/Ljubljana
END:VEVENT
BEGIN:VEVENT
SUMMARY:Izpit: Gonilniki tekočin
DTSTART;TZID=Europe/Ljubljana:20260821T080000
DTEND;TZID=Europe/Ljubljana:20260821T100000
DTSTAMP:20260426T000636Z
UID:fs-AFLABS-URNIK:rezervacija:12024
ATTENDEE:Energetsko, procesno in okoljsko inženirstvo - Energetsko strojn
 ištvo (PAP-3)
ATTENDEE:Energetsko, procesno in okoljsko inženirstvo - Procesno inženir
 stvo (PAP-3)
CATEGORIES:Reservation
COLOR:royalblue
DESCRIPTION:Predmeti: Fluid Movers (3051)\nLetniki: Energetsko\, procesno 
 in okoljsko inženirstvo - Procesno inženirstvo (PAP-3)\, Energetsko\, pr
 ocesno in okoljsko inženirstvo - Energetsko strojništvo (PAP-3)\nIzvajal
 ci: Jurij Prezelj\nProstori: Lecture hall IV/4
LOCATION:Lecture hall IV/4
ORGANIZER:Jurij Prezelj
X-WR-TIMEZONE:Europe/Ljubljana
END:VEVENT
BEGIN:VEVENT
SUMMARY:Izpit: Sistemi komprimiranih medijev in vakuuma
DTSTART;TZID=Europe/Ljubljana:20260821T080000
DTEND;TZID=Europe/Ljubljana:20260821T100000
DTSTAMP:20260426T000636Z
UID:fs-AFLABS-URNIK:rezervacija:12025
ATTENDEE:Energy engineering (PAP-3)
CATEGORIES:Reservation
COLOR:royalblue
DESCRIPTION:Predmeti: Systems for compressed gases and vacuum (SKMP)\nLetn
 iki: Energy engineering (PAP-3)\nIzvajalci: Jurij Prezelj\nProstori: Lectu
 re hall IV/4
LOCATION:Lecture hall IV/4
ORGANIZER:Jurij Prezelj
X-WR-TIMEZONE:Europe/Ljubljana
END:VEVENT
BEGIN:VEVENT
SUMMARY:Izpit: Noise\, Vibrations and Acoustic Engineering
DTSTART;TZID=Europe/Ljubljana:20260821T080000
DTEND;TZID=Europe/Ljubljana:20260821T100000
DTSTAMP:20260426T000636Z
UID:fs-AFLABS-URNIK:rezervacija:12026
ATTENDEE:Erasmus (Erasmus)
CATEGORIES:Reservation
COLOR:royalblue
DESCRIPTION:Predmeti: Noise\, Vibrations and Acoustic Engineering (NVAE)\n
 Letniki: Erasmus (Erasmus)\nIzvajalci: Jurij Prezelj\nProstori: Lecture ha
 ll IV/4
LOCATION:Lecture hall IV/4
ORGANIZER:Jurij Prezelj
X-WR-TIMEZONE:Europe/Ljubljana
END:VEVENT
BEGIN:VEVENT
SUMMARY:Izpit: Tehniška akustika
DTSTART;TZID=Europe/Ljubljana:20260821T080000
DTEND;TZID=Europe/Ljubljana:20260821T100000
DTSTAMP:20260426T000636Z
UID:fs-AFLABS-URNIK:rezervacija:12027
ATTENDEE:Energy engineering (MAG-2)
CATEGORIES:Reservation
COLOR:royalblue
DESCRIPTION:Predmeti: Technical acoustics (THAM)\nLetniki: Energy engineer
 ing (MAG-2)\nIzvajalci: Jurij Prezelj\nProstori: Lecture hall IV/4
LOCATION:Lecture hall IV/4
ORGANIZER:Jurij Prezelj
X-WR-TIMEZONE:Europe/Ljubljana
END:VEVENT
BEGIN:VEVENT
SUMMARY:Izpit: Inženirska akustika
DTSTART;TZID=Europe/Ljubljana:20260828T090000
DTEND;TZID=Europe/Ljubljana:20260828T110000
DTSTAMP:20260426T000636Z
UID:fs-AFLABS-URNIK:rezervacija:12381
CATEGORIES:Reservation
COLOR:royalblue
DESCRIPTION:Predmeti: \nLetniki: \nIzvajalci: Jurij Prezelj\nProstori: Lec
 ture hall IV/2
LOCATION:Lecture hall IV/2
ORGANIZER:Jurij Prezelj
X-WR-TIMEZONE:Europe/Ljubljana
END:VEVENT
BEGIN:VEVENT
SUMMARY:Izpit: Uvod v akustiko
DTSTART;TZID=Europe/Ljubljana:20260828T090000
DTEND;TZID=Europe/Ljubljana:20260828T110000
DTSTAMP:20260426T000636Z
UID:fs-AFLABS-URNIK:rezervacija:12382
ATTENDEE:Energy engineering (PAP-2)
CATEGORIES:Reservation
COLOR:royalblue
DESCRIPTION:Predmeti: Introduction to acoustics (UVAP)\nLetniki: Energy en
 gineering (PAP-2)\nIzvajalci: Jurij Prezelj\nProstori: Lecture hall IV/2
LOCATION:Lecture hall IV/2
ORGANIZER:Jurij Prezelj
X-WR-TIMEZONE:Europe/Ljubljana
END:VEVENT
BEGIN:VEVENT
SUMMARY:Izpit: Uvod v akustiko
DTSTART;TZID=Europe/Ljubljana:20260828T090000
DTEND;TZID=Europe/Ljubljana:20260828T110000
DTSTAMP:20260426T000636Z
UID:fs-AFLABS-URNIK:rezervacija:12710
ATTENDEE:Energy engineering (PAP-2)
CATEGORIES:Reservation
COLOR:royalblue
DESCRIPTION:Predmeti: Introduction to acoustics (UVAP)\nLetniki: Energy en
 gineering (PAP-2)\nIzvajalci: Jurij Prezelj\nProstori: Lecture hall IV/2
LOCATION:Lecture hall IV/2
ORGANIZER:Jurij Prezelj
X-WR-TIMEZONE:Europe/Ljubljana
END:VEVENT
BEGIN:VEVENT
SUMMARY:Izpit: Tehniška akustika
DTSTART;TZID=Europe/Ljubljana:20260821T080000
DTEND;TZID=Europe/Ljubljana:20260821T100000
DTSTAMP:20260426T000636Z
UID:fs-AFLABS-URNIK:rezervacija:12798
ATTENDEE:Energy engineering (MAG-2)
CATEGORIES:Reservation
COLOR:royalblue
DESCRIPTION:Predmeti: Technical acoustics (THAM)\nLetniki: Energy engineer
 ing (MAG-2)\nIzvajalci: Jurij Prezelj\nProstori: Lecture hall IV/4
LOCATION:Lecture hall IV/4
ORGANIZER:Jurij Prezelj
X-WR-TIMEZONE:Europe/Ljubljana
END:VEVENT
END:VCALENDAR
