BEGIN:VCALENDAR
VERSION:2.0
PRODID:-//AFLabs urnik izvoz - fs//aflabs.si//SI
NAME:UL FS Urnik
X-WR-CALNAME:UL FS Urnik
DTSTAMP:20260425T181811Z
REFRESH-INTERVAL:PT1H
SOURCE:https://urnik.fs.uni-lj.si/en/teacher/828/?day=2025-10-06&export=1
URL:https://urnik.fs.uni-lj.si/en/teacher/828/?day=2025-10-06&export=1
X-PUBLISHED-TTL:PT1H
X-WR-TIMEZONE:Europe/Ljubljana
BEGIN:VTIMEZONE
TZID:Europe/Ljubljana
BEGIN:DAYLIGHT
DTSTART:20260329T020000
RDATE:20260329T020000
RDATE:20270328T020000
TZNAME:CEST
TZOFFSETFROM:+0100
TZOFFSETTO:+0200
END:DAYLIGHT
BEGIN:STANDARD
DTSTART:20261025T030000
RDATE:20261025T030000
RDATE:20271031T030000
TZNAME:CET
TZOFFSETFROM:+0200
TZOFFSETTO:+0100
END:STANDARD
END:VTIMEZONE
BEGIN:VEVENT
SUMMARY:Smart factories (PMTM)\, Laboratory excercises (VL)\, [S1]
DTSTART;TZID=Europe/Ljubljana:20251022T140000
DTEND;TZID=Europe/Ljubljana:20251022T160000
DTSTAMP:20260425T181811Z
UID:fs-AFLABS-URNIK:srecanje:16900-2025-10-22 14:00:00+02:00
DESCRIPTION:Predmet: Smart factories (PMTM)\, Laboratory excercises (VL)\,
  [S1]\nLetniki: Production engineering (MAG-2)\nIzvajalci: Mihael Debevec\
 , Miha Pipan\, Matevž Resman\, Marko Šimic\nProstor: Laboratory LASIM DS
 -N1
END:VEVENT
BEGIN:VEVENT
SUMMARY:Smart factories (PMTM)\, Laboratory excercises (VL)\, [S1]
DTSTART;TZID=Europe/Ljubljana:20251029T140000
DTEND;TZID=Europe/Ljubljana:20251029T160000
DTSTAMP:20260425T181811Z
UID:fs-AFLABS-URNIK:srecanje:16900-2025-10-29 14:00:00+01:00
DESCRIPTION:Predmet: Smart factories (PMTM)\, Laboratory excercises (VL)\,
  [S1]\nLetniki: Production engineering (MAG-2)\nIzvajalci: Mihael Debevec\
 , Miha Pipan\, Matevž Resman\, Marko Šimic\nProstor: Laboratory LASIM DS
 -N1
END:VEVENT
BEGIN:VEVENT
SUMMARY:Smart factories (PMTM)\, Laboratory excercises (VL)\, [S1]
DTSTART;TZID=Europe/Ljubljana:20251105T140000
DTEND;TZID=Europe/Ljubljana:20251105T160000
DTSTAMP:20260425T181811Z
UID:fs-AFLABS-URNIK:srecanje:16900-2025-11-05 14:00:00+01:00
DESCRIPTION:Predmet: Smart factories (PMTM)\, Laboratory excercises (VL)\,
  [S1]\nLetniki: Production engineering (MAG-2)\nIzvajalci: Mihael Debevec\
 , Miha Pipan\, Matevž Resman\, Marko Šimic\nProstor: Laboratory LASIM DS
 -N1
END:VEVENT
BEGIN:VEVENT
SUMMARY:Smart factories (PMTM)\, Laboratory excercises (VL)\, [S1]
DTSTART;TZID=Europe/Ljubljana:20251112T140000
DTEND;TZID=Europe/Ljubljana:20251112T160000
DTSTAMP:20260425T181811Z
UID:fs-AFLABS-URNIK:srecanje:16900-2025-11-12 14:00:00+01:00
DESCRIPTION:Predmet: Smart factories (PMTM)\, Laboratory excercises (VL)\,
  [S1]\nLetniki: Production engineering (MAG-2)\nIzvajalci: Mihael Debevec\
 , Miha Pipan\, Matevž Resman\, Marko Šimic\nProstor: Laboratory LASIM DS
 -N1
END:VEVENT
BEGIN:VEVENT
SUMMARY:Smart factories (PMTM)\, Laboratory excercises (VL)\, [S1]
DTSTART;TZID=Europe/Ljubljana:20251119T140000
DTEND;TZID=Europe/Ljubljana:20251119T160000
DTSTAMP:20260425T181811Z
UID:fs-AFLABS-URNIK:srecanje:16900-2025-11-19 14:00:00+01:00
DESCRIPTION:Predmet: Smart factories (PMTM)\, Laboratory excercises (VL)\,
  [S1]\nLetniki: Production engineering (MAG-2)\nIzvajalci: Mihael Debevec\
 , Miha Pipan\, Matevž Resman\, Marko Šimic\nProstor: Laboratory LASIM DS
 -N1
END:VEVENT
BEGIN:VEVENT
SUMMARY:Smart factories (PMTM)\, Laboratory excercises (VL)\, [S1]
DTSTART;TZID=Europe/Ljubljana:20251126T140000
DTEND;TZID=Europe/Ljubljana:20251126T160000
DTSTAMP:20260425T181811Z
UID:fs-AFLABS-URNIK:srecanje:16900-2025-11-26 14:00:00+01:00
DESCRIPTION:Predmet: Smart factories (PMTM)\, Laboratory excercises (VL)\,
  [S1]\nLetniki: Production engineering (MAG-2)\nIzvajalci: Mihael Debevec\
 , Miha Pipan\, Matevž Resman\, Marko Šimic\nProstor: Laboratory LASIM DS
 -N1
END:VEVENT
BEGIN:VEVENT
SUMMARY:Smart factories (PMTM)\, Laboratory excercises (VL)\, [S1]
DTSTART;TZID=Europe/Ljubljana:20251203T140000
DTEND;TZID=Europe/Ljubljana:20251203T160000
DTSTAMP:20260425T181811Z
UID:fs-AFLABS-URNIK:srecanje:16900-2025-12-03 14:00:00+01:00
DESCRIPTION:Predmet: Smart factories (PMTM)\, Laboratory excercises (VL)\,
  [S1]\nLetniki: Production engineering (MAG-2)\nIzvajalci: Mihael Debevec\
 , Miha Pipan\, Matevž Resman\, Marko Šimic\nProstor: Laboratory LASIM DS
 -N1
END:VEVENT
BEGIN:VEVENT
SUMMARY:Smart factories (PMTM)\, Laboratory excercises (VL)\, [S1]
DTSTART;TZID=Europe/Ljubljana:20251210T140000
DTEND;TZID=Europe/Ljubljana:20251210T160000
DTSTAMP:20260425T181811Z
UID:fs-AFLABS-URNIK:srecanje:16900-2025-12-10 14:00:00+01:00
DESCRIPTION:Predmet: Smart factories (PMTM)\, Laboratory excercises (VL)\,
  [S1]\nLetniki: Production engineering (MAG-2)\nIzvajalci: Mihael Debevec\
 , Miha Pipan\, Matevž Resman\, Marko Šimic\nProstor: Laboratory LASIM DS
 -N1
END:VEVENT
BEGIN:VEVENT
SUMMARY:Smart factories (PMTM)\, Laboratory excercises (VL)\, [S1]
DTSTART;TZID=Europe/Ljubljana:20251217T140000
DTEND;TZID=Europe/Ljubljana:20251217T160000
DTSTAMP:20260425T181811Z
UID:fs-AFLABS-URNIK:srecanje:16900-2025-12-17 14:00:00+01:00
DESCRIPTION:Predmet: Smart factories (PMTM)\, Laboratory excercises (VL)\,
  [S1]\nLetniki: Production engineering (MAG-2)\nIzvajalci: Mihael Debevec\
 , Miha Pipan\, Matevž Resman\, Marko Šimic\nProstor: Laboratory LASIM DS
 -N1
END:VEVENT
BEGIN:VEVENT
SUMMARY:Smart factories (PMTM)\, Laboratory excercises (VL)\, [S1]
DTSTART;TZID=Europe/Ljubljana:20251224T140000
DTEND;TZID=Europe/Ljubljana:20251224T160000
DTSTAMP:20260425T181811Z
UID:fs-AFLABS-URNIK:srecanje:16900-2025-12-24 14:00:00+01:00
DESCRIPTION:Predmet: Smart factories (PMTM)\, Laboratory excercises (VL)\,
  [S1]\nLetniki: Production engineering (MAG-2)\nIzvajalci: Mihael Debevec\
 , Miha Pipan\, Matevž Resman\, Marko Šimic\nProstor: Laboratory LASIM DS
 -N1
END:VEVENT
BEGIN:VEVENT
SUMMARY:Smart factories (PMTM)\, Laboratory excercises (VL)\, [S1]
DTSTART;TZID=Europe/Ljubljana:20260107T140000
DTEND;TZID=Europe/Ljubljana:20260107T160000
DTSTAMP:20260425T181811Z
UID:fs-AFLABS-URNIK:srecanje:16900-2026-01-07 14:00:00+01:00
DESCRIPTION:Predmet: Smart factories (PMTM)\, Laboratory excercises (VL)\,
  [S1]\nLetniki: Production engineering (MAG-2)\nIzvajalci: Mihael Debevec\
 , Miha Pipan\, Matevž Resman\, Marko Šimic\nProstor: Laboratory LASIM DS
 -N1
END:VEVENT
BEGIN:VEVENT
SUMMARY:Smart factories (PMTM)\, Laboratory excercises (VL)\, [S1]
DTSTART;TZID=Europe/Ljubljana:20260114T140000
DTEND;TZID=Europe/Ljubljana:20260114T160000
DTSTAMP:20260425T181811Z
UID:fs-AFLABS-URNIK:srecanje:16900-2026-01-14 14:00:00+01:00
DESCRIPTION:Predmet: Smart factories (PMTM)\, Laboratory excercises (VL)\,
  [S1]\nLetniki: Production engineering (MAG-2)\nIzvajalci: Mihael Debevec\
 , Miha Pipan\, Matevž Resman\, Marko Šimic\nProstor: Laboratory LASIM DS
 -N1
END:VEVENT
BEGIN:VEVENT
SUMMARY:Smart factories (PMTM)\, Laboratory excercises (VL)\, [S2]
DTSTART;TZID=Europe/Ljubljana:20251023T120000
DTEND;TZID=Europe/Ljubljana:20251023T140000
DTSTAMP:20260425T181811Z
UID:fs-AFLABS-URNIK:srecanje:16902-2025-10-23 12:00:00+02:00
DESCRIPTION:Predmet: Smart factories (PMTM)\, Laboratory excercises (VL)\,
  [S2]\nLetniki: Production engineering (MAG-2)\nIzvajalci: Mihael Debevec\
 , Miha Pipan\, Matevž Resman\, Marko Šimic\nProstor: Laboratory LASIM DS
 -N1
END:VEVENT
BEGIN:VEVENT
SUMMARY:Smart factories (PMTM)\, Laboratory excercises (VL)\, [S2]
DTSTART;TZID=Europe/Ljubljana:20251030T120000
DTEND;TZID=Europe/Ljubljana:20251030T140000
DTSTAMP:20260425T181811Z
UID:fs-AFLABS-URNIK:srecanje:16902-2025-10-30 12:00:00+01:00
DESCRIPTION:Predmet: Smart factories (PMTM)\, Laboratory excercises (VL)\,
  [S2]\nLetniki: Production engineering (MAG-2)\nIzvajalci: Mihael Debevec\
 , Miha Pipan\, Matevž Resman\, Marko Šimic\nProstor: Laboratory LASIM DS
 -N1
END:VEVENT
BEGIN:VEVENT
SUMMARY:Smart factories (PMTM)\, Laboratory excercises (VL)\, [S2]
DTSTART;TZID=Europe/Ljubljana:20251106T120000
DTEND;TZID=Europe/Ljubljana:20251106T140000
DTSTAMP:20260425T181811Z
UID:fs-AFLABS-URNIK:srecanje:16902-2025-11-06 12:00:00+01:00
DESCRIPTION:Predmet: Smart factories (PMTM)\, Laboratory excercises (VL)\,
  [S2]\nLetniki: Production engineering (MAG-2)\nIzvajalci: Mihael Debevec\
 , Miha Pipan\, Matevž Resman\, Marko Šimic\nProstor: Laboratory LASIM DS
 -N1
END:VEVENT
BEGIN:VEVENT
SUMMARY:Smart factories (PMTM)\, Laboratory excercises (VL)\, [S2]
DTSTART;TZID=Europe/Ljubljana:20251113T120000
DTEND;TZID=Europe/Ljubljana:20251113T140000
DTSTAMP:20260425T181811Z
UID:fs-AFLABS-URNIK:srecanje:16902-2025-11-13 12:00:00+01:00
DESCRIPTION:Predmet: Smart factories (PMTM)\, Laboratory excercises (VL)\,
  [S2]\nLetniki: Production engineering (MAG-2)\nIzvajalci: Mihael Debevec\
 , Miha Pipan\, Matevž Resman\, Marko Šimic\nProstor: Laboratory LASIM DS
 -N1
END:VEVENT
BEGIN:VEVENT
SUMMARY:Smart factories (PMTM)\, Laboratory excercises (VL)\, [S2]
DTSTART;TZID=Europe/Ljubljana:20251120T120000
DTEND;TZID=Europe/Ljubljana:20251120T140000
DTSTAMP:20260425T181811Z
UID:fs-AFLABS-URNIK:srecanje:16902-2025-11-20 12:00:00+01:00
DESCRIPTION:Predmet: Smart factories (PMTM)\, Laboratory excercises (VL)\,
  [S2]\nLetniki: Production engineering (MAG-2)\nIzvajalci: Mihael Debevec\
 , Miha Pipan\, Matevž Resman\, Marko Šimic\nProstor: Laboratory LASIM DS
 -N1
END:VEVENT
BEGIN:VEVENT
SUMMARY:Smart factories (PMTM)\, Laboratory excercises (VL)\, [S2]
DTSTART;TZID=Europe/Ljubljana:20251127T120000
DTEND;TZID=Europe/Ljubljana:20251127T140000
DTSTAMP:20260425T181811Z
UID:fs-AFLABS-URNIK:srecanje:16902-2025-11-27 12:00:00+01:00
DESCRIPTION:Predmet: Smart factories (PMTM)\, Laboratory excercises (VL)\,
  [S2]\nLetniki: Production engineering (MAG-2)\nIzvajalci: Mihael Debevec\
 , Miha Pipan\, Matevž Resman\, Marko Šimic\nProstor: Laboratory LASIM DS
 -N1
END:VEVENT
BEGIN:VEVENT
SUMMARY:Smart factories (PMTM)\, Laboratory excercises (VL)\, [S2]
DTSTART;TZID=Europe/Ljubljana:20251204T120000
DTEND;TZID=Europe/Ljubljana:20251204T140000
DTSTAMP:20260425T181811Z
UID:fs-AFLABS-URNIK:srecanje:16902-2025-12-04 12:00:00+01:00
DESCRIPTION:Predmet: Smart factories (PMTM)\, Laboratory excercises (VL)\,
  [S2]\nLetniki: Production engineering (MAG-2)\nIzvajalci: Mihael Debevec\
 , Miha Pipan\, Matevž Resman\, Marko Šimic\nProstor: Laboratory LASIM DS
 -N1
END:VEVENT
BEGIN:VEVENT
SUMMARY:Smart factories (PMTM)\, Laboratory excercises (VL)\, [S2]
DTSTART;TZID=Europe/Ljubljana:20251211T120000
DTEND;TZID=Europe/Ljubljana:20251211T140000
DTSTAMP:20260425T181811Z
UID:fs-AFLABS-URNIK:srecanje:16902-2025-12-11 12:00:00+01:00
DESCRIPTION:Predmet: Smart factories (PMTM)\, Laboratory excercises (VL)\,
  [S2]\nLetniki: Production engineering (MAG-2)\nIzvajalci: Mihael Debevec\
 , Miha Pipan\, Matevž Resman\, Marko Šimic\nProstor: Laboratory LASIM DS
 -N1
END:VEVENT
BEGIN:VEVENT
SUMMARY:Smart factories (PMTM)\, Laboratory excercises (VL)\, [S2]
DTSTART;TZID=Europe/Ljubljana:20251218T120000
DTEND;TZID=Europe/Ljubljana:20251218T140000
DTSTAMP:20260425T181811Z
UID:fs-AFLABS-URNIK:srecanje:16902-2025-12-18 12:00:00+01:00
DESCRIPTION:Predmet: Smart factories (PMTM)\, Laboratory excercises (VL)\,
  [S2]\nLetniki: Production engineering (MAG-2)\nIzvajalci: Mihael Debevec\
 , Miha Pipan\, Matevž Resman\, Marko Šimic\nProstor: Laboratory LASIM DS
 -N1
END:VEVENT
BEGIN:VEVENT
SUMMARY:Smart factories (PMTM)\, Laboratory excercises (VL)\, [S2]
DTSTART;TZID=Europe/Ljubljana:20251225T120000
DTEND;TZID=Europe/Ljubljana:20251225T140000
DTSTAMP:20260425T181811Z
UID:fs-AFLABS-URNIK:srecanje:16902-2025-12-25 12:00:00+01:00
DESCRIPTION:Predmet: Smart factories (PMTM)\, Laboratory excercises (VL)\,
  [S2]\nLetniki: Production engineering (MAG-2)\nIzvajalci: Mihael Debevec\
 , Miha Pipan\, Matevž Resman\, Marko Šimic\nProstor: Laboratory LASIM DS
 -N1
END:VEVENT
BEGIN:VEVENT
SUMMARY:Smart factories (PMTM)\, Laboratory excercises (VL)\, [S2]
DTSTART;TZID=Europe/Ljubljana:20260108T120000
DTEND;TZID=Europe/Ljubljana:20260108T140000
DTSTAMP:20260425T181811Z
UID:fs-AFLABS-URNIK:srecanje:16902-2026-01-08 12:00:00+01:00
DESCRIPTION:Predmet: Smart factories (PMTM)\, Laboratory excercises (VL)\,
  [S2]\nLetniki: Production engineering (MAG-2)\nIzvajalci: Mihael Debevec\
 , Miha Pipan\, Matevž Resman\, Marko Šimic\nProstor: Laboratory LASIM DS
 -N1
END:VEVENT
BEGIN:VEVENT
SUMMARY:Smart factories (PMTM)\, Laboratory excercises (VL)\, [S2]
DTSTART;TZID=Europe/Ljubljana:20260115T120000
DTEND;TZID=Europe/Ljubljana:20260115T140000
DTSTAMP:20260425T181811Z
UID:fs-AFLABS-URNIK:srecanje:16902-2026-01-15 12:00:00+01:00
DESCRIPTION:Predmet: Smart factories (PMTM)\, Laboratory excercises (VL)\,
  [S2]\nLetniki: Production engineering (MAG-2)\nIzvajalci: Mihael Debevec\
 , Miha Pipan\, Matevž Resman\, Marko Šimic\nProstor: Laboratory LASIM DS
 -N1
END:VEVENT
BEGIN:VEVENT
SUMMARY:Smart factories (PMTM)\, Laboratory excercises (VL)\, [S3]
DTSTART;TZID=Europe/Ljubljana:20251024T080000
DTEND;TZID=Europe/Ljubljana:20251024T100000
DTSTAMP:20260425T181811Z
UID:fs-AFLABS-URNIK:srecanje:16904-2025-10-24 08:00:00+02:00
DESCRIPTION:Predmet: Smart factories (PMTM)\, Laboratory excercises (VL)\,
  [S3]\nLetniki: Production engineering (MAG-2)\nIzvajalci: Mihael Debevec\
 , Miha Pipan\, Matevž Resman\, Marko Šimic\nProstor: Laboratory LASIM DS
 -N1
END:VEVENT
BEGIN:VEVENT
SUMMARY:Smart factories (PMTM)\, Laboratory excercises (VL)\, [S3]
DTSTART;TZID=Europe/Ljubljana:20251107T080000
DTEND;TZID=Europe/Ljubljana:20251107T100000
DTSTAMP:20260425T181811Z
UID:fs-AFLABS-URNIK:srecanje:16904-2025-11-07 08:00:00+01:00
DESCRIPTION:Predmet: Smart factories (PMTM)\, Laboratory excercises (VL)\,
  [S3]\nLetniki: Production engineering (MAG-2)\nIzvajalci: Mihael Debevec\
 , Miha Pipan\, Matevž Resman\, Marko Šimic\nProstor: Laboratory LASIM DS
 -N1
END:VEVENT
BEGIN:VEVENT
SUMMARY:Smart factories (PMTM)\, Laboratory excercises (VL)\, [S3]
DTSTART;TZID=Europe/Ljubljana:20251114T080000
DTEND;TZID=Europe/Ljubljana:20251114T100000
DTSTAMP:20260425T181811Z
UID:fs-AFLABS-URNIK:srecanje:16904-2025-11-14 08:00:00+01:00
DESCRIPTION:Predmet: Smart factories (PMTM)\, Laboratory excercises (VL)\,
  [S3]\nLetniki: Production engineering (MAG-2)\nIzvajalci: Mihael Debevec\
 , Miha Pipan\, Matevž Resman\, Marko Šimic\nProstor: Laboratory LASIM DS
 -N1
END:VEVENT
BEGIN:VEVENT
SUMMARY:Smart factories (PMTM)\, Laboratory excercises (VL)\, [S3]
DTSTART;TZID=Europe/Ljubljana:20251121T080000
DTEND;TZID=Europe/Ljubljana:20251121T100000
DTSTAMP:20260425T181811Z
UID:fs-AFLABS-URNIK:srecanje:16904-2025-11-21 08:00:00+01:00
DESCRIPTION:Predmet: Smart factories (PMTM)\, Laboratory excercises (VL)\,
  [S3]\nLetniki: Production engineering (MAG-2)\nIzvajalci: Mihael Debevec\
 , Miha Pipan\, Matevž Resman\, Marko Šimic\nProstor: Laboratory LASIM DS
 -N1
END:VEVENT
BEGIN:VEVENT
SUMMARY:Smart factories (PMTM)\, Laboratory excercises (VL)\, [S3]
DTSTART;TZID=Europe/Ljubljana:20251128T080000
DTEND;TZID=Europe/Ljubljana:20251128T100000
DTSTAMP:20260425T181811Z
UID:fs-AFLABS-URNIK:srecanje:16904-2025-11-28 08:00:00+01:00
DESCRIPTION:Predmet: Smart factories (PMTM)\, Laboratory excercises (VL)\,
  [S3]\nLetniki: Production engineering (MAG-2)\nIzvajalci: Mihael Debevec\
 , Miha Pipan\, Matevž Resman\, Marko Šimic\nProstor: Laboratory LASIM DS
 -N1
END:VEVENT
BEGIN:VEVENT
SUMMARY:Smart factories (PMTM)\, Laboratory excercises (VL)\, [S3]
DTSTART;TZID=Europe/Ljubljana:20251205T080000
DTEND;TZID=Europe/Ljubljana:20251205T100000
DTSTAMP:20260425T181811Z
UID:fs-AFLABS-URNIK:srecanje:16904-2025-12-05 08:00:00+01:00
DESCRIPTION:Predmet: Smart factories (PMTM)\, Laboratory excercises (VL)\,
  [S3]\nLetniki: Production engineering (MAG-2)\nIzvajalci: Mihael Debevec\
 , Miha Pipan\, Matevž Resman\, Marko Šimic\nProstor: Laboratory LASIM DS
 -N1
END:VEVENT
BEGIN:VEVENT
SUMMARY:Smart factories (PMTM)\, Laboratory excercises (VL)\, [S3]
DTSTART;TZID=Europe/Ljubljana:20251212T080000
DTEND;TZID=Europe/Ljubljana:20251212T100000
DTSTAMP:20260425T181811Z
UID:fs-AFLABS-URNIK:srecanje:16904-2025-12-12 08:00:00+01:00
DESCRIPTION:Predmet: Smart factories (PMTM)\, Laboratory excercises (VL)\,
  [S3]\nLetniki: Production engineering (MAG-2)\nIzvajalci: Mihael Debevec\
 , Miha Pipan\, Matevž Resman\, Marko Šimic\nProstor: Laboratory LASIM DS
 -N1
END:VEVENT
BEGIN:VEVENT
SUMMARY:Smart factories (PMTM)\, Laboratory excercises (VL)\, [S3]
DTSTART;TZID=Europe/Ljubljana:20251219T080000
DTEND;TZID=Europe/Ljubljana:20251219T100000
DTSTAMP:20260425T181811Z
UID:fs-AFLABS-URNIK:srecanje:16904-2025-12-19 08:00:00+01:00
DESCRIPTION:Predmet: Smart factories (PMTM)\, Laboratory excercises (VL)\,
  [S3]\nLetniki: Production engineering (MAG-2)\nIzvajalci: Mihael Debevec\
 , Miha Pipan\, Matevž Resman\, Marko Šimic\nProstor: Laboratory LASIM DS
 -N1
END:VEVENT
BEGIN:VEVENT
SUMMARY:Smart factories (PMTM)\, Laboratory excercises (VL)\, [S3]
DTSTART;TZID=Europe/Ljubljana:20251226T080000
DTEND;TZID=Europe/Ljubljana:20251226T100000
DTSTAMP:20260425T181811Z
UID:fs-AFLABS-URNIK:srecanje:16904-2025-12-26 08:00:00+01:00
DESCRIPTION:Predmet: Smart factories (PMTM)\, Laboratory excercises (VL)\,
  [S3]\nLetniki: Production engineering (MAG-2)\nIzvajalci: Mihael Debevec\
 , Miha Pipan\, Matevž Resman\, Marko Šimic\nProstor: Laboratory LASIM DS
 -N1
END:VEVENT
BEGIN:VEVENT
SUMMARY:Smart factories (PMTM)\, Laboratory excercises (VL)\, [S3]
DTSTART;TZID=Europe/Ljubljana:20260109T080000
DTEND;TZID=Europe/Ljubljana:20260109T100000
DTSTAMP:20260425T181811Z
UID:fs-AFLABS-URNIK:srecanje:16904-2026-01-09 08:00:00+01:00
DESCRIPTION:Predmet: Smart factories (PMTM)\, Laboratory excercises (VL)\,
  [S3]\nLetniki: Production engineering (MAG-2)\nIzvajalci: Mihael Debevec\
 , Miha Pipan\, Matevž Resman\, Marko Šimic\nProstor: Laboratory LASIM DS
 -N1
END:VEVENT
BEGIN:VEVENT
SUMMARY:Smart factories (PMTM)\, Laboratory excercises (VL)\, [S3]
DTSTART;TZID=Europe/Ljubljana:20260116T080000
DTEND;TZID=Europe/Ljubljana:20260116T100000
DTSTAMP:20260425T181811Z
UID:fs-AFLABS-URNIK:srecanje:16904-2026-01-16 08:00:00+01:00
DESCRIPTION:Predmet: Smart factories (PMTM)\, Laboratory excercises (VL)\,
  [S3]\nLetniki: Production engineering (MAG-2)\nIzvajalci: Mihael Debevec\
 , Miha Pipan\, Matevž Resman\, Marko Šimic\nProstor: Laboratory LASIM DS
 -N1
END:VEVENT
BEGIN:VEVENT
SUMMARY:Smart factories (PMTM)\, Laboratory excercises (VL)\, [S4]
DTSTART;TZID=Europe/Ljubljana:20251024T100000
DTEND;TZID=Europe/Ljubljana:20251024T120000
DTSTAMP:20260425T181811Z
UID:fs-AFLABS-URNIK:srecanje:16906-2025-10-24 10:00:00+02:00
DESCRIPTION:Predmet: Smart factories (PMTM)\, Laboratory excercises (VL)\,
  [S4]\nLetniki: Production engineering (MAG-2)\nIzvajalci: Mihael Debevec\
 , Miha Pipan\, Matevž Resman\, Marko Šimic\nProstor: Laboratory LASIM DS
 -N1
END:VEVENT
BEGIN:VEVENT
SUMMARY:Smart factories (PMTM)\, Laboratory excercises (VL)\, [S4]
DTSTART;TZID=Europe/Ljubljana:20251107T100000
DTEND;TZID=Europe/Ljubljana:20251107T120000
DTSTAMP:20260425T181811Z
UID:fs-AFLABS-URNIK:srecanje:16906-2025-11-07 10:00:00+01:00
DESCRIPTION:Predmet: Smart factories (PMTM)\, Laboratory excercises (VL)\,
  [S4]\nLetniki: Production engineering (MAG-2)\nIzvajalci: Mihael Debevec\
 , Miha Pipan\, Matevž Resman\, Marko Šimic\nProstor: Laboratory LASIM DS
 -N1
END:VEVENT
BEGIN:VEVENT
SUMMARY:Smart factories (PMTM)\, Laboratory excercises (VL)\, [S4]
DTSTART;TZID=Europe/Ljubljana:20251114T100000
DTEND;TZID=Europe/Ljubljana:20251114T120000
DTSTAMP:20260425T181811Z
UID:fs-AFLABS-URNIK:srecanje:16906-2025-11-14 10:00:00+01:00
DESCRIPTION:Predmet: Smart factories (PMTM)\, Laboratory excercises (VL)\,
  [S4]\nLetniki: Production engineering (MAG-2)\nIzvajalci: Mihael Debevec\
 , Miha Pipan\, Matevž Resman\, Marko Šimic\nProstor: Laboratory LASIM DS
 -N1
END:VEVENT
BEGIN:VEVENT
SUMMARY:Smart factories (PMTM)\, Laboratory excercises (VL)\, [S4]
DTSTART;TZID=Europe/Ljubljana:20251121T100000
DTEND;TZID=Europe/Ljubljana:20251121T120000
DTSTAMP:20260425T181811Z
UID:fs-AFLABS-URNIK:srecanje:16906-2025-11-21 10:00:00+01:00
DESCRIPTION:Predmet: Smart factories (PMTM)\, Laboratory excercises (VL)\,
  [S4]\nLetniki: Production engineering (MAG-2)\nIzvajalci: Mihael Debevec\
 , Miha Pipan\, Matevž Resman\, Marko Šimic\nProstor: Laboratory LASIM DS
 -N1
END:VEVENT
BEGIN:VEVENT
SUMMARY:Smart factories (PMTM)\, Laboratory excercises (VL)\, [S4]
DTSTART;TZID=Europe/Ljubljana:20251128T100000
DTEND;TZID=Europe/Ljubljana:20251128T120000
DTSTAMP:20260425T181811Z
UID:fs-AFLABS-URNIK:srecanje:16906-2025-11-28 10:00:00+01:00
DESCRIPTION:Predmet: Smart factories (PMTM)\, Laboratory excercises (VL)\,
  [S4]\nLetniki: Production engineering (MAG-2)\nIzvajalci: Mihael Debevec\
 , Miha Pipan\, Matevž Resman\, Marko Šimic\nProstor: Laboratory LASIM DS
 -N1
END:VEVENT
BEGIN:VEVENT
SUMMARY:Smart factories (PMTM)\, Laboratory excercises (VL)\, [S4]
DTSTART;TZID=Europe/Ljubljana:20251205T100000
DTEND;TZID=Europe/Ljubljana:20251205T120000
DTSTAMP:20260425T181811Z
UID:fs-AFLABS-URNIK:srecanje:16906-2025-12-05 10:00:00+01:00
DESCRIPTION:Predmet: Smart factories (PMTM)\, Laboratory excercises (VL)\,
  [S4]\nLetniki: Production engineering (MAG-2)\nIzvajalci: Mihael Debevec\
 , Miha Pipan\, Matevž Resman\, Marko Šimic\nProstor: Laboratory LASIM DS
 -N1
END:VEVENT
BEGIN:VEVENT
SUMMARY:Smart factories (PMTM)\, Laboratory excercises (VL)\, [S4]
DTSTART;TZID=Europe/Ljubljana:20251212T100000
DTEND;TZID=Europe/Ljubljana:20251212T120000
DTSTAMP:20260425T181811Z
UID:fs-AFLABS-URNIK:srecanje:16906-2025-12-12 10:00:00+01:00
DESCRIPTION:Predmet: Smart factories (PMTM)\, Laboratory excercises (VL)\,
  [S4]\nLetniki: Production engineering (MAG-2)\nIzvajalci: Mihael Debevec\
 , Miha Pipan\, Matevž Resman\, Marko Šimic\nProstor: Laboratory LASIM DS
 -N1
END:VEVENT
BEGIN:VEVENT
SUMMARY:Smart factories (PMTM)\, Laboratory excercises (VL)\, [S4]
DTSTART;TZID=Europe/Ljubljana:20251219T100000
DTEND;TZID=Europe/Ljubljana:20251219T120000
DTSTAMP:20260425T181811Z
UID:fs-AFLABS-URNIK:srecanje:16906-2025-12-19 10:00:00+01:00
DESCRIPTION:Predmet: Smart factories (PMTM)\, Laboratory excercises (VL)\,
  [S4]\nLetniki: Production engineering (MAG-2)\nIzvajalci: Mihael Debevec\
 , Miha Pipan\, Matevž Resman\, Marko Šimic\nProstor: Laboratory LASIM DS
 -N1
END:VEVENT
BEGIN:VEVENT
SUMMARY:Smart factories (PMTM)\, Laboratory excercises (VL)\, [S4]
DTSTART;TZID=Europe/Ljubljana:20251226T100000
DTEND;TZID=Europe/Ljubljana:20251226T120000
DTSTAMP:20260425T181811Z
UID:fs-AFLABS-URNIK:srecanje:16906-2025-12-26 10:00:00+01:00
DESCRIPTION:Predmet: Smart factories (PMTM)\, Laboratory excercises (VL)\,
  [S4]\nLetniki: Production engineering (MAG-2)\nIzvajalci: Mihael Debevec\
 , Miha Pipan\, Matevž Resman\, Marko Šimic\nProstor: Laboratory LASIM DS
 -N1
END:VEVENT
BEGIN:VEVENT
SUMMARY:Smart factories (PMTM)\, Laboratory excercises (VL)\, [S4]
DTSTART;TZID=Europe/Ljubljana:20260109T100000
DTEND;TZID=Europe/Ljubljana:20260109T120000
DTSTAMP:20260425T181811Z
UID:fs-AFLABS-URNIK:srecanje:16906-2026-01-09 10:00:00+01:00
DESCRIPTION:Predmet: Smart factories (PMTM)\, Laboratory excercises (VL)\,
  [S4]\nLetniki: Production engineering (MAG-2)\nIzvajalci: Mihael Debevec\
 , Miha Pipan\, Matevž Resman\, Marko Šimic\nProstor: Laboratory LASIM DS
 -N1
END:VEVENT
BEGIN:VEVENT
SUMMARY:Smart factories (PMTM)\, Laboratory excercises (VL)\, [S4]
DTSTART;TZID=Europe/Ljubljana:20260116T100000
DTEND;TZID=Europe/Ljubljana:20260116T120000
DTSTAMP:20260425T181811Z
UID:fs-AFLABS-URNIK:srecanje:16906-2026-01-16 10:00:00+01:00
DESCRIPTION:Predmet: Smart factories (PMTM)\, Laboratory excercises (VL)\,
  [S4]\nLetniki: Production engineering (MAG-2)\nIzvajalci: Mihael Debevec\
 , Miha Pipan\, Matevž Resman\, Marko Šimic\nProstor: Laboratory LASIM DS
 -N1
END:VEVENT
BEGIN:VEVENT
SUMMARY:Smart factories (PMTM)\, Laboratory excercises (VL)\, [S5]
DTSTART;TZID=Europe/Ljubljana:20251024T140000
DTEND;TZID=Europe/Ljubljana:20251024T160000
DTSTAMP:20260425T181811Z
UID:fs-AFLABS-URNIK:srecanje:16908-2025-10-24 14:00:00+02:00
DESCRIPTION:Predmet: Smart factories (PMTM)\, Laboratory excercises (VL)\,
  [S5]\nLetniki: Production engineering (MAG-2)\nIzvajalci: Mihael Debevec\
 , Miha Pipan\, Matevž Resman\, Marko Šimic\nProstor: Laboratory LASIM DS
 -N1
END:VEVENT
BEGIN:VEVENT
SUMMARY:Smart factories (PMTM)\, Laboratory excercises (VL)\, [S5]
DTSTART;TZID=Europe/Ljubljana:20251107T140000
DTEND;TZID=Europe/Ljubljana:20251107T160000
DTSTAMP:20260425T181811Z
UID:fs-AFLABS-URNIK:srecanje:16908-2025-11-07 14:00:00+01:00
DESCRIPTION:Predmet: Smart factories (PMTM)\, Laboratory excercises (VL)\,
  [S5]\nLetniki: Production engineering (MAG-2)\nIzvajalci: Mihael Debevec\
 , Miha Pipan\, Matevž Resman\, Marko Šimic\nProstor: Laboratory LASIM DS
 -N1
END:VEVENT
BEGIN:VEVENT
SUMMARY:Smart factories (PMTM)\, Laboratory excercises (VL)\, [S5]
DTSTART;TZID=Europe/Ljubljana:20251114T140000
DTEND;TZID=Europe/Ljubljana:20251114T160000
DTSTAMP:20260425T181811Z
UID:fs-AFLABS-URNIK:srecanje:16908-2025-11-14 14:00:00+01:00
DESCRIPTION:Predmet: Smart factories (PMTM)\, Laboratory excercises (VL)\,
  [S5]\nLetniki: Production engineering (MAG-2)\nIzvajalci: Mihael Debevec\
 , Miha Pipan\, Matevž Resman\, Marko Šimic\nProstor: Laboratory LASIM DS
 -N1
END:VEVENT
BEGIN:VEVENT
SUMMARY:Smart factories (PMTM)\, Laboratory excercises (VL)\, [S5]
DTSTART;TZID=Europe/Ljubljana:20251121T140000
DTEND;TZID=Europe/Ljubljana:20251121T160000
DTSTAMP:20260425T181811Z
UID:fs-AFLABS-URNIK:srecanje:16908-2025-11-21 14:00:00+01:00
DESCRIPTION:Predmet: Smart factories (PMTM)\, Laboratory excercises (VL)\,
  [S5]\nLetniki: Production engineering (MAG-2)\nIzvajalci: Mihael Debevec\
 , Miha Pipan\, Matevž Resman\, Marko Šimic\nProstor: Laboratory LASIM DS
 -N1
END:VEVENT
BEGIN:VEVENT
SUMMARY:Smart factories (PMTM)\, Laboratory excercises (VL)\, [S5]
DTSTART;TZID=Europe/Ljubljana:20251128T140000
DTEND;TZID=Europe/Ljubljana:20251128T160000
DTSTAMP:20260425T181811Z
UID:fs-AFLABS-URNIK:srecanje:16908-2025-11-28 14:00:00+01:00
DESCRIPTION:Predmet: Smart factories (PMTM)\, Laboratory excercises (VL)\,
  [S5]\nLetniki: Production engineering (MAG-2)\nIzvajalci: Mihael Debevec\
 , Miha Pipan\, Matevž Resman\, Marko Šimic\nProstor: Laboratory LASIM DS
 -N1
END:VEVENT
BEGIN:VEVENT
SUMMARY:Smart factories (PMTM)\, Laboratory excercises (VL)\, [S5]
DTSTART;TZID=Europe/Ljubljana:20251205T140000
DTEND;TZID=Europe/Ljubljana:20251205T160000
DTSTAMP:20260425T181811Z
UID:fs-AFLABS-URNIK:srecanje:16908-2025-12-05 14:00:00+01:00
DESCRIPTION:Predmet: Smart factories (PMTM)\, Laboratory excercises (VL)\,
  [S5]\nLetniki: Production engineering (MAG-2)\nIzvajalci: Mihael Debevec\
 , Miha Pipan\, Matevž Resman\, Marko Šimic\nProstor: Laboratory LASIM DS
 -N1
END:VEVENT
BEGIN:VEVENT
SUMMARY:Smart factories (PMTM)\, Laboratory excercises (VL)\, [S5]
DTSTART;TZID=Europe/Ljubljana:20251212T140000
DTEND;TZID=Europe/Ljubljana:20251212T160000
DTSTAMP:20260425T181811Z
UID:fs-AFLABS-URNIK:srecanje:16908-2025-12-12 14:00:00+01:00
DESCRIPTION:Predmet: Smart factories (PMTM)\, Laboratory excercises (VL)\,
  [S5]\nLetniki: Production engineering (MAG-2)\nIzvajalci: Mihael Debevec\
 , Miha Pipan\, Matevž Resman\, Marko Šimic\nProstor: Laboratory LASIM DS
 -N1
END:VEVENT
BEGIN:VEVENT
SUMMARY:Smart factories (PMTM)\, Laboratory excercises (VL)\, [S5]
DTSTART;TZID=Europe/Ljubljana:20251219T140000
DTEND;TZID=Europe/Ljubljana:20251219T160000
DTSTAMP:20260425T181811Z
UID:fs-AFLABS-URNIK:srecanje:16908-2025-12-19 14:00:00+01:00
DESCRIPTION:Predmet: Smart factories (PMTM)\, Laboratory excercises (VL)\,
  [S5]\nLetniki: Production engineering (MAG-2)\nIzvajalci: Mihael Debevec\
 , Miha Pipan\, Matevž Resman\, Marko Šimic\nProstor: Laboratory LASIM DS
 -N1
END:VEVENT
BEGIN:VEVENT
SUMMARY:Smart factories (PMTM)\, Laboratory excercises (VL)\, [S5]
DTSTART;TZID=Europe/Ljubljana:20251226T140000
DTEND;TZID=Europe/Ljubljana:20251226T160000
DTSTAMP:20260425T181811Z
UID:fs-AFLABS-URNIK:srecanje:16908-2025-12-26 14:00:00+01:00
DESCRIPTION:Predmet: Smart factories (PMTM)\, Laboratory excercises (VL)\,
  [S5]\nLetniki: Production engineering (MAG-2)\nIzvajalci: Mihael Debevec\
 , Miha Pipan\, Matevž Resman\, Marko Šimic\nProstor: Laboratory LASIM DS
 -N1
END:VEVENT
BEGIN:VEVENT
SUMMARY:Smart factories (PMTM)\, Laboratory excercises (VL)\, [S5]
DTSTART;TZID=Europe/Ljubljana:20260109T140000
DTEND;TZID=Europe/Ljubljana:20260109T160000
DTSTAMP:20260425T181811Z
UID:fs-AFLABS-URNIK:srecanje:16908-2026-01-09 14:00:00+01:00
DESCRIPTION:Predmet: Smart factories (PMTM)\, Laboratory excercises (VL)\,
  [S5]\nLetniki: Production engineering (MAG-2)\nIzvajalci: Mihael Debevec\
 , Miha Pipan\, Matevž Resman\, Marko Šimic\nProstor: Laboratory LASIM DS
 -N1
END:VEVENT
BEGIN:VEVENT
SUMMARY:Smart factories (PMTM)\, Laboratory excercises (VL)\, [S5]
DTSTART;TZID=Europe/Ljubljana:20260116T140000
DTEND;TZID=Europe/Ljubljana:20260116T160000
DTSTAMP:20260425T181811Z
UID:fs-AFLABS-URNIK:srecanje:16908-2026-01-16 14:00:00+01:00
DESCRIPTION:Predmet: Smart factories (PMTM)\, Laboratory excercises (VL)\,
  [S5]\nLetniki: Production engineering (MAG-2)\nIzvajalci: Mihael Debevec\
 , Miha Pipan\, Matevž Resman\, Marko Šimic\nProstor: Laboratory LASIM DS
 -N1
END:VEVENT
END:VCALENDAR
