BEGIN:VCALENDAR
VERSION:2.0
PRODID:-//AFLabs urnik izvoz - fs//aflabs.si//SI
NAME:UL FS Urnik
X-WR-CALNAME:UL FS Urnik
DTSTAMP:20260425T131817Z
REFRESH-INTERVAL:PT1H
SOURCE:https://urnik.fs.uni-lj.si/en/teacher/830/?day=2025-09-08&export=1
URL:https://urnik.fs.uni-lj.si/en/teacher/830/?day=2025-09-08&export=1
X-PUBLISHED-TTL:PT1H
X-WR-TIMEZONE:Europe/Ljubljana
BEGIN:VTIMEZONE
TZID:Europe/Ljubljana
BEGIN:DAYLIGHT
DTSTART:20260329T020000
RDATE:20260329T020000
RDATE:20270328T020000
TZNAME:CEST
TZOFFSETFROM:+0100
TZOFFSETTO:+0200
END:DAYLIGHT
BEGIN:STANDARD
DTSTART:20261025T030000
RDATE:20261025T030000
RDATE:20271031T030000
TZNAME:CET
TZOFFSETFROM:+0200
TZOFFSETTO:+0100
END:STANDARD
END:VTIMEZONE
BEGIN:VEVENT
SUMMARY:Production leading (VDPP)\, Lecture exercises (VP)\, [S1]
DTSTART;TZID=Europe/Ljubljana:20251002T090000
DTEND;TZID=Europe/Ljubljana:20251002T103000
DTSTAMP:20260425T131817Z
UID:fs-AFLABS-URNIK:srecanje:16054-2025-10-02 09:00:00+02:00
DESCRIPTION:Predmet: Production leading (VDPP)\, Lecture exercises (VP)\, 
 [S1]\nLetniki: Production engineering (PAP-3)\nIzvajalci: Dunja Ravnikar\,
  Lidija Rihar\nProstor: Lecture hall II/2
END:VEVENT
BEGIN:VEVENT
SUMMARY:Production leading (VDPP)\, Lecture exercises (VP)\, [S1]
DTSTART;TZID=Europe/Ljubljana:20251009T090000
DTEND;TZID=Europe/Ljubljana:20251009T103000
DTSTAMP:20260425T131817Z
UID:fs-AFLABS-URNIK:srecanje:16054-2025-10-09 09:00:00+02:00
DESCRIPTION:Predmet: Production leading (VDPP)\, Lecture exercises (VP)\, 
 [S1]\nLetniki: Production engineering (PAP-3)\nIzvajalci: Dunja Ravnikar\,
  Lidija Rihar\nProstor: Lecture hall II/2
END:VEVENT
BEGIN:VEVENT
SUMMARY:Investment engineering (INIP)\, Lecture exercises (VP)\, [S1]
DTSTART;TZID=Europe/Ljubljana:20251003T153000
DTEND;TZID=Europe/Ljubljana:20251003T173000
DTSTAMP:20260425T131817Z
UID:fs-AFLABS-URNIK:srecanje:16056-2025-10-03 15:30:00+02:00
DESCRIPTION:Predmet: Investment engineering (INIP)\, Lecture exercises (VP
 )\, [S1]\nLetniki: Production engineering (PAP-3)\nIzvajalci: Dunja Ravnik
 ar\, Lidija Rihar\nProstor: Lecture hall IV/3A
END:VEVENT
BEGIN:VEVENT
SUMMARY:Investment engineering (INIP)\, Laboratory excercises (VL)\, [S1]
DTSTART;TZID=Europe/Ljubljana:20251009T133000
DTEND;TZID=Europe/Ljubljana:20251009T150000
DTSTAMP:20260425T131817Z
UID:fs-AFLABS-URNIK:srecanje:17510-2025-10-09 13:30:00+02:00
DESCRIPTION:Predmet: Investment engineering (INIP)\, Laboratory excercises
  (VL)\, [S1]\nLetniki: Production engineering (PAP-3)\nIzvajalci: Tadeja K
 avčič\, Dunja Ravnikar\, Lidija Rihar\nProstor: Laboratory LAMPA SII-82
END:VEVENT
BEGIN:VEVENT
SUMMARY:Investment engineering (INIP)\, Laboratory excercises (VL)\, [S2]
DTSTART;TZID=Europe/Ljubljana:20251010T093000
DTEND;TZID=Europe/Ljubljana:20251010T113000
DTSTAMP:20260425T131817Z
UID:fs-AFLABS-URNIK:srecanje:16628-2025-10-10 09:30:00+02:00
DESCRIPTION:Predmet: Investment engineering (INIP)\, Laboratory excercises
  (VL)\, [S2]\nLetniki: Production engineering (PAP-3)\nIzvajalci: Tadeja K
 avčič\, Dunja Ravnikar\, Lidija Rihar\nProstor: Laboratory LAMPA SII-82
END:VEVENT
BEGIN:VEVENT
SUMMARY:Investment engineering (INIP)\, Laboratory excercises (VL)\, [S3]
DTSTART;TZID=Europe/Ljubljana:20251010T133000
DTEND;TZID=Europe/Ljubljana:20251010T153000
DTSTAMP:20260425T131817Z
UID:fs-AFLABS-URNIK:srecanje:16630-2025-10-10 13:30:00+02:00
DESCRIPTION:Predmet: Investment engineering (INIP)\, Laboratory excercises
  (VL)\, [S3]\nLetniki: Production engineering (PAP-3)\nIzvajalci: Tadeja K
 avčič\, Dunja Ravnikar\, Lidija Rihar\nProstor: Laboratory LAMPA SII-82
END:VEVENT
BEGIN:VEVENT
SUMMARY:Investment engineering (INIP)\, Laboratory excercises (VL)\, [S4]
DTSTART;TZID=Europe/Ljubljana:20251010T153000
DTEND;TZID=Europe/Ljubljana:20251010T173000
DTSTAMP:20260425T131817Z
UID:fs-AFLABS-URNIK:srecanje:16631-2025-10-10 15:30:00+02:00
DESCRIPTION:Predmet: Investment engineering (INIP)\, Laboratory excercises
  (VL)\, [S4]\nLetniki: Production engineering (PAP-3)\nIzvajalci: Tadeja K
 avčič\, Dunja Ravnikar\, Lidija Rihar\nProstor: Laboratory LAMPA SII-82
END:VEVENT
END:VCALENDAR
