BEGIN:VCALENDAR
VERSION:2.0
PRODID:-//AFLabs urnik izvoz - fs//aflabs.si//SI
NAME:UL FS Urnik
X-WR-CALNAME:UL FS Urnik
DTSTAMP:20260425T202936Z
REFRESH-INTERVAL:PT1H
SOURCE:https://urnik.fs.uni-lj.si/en/teacher/833/?day=2026-02-02&export=1
URL:https://urnik.fs.uni-lj.si/en/teacher/833/?day=2026-02-02&export=1
X-PUBLISHED-TTL:PT1H
X-WR-TIMEZONE:Europe/Ljubljana
BEGIN:VTIMEZONE
TZID:Europe/Ljubljana
BEGIN:DAYLIGHT
DTSTART:20260329T020000
RDATE:20260329T020000
RDATE:20270328T020000
TZNAME:CEST
TZOFFSETFROM:+0100
TZOFFSETTO:+0200
END:DAYLIGHT
BEGIN:STANDARD
DTSTART:20261025T030000
RDATE:20261025T030000
RDATE:20271031T030000
TZNAME:CET
TZOFFSETFROM:+0200
TZOFFSETTO:+0100
END:STANDARD
END:VTIMEZONE
BEGIN:VEVENT
SUMMARY:Advanced forming processes (NPPM)\, Laboratory excercises (VL)\, [
 S1]
DTSTART;TZID=Europe/Ljubljana:20260302T080000
DTEND;TZID=Europe/Ljubljana:20260302T100000
DTSTAMP:20260425T202936Z
UID:fs-AFLABS-URNIK:srecanje:17209-2026-03-02 08:00:00+01:00
DESCRIPTION:Predmet: Advanced forming processes (NPPM)\, Laboratory excerc
 ises (VL)\, [S1]\nLetniki: Production engineering (MAG-1)\nIzvajalci: Matj
 až Rot\, Luka Sevšek\nProstor: Laboratory LAP SP-70
END:VEVENT
BEGIN:VEVENT
SUMMARY:Advanced forming processes (NPPM)\, Laboratory excercises (VL)\, [
 S1]
DTSTART;TZID=Europe/Ljubljana:20260309T080000
DTEND;TZID=Europe/Ljubljana:20260309T100000
DTSTAMP:20260425T202936Z
UID:fs-AFLABS-URNIK:srecanje:17209-2026-03-09 08:00:00+01:00
DESCRIPTION:Predmet: Advanced forming processes (NPPM)\, Laboratory excerc
 ises (VL)\, [S1]\nLetniki: Production engineering (MAG-1)\nIzvajalci: Matj
 až Rot\, Luka Sevšek\nProstor: Laboratory LAP SP-70
END:VEVENT
BEGIN:VEVENT
SUMMARY:Advanced forming processes (NPPM)\, Laboratory excercises (VL)\, [
 S2]
DTSTART;TZID=Europe/Ljubljana:20260302T100000
DTEND;TZID=Europe/Ljubljana:20260302T120000
DTSTAMP:20260425T202936Z
UID:fs-AFLABS-URNIK:srecanje:17210-2026-03-02 10:00:00+01:00
DESCRIPTION:Predmet: Advanced forming processes (NPPM)\, Laboratory excerc
 ises (VL)\, [S2]\nLetniki: Production engineering (MAG-1)\nIzvajalci: Matj
 až Rot\, Luka Sevšek\nProstor: Laboratory LAP SP-70
END:VEVENT
BEGIN:VEVENT
SUMMARY:Advanced forming processes (NPPM)\, Laboratory excercises (VL)\, [
 S2]
DTSTART;TZID=Europe/Ljubljana:20260309T100000
DTEND;TZID=Europe/Ljubljana:20260309T120000
DTSTAMP:20260425T202936Z
UID:fs-AFLABS-URNIK:srecanje:17210-2026-03-09 10:00:00+01:00
DESCRIPTION:Predmet: Advanced forming processes (NPPM)\, Laboratory excerc
 ises (VL)\, [S2]\nLetniki: Production engineering (MAG-1)\nIzvajalci: Matj
 až Rot\, Luka Sevšek\nProstor: Laboratory LAP SP-70
END:VEVENT
BEGIN:VEVENT
SUMMARY:Advanced forming processes (NPPM)\, Laboratory excercises (VL)\, [
 S3]
DTSTART;TZID=Europe/Ljubljana:20260302T140000
DTEND;TZID=Europe/Ljubljana:20260302T160000
DTSTAMP:20260425T202936Z
UID:fs-AFLABS-URNIK:srecanje:17211-2026-03-02 14:00:00+01:00
DESCRIPTION:Predmet: Advanced forming processes (NPPM)\, Laboratory excerc
 ises (VL)\, [S3]\nLetniki: Production engineering (MAG-1)\nIzvajalci: Matj
 až Rot\, Luka Sevšek\nProstor: Laboratory LAP SP-70
END:VEVENT
BEGIN:VEVENT
SUMMARY:Advanced forming processes (NPPM)\, Laboratory excercises (VL)\, [
 S3]
DTSTART;TZID=Europe/Ljubljana:20260309T140000
DTEND;TZID=Europe/Ljubljana:20260309T160000
DTSTAMP:20260425T202936Z
UID:fs-AFLABS-URNIK:srecanje:17211-2026-03-09 14:00:00+01:00
DESCRIPTION:Predmet: Advanced forming processes (NPPM)\, Laboratory excerc
 ises (VL)\, [S3]\nLetniki: Production engineering (MAG-1)\nIzvajalci: Matj
 až Rot\, Luka Sevšek\nProstor: Laboratory LAP SP-70
END:VEVENT
BEGIN:VEVENT
SUMMARY:Advanced forming processes (NPPM)\, Laboratory excercises (VL)\, [
 S4]
DTSTART;TZID=Europe/Ljubljana:20260302T160000
DTEND;TZID=Europe/Ljubljana:20260302T180000
DTSTAMP:20260425T202936Z
UID:fs-AFLABS-URNIK:srecanje:17212-2026-03-02 16:00:00+01:00
DESCRIPTION:Predmet: Advanced forming processes (NPPM)\, Laboratory excerc
 ises (VL)\, [S4]\nLetniki: Production engineering (MAG-1)\nIzvajalci: Matj
 až Rot\, Luka Sevšek\nProstor: Laboratory LAP SP-70
END:VEVENT
BEGIN:VEVENT
SUMMARY:Advanced forming processes (NPPM)\, Laboratory excercises (VL)\, [
 S4]
DTSTART;TZID=Europe/Ljubljana:20260309T160000
DTEND;TZID=Europe/Ljubljana:20260309T180000
DTSTAMP:20260425T202936Z
UID:fs-AFLABS-URNIK:srecanje:17212-2026-03-09 16:00:00+01:00
DESCRIPTION:Predmet: Advanced forming processes (NPPM)\, Laboratory excerc
 ises (VL)\, [S4]\nLetniki: Production engineering (MAG-1)\nIzvajalci: Matj
 až Rot\, Luka Sevšek\nProstor: Laboratory LAP SP-70
END:VEVENT
BEGIN:VEVENT
SUMMARY:Advanced forming processes (NPPM)\, Laboratory excercises (VL)\, [
 S5]
DTSTART;TZID=Europe/Ljubljana:20260306T080000
DTEND;TZID=Europe/Ljubljana:20260306T100000
DTSTAMP:20260425T202936Z
UID:fs-AFLABS-URNIK:srecanje:17213-2026-03-06 08:00:00+01:00
DESCRIPTION:Predmet: Advanced forming processes (NPPM)\, Laboratory excerc
 ises (VL)\, [S5]\nLetniki: Production engineering (MAG-1)\nIzvajalci: Matj
 až Rot\, Luka Sevšek\nProstor: Laboratory LAP SP-70
END:VEVENT
BEGIN:VEVENT
SUMMARY:Advanced forming processes (NPPM)\, Laboratory excercises (VL)\, [
 S6]
DTSTART;TZID=Europe/Ljubljana:20260306T120000
DTEND;TZID=Europe/Ljubljana:20260306T140000
DTSTAMP:20260425T202936Z
UID:fs-AFLABS-URNIK:srecanje:17214-2026-03-06 12:00:00+01:00
DESCRIPTION:Predmet: Advanced forming processes (NPPM)\, Laboratory excerc
 ises (VL)\, [S6]\nLetniki: Production engineering (MAG-1)\nIzvajalci: Matj
 až Rot\, Luka Sevšek\nProstor: Laboratory LAP SP-70
END:VEVENT
BEGIN:VEVENT
SUMMARY:Advanced forming processes (NPPM)\, Laboratory excercises (VL)\, [
 S7]
DTSTART;TZID=Europe/Ljubljana:20260306T140000
DTEND;TZID=Europe/Ljubljana:20260306T160000
DTSTAMP:20260425T202936Z
UID:fs-AFLABS-URNIK:srecanje:17215-2026-03-06 14:00:00+01:00
DESCRIPTION:Predmet: Advanced forming processes (NPPM)\, Laboratory excerc
 ises (VL)\, [S7]\nLetniki: Production engineering (MAG-1)\nIzvajalci: Matj
 až Rot\, Luka Sevšek\nProstor: Laboratory LAP SP-70
END:VEVENT
BEGIN:VEVENT
SUMMARY:Advanced forming processes (NPPM)\, Laboratory excercises (VL)\, [
 S8]
DTSTART;TZID=Europe/Ljubljana:20260306T160000
DTEND;TZID=Europe/Ljubljana:20260306T180000
DTSTAMP:20260425T202936Z
UID:fs-AFLABS-URNIK:srecanje:17216-2026-03-06 16:00:00+01:00
DESCRIPTION:Predmet: Advanced forming processes (NPPM)\, Laboratory excerc
 ises (VL)\, [S8]\nLetniki: Production engineering (MAG-1)\nIzvajalci: Matj
 až Rot\, Luka Sevšek\nProstor: Laboratory LAP SP-70
END:VEVENT
END:VCALENDAR
