BEGIN:VCALENDAR
VERSION:2.0
PRODID:-//AFLabs urnik izvoz - fs//aflabs.si//SI
NAME:UL FS Urnik
X-WR-CALNAME:UL FS Urnik
DTSTAMP:20260423T233714Z
REFRESH-INTERVAL:PT1H
SOURCE:https://urnik.fs.uni-lj.si/en/teacher/844/?day=2023-07-24&export=1
URL:https://urnik.fs.uni-lj.si/en/teacher/844/?day=2023-07-24&export=1
X-PUBLISHED-TTL:PT1H
X-WR-TIMEZONE:Europe/Ljubljana
BEGIN:VTIMEZONE
TZID:Europe/Ljubljana
BEGIN:DAYLIGHT
DTSTART:20260329T020000
RDATE:20260329T020000
RDATE:20270328T020000
TZNAME:CEST
TZOFFSETFROM:+0100
TZOFFSETTO:+0200
END:DAYLIGHT
BEGIN:STANDARD
DTSTART:20261025T030000
RDATE:20261025T030000
RDATE:20271031T030000
TZNAME:CET
TZOFFSETFROM:+0200
TZOFFSETTO:+0100
END:STANDARD
END:VTIMEZONE
BEGIN:VEVENT
SUMMARY:Izpit: Energetski stroji in naprave - PAP
DTSTART;TZID=Europe/Ljubljana:20230623T120000
DTEND;TZID=Europe/Ljubljana:20230623T140000
DTSTAMP:20260423T233714Z
UID:fs-AFLABS-URNIK:rezervacija:2096
ATTENDEE:Design of machines and devices (PAP-2)
ATTENDEE:Energy engineering (PAP-2)
ATTENDEE:Konstruiranje strojev in naprav (PAP-2)
ATTENDEE:Mechatronics (PAP-2)
ATTENDEE:Process engineering (PAP-2)
ATTENDEE:Production engineering (PAP-2)
ATTENDEE:Production technologies (PAP-2)
CATEGORIES:Reservation
COLOR:royalblue
DESCRIPTION:Predmeti: Energy machines and appliances - PAP (ESNP)\nLetniki
 : Design of machines and devices (PAP-2)\, Energy engineering (PAP-2)\, Me
 chatronics (PAP-2)\, Process engineering (PAP-2)\, Production engineering 
 (PAP-2)\, Production technologies (PAP-2)\, Konstruiranje strojev in napra
 v (PAP-2)\nIzvajalci: Mihael Sekavčnik\nProstori: Lecture hall III/4
LOCATION:Lecture hall III/4
ORGANIZER:Mihael Sekavčnik
X-WR-TIMEZONE:Europe/Ljubljana
END:VEVENT
BEGIN:VEVENT
SUMMARY:Izpit: Energetski sistemi (6025)
DTSTART;TZID=Europe/Ljubljana:20230825T110000
DTEND;TZID=Europe/Ljubljana:20230825T130000
DTSTAMP:20260423T233714Z
UID:fs-AFLABS-URNIK:rezervacija:2101
CATEGORIES:Reservation
COLOR:royalblue
DESCRIPTION:Predmeti: \nLetniki: \nIzvajalci: Mihael Sekavčnik\nProstori:
  Lecture hall III/3A
LOCATION:Lecture hall III/3A
ORGANIZER:Mihael Sekavčnik
X-WR-TIMEZONE:Europe/Ljubljana
END:VEVENT
BEGIN:VEVENT
SUMMARY:Izpit: Energetski stroji in naprave
DTSTART;TZID=Europe/Ljubljana:20230824T110000
DTEND;TZID=Europe/Ljubljana:20230824T130000
DTSTAMP:20260423T233714Z
UID:fs-AFLABS-URNIK:rezervacija:2104
ATTENDEE:RRP-3 (RRP-3)
CATEGORIES:Reservation
COLOR:royalblue
DESCRIPTION:Predmeti: Power Engineering (2047)\nLetniki: RRP-3 (RRP-3)\nIz
 vajalci: Mihael Sekavčnik\nProstori: Lecture hall IV/2
LOCATION:Lecture hall IV/2
ORGANIZER:Mihael Sekavčnik
X-WR-TIMEZONE:Europe/Ljubljana
END:VEVENT
BEGIN:VEVENT
SUMMARY:Izpit: Energije in okolje (2004)
DTSTART;TZID=Europe/Ljubljana:20230821T080000
DTEND;TZID=Europe/Ljubljana:20230821T100000
DTSTAMP:20260423T233714Z
UID:fs-AFLABS-URNIK:rezervacija:2106
CATEGORIES:Reservation
COLOR:royalblue
DESCRIPTION:Predmeti: \nLetniki: \nIzvajalci: Mihael Sekavčnik\nProstori:
  Lecture hall III/2
LOCATION:Lecture hall III/2
ORGANIZER:Mihael Sekavčnik
X-WR-TIMEZONE:Europe/Ljubljana
END:VEVENT
BEGIN:VEVENT
SUMMARY:Izpit: Energy Conversion Systems (6003-M)
DTSTART;TZID=Europe/Ljubljana:20230628T160000
DTEND;TZID=Europe/Ljubljana:20230628T180000
DTSTAMP:20260423T233714Z
UID:fs-AFLABS-URNIK:rezervacija:2108
CATEGORIES:Reservation
COLOR:royalblue
DESCRIPTION:Predmeti: \nLetniki: \nIzvajalci: Mihael Sekavčnik\nProstori:
  Lecture hall III/3A
LOCATION:Lecture hall III/3A
ORGANIZER:Mihael Sekavčnik
X-WR-TIMEZONE:Europe/Ljubljana
END:VEVENT
BEGIN:VEVENT
SUMMARY:Izpit: Gospodarjenje z energijo (6015)
DTSTART;TZID=Europe/Ljubljana:20230630T110000
DTEND;TZID=Europe/Ljubljana:20230630T130000
DTSTAMP:20260423T233714Z
UID:fs-AFLABS-URNIK:rezervacija:2110
CATEGORIES:Reservation
COLOR:royalblue
DESCRIPTION:Predmeti: \nLetniki: \nIzvajalci: Mihael Sekavčnik\nProstori:
  Lecture hall III/3B
LOCATION:Lecture hall III/3B
ORGANIZER:Mihael Sekavčnik
X-WR-TIMEZONE:Europe/Ljubljana
END:VEVENT
BEGIN:VEVENT
SUMMARY:Izpit: Gospodarjenje z energijo (6015)
DTSTART;TZID=Europe/Ljubljana:20230818T150000
DTEND;TZID=Europe/Ljubljana:20230818T170000
DTSTAMP:20260423T233714Z
UID:fs-AFLABS-URNIK:rezervacija:2111
CATEGORIES:Reservation
COLOR:royalblue
DESCRIPTION:Predmeti: \nLetniki: \nIzvajalci: Mihael Sekavčnik\nProstori:
  Lecture hall IV/4
LOCATION:Lecture hall IV/4
ORGANIZER:Mihael Sekavčnik
X-WR-TIMEZONE:Europe/Ljubljana
END:VEVENT
BEGIN:VEVENT
SUMMARY:Izpit: Energetika v krožnem gospodarstvu
DTSTART;TZID=Europe/Ljubljana:20230818T150000
DTEND;TZID=Europe/Ljubljana:20230818T170000
DTSTAMP:20260423T233714Z
UID:fs-AFLABS-URNIK:rezervacija:2114
ATTENDEE:Energy engineering (MAG-2)
CATEGORIES:Reservation
COLOR:royalblue
DESCRIPTION:Predmeti: Energy supply in circular economy (EKGM)\nLetniki: E
 nergy engineering (MAG-2)\nIzvajalci: Mihael Sekavčnik\nProstori: Lecture
  hall IV/4
LOCATION:Lecture hall IV/4
ORGANIZER:Mihael Sekavčnik
X-WR-TIMEZONE:Europe/Ljubljana
END:VEVENT
BEGIN:VEVENT
SUMMARY:Izpit: Napredne tehnologije v energetiki
DTSTART;TZID=Europe/Ljubljana:20230626T120000
DTEND;TZID=Europe/Ljubljana:20230626T140000
DTSTAMP:20260423T233714Z
UID:fs-AFLABS-URNIK:rezervacija:2118
ATTENDEE:Energetsko, procesno in okoljsko inženirstvo - Energetsko strojn
 ištvo (PAP-3)
CATEGORIES:Reservation
COLOR:royalblue
DESCRIPTION:Predmeti: Advanced technologies in energy supply (3058)\nLetni
 ki: Energetsko\, procesno in okoljsko inženirstvo - Energetsko strojništ
 vo (PAP-3)\nIzvajalci: Mihael Sekavčnik\nProstori: Lecture hall IV/2
LOCATION:Lecture hall IV/2
ORGANIZER:Mihael Sekavčnik
X-WR-TIMEZONE:Europe/Ljubljana
END:VEVENT
BEGIN:VEVENT
SUMMARY:Izpit: Napredne tehnologije v energetiki
DTSTART;TZID=Europe/Ljubljana:20230821T100000
DTEND;TZID=Europe/Ljubljana:20230821T120000
DTSTAMP:20260423T233714Z
UID:fs-AFLABS-URNIK:rezervacija:2119
ATTENDEE:Energetsko, procesno in okoljsko inženirstvo - Energetsko strojn
 ištvo (PAP-3)
CATEGORIES:Reservation
COLOR:royalblue
DESCRIPTION:Predmeti: Advanced technologies in energy supply (3058)\nLetni
 ki: Energetsko\, procesno in okoljsko inženirstvo - Energetsko strojništ
 vo (PAP-3)\nIzvajalci: Mihael Sekavčnik\nProstori: Lecture hall III/2
LOCATION:Lecture hall III/2
ORGANIZER:Mihael Sekavčnik
X-WR-TIMEZONE:Europe/Ljubljana
END:VEVENT
BEGIN:VEVENT
SUMMARY:Izpit: Energetski stroji in naprave - PAP
DTSTART;TZID=Europe/Ljubljana:20230825T110000
DTEND;TZID=Europe/Ljubljana:20230825T130000
DTSTAMP:20260423T233714Z
UID:fs-AFLABS-URNIK:rezervacija:2159
ATTENDEE:Design of machines and devices (PAP-2)
ATTENDEE:Energy engineering (PAP-2)
ATTENDEE:Konstruiranje strojev in naprav (PAP-2)
ATTENDEE:Mechatronics (PAP-2)
ATTENDEE:Process engineering (PAP-2)
ATTENDEE:Production engineering (PAP-2)
ATTENDEE:Production technologies (PAP-2)
CATEGORIES:Reservation
COLOR:royalblue
DESCRIPTION:Predmeti: Energy machines and appliances - PAP (ESNP)\nLetniki
 : Design of machines and devices (PAP-2)\, Energy engineering (PAP-2)\, Me
 chatronics (PAP-2)\, Process engineering (PAP-2)\, Production engineering 
 (PAP-2)\, Production technologies (PAP-2)\, Konstruiranje strojev in napra
 v (PAP-2)\nIzvajalci: Mihael Sekavčnik\nProstori: Lecture hall II/5
LOCATION:Lecture hall II/5
ORGANIZER:Mihael Sekavčnik
X-WR-TIMEZONE:Europe/Ljubljana
END:VEVENT
BEGIN:VEVENT
SUMMARY:Izpit: Energetski sistemi
DTSTART;TZID=Europe/Ljubljana:20230818T170000
DTEND;TZID=Europe/Ljubljana:20230818T190000
DTSTAMP:20260423T233714Z
UID:fs-AFLABS-URNIK:rezervacija:2162
ATTENDEE:Energy engineering (MAG-1)
CATEGORIES:Reservation
COLOR:royalblue
DESCRIPTION:Predmeti: Energy conversion systems (ENSM)\nLetniki: Energy en
 gineering (MAG-1)\nIzvajalci: Mihael Sekavčnik\nProstori: Lecture hall IV
 /4
LOCATION:Lecture hall IV/4
ORGANIZER:Mihael Sekavčnik
X-WR-TIMEZONE:Europe/Ljubljana
END:VEVENT
BEGIN:VEVENT
SUMMARY:Izpit: Energy Conversion Systems (6003-M)
DTSTART;TZID=Europe/Ljubljana:20230818T170000
DTEND;TZID=Europe/Ljubljana:20230818T190000
DTSTAMP:20260423T233714Z
UID:fs-AFLABS-URNIK:rezervacija:2163
CATEGORIES:Reservation
COLOR:royalblue
DESCRIPTION:Predmeti: \nLetniki: \nIzvajalci: Mihael Sekavčnik\nProstori:
  Lecture hall IV/4
LOCATION:Lecture hall IV/4
ORGANIZER:Mihael Sekavčnik
X-WR-TIMEZONE:Europe/Ljubljana
END:VEVENT
BEGIN:VEVENT
SUMMARY:Izpit: Energije in okolje (2004)
DTSTART;TZID=Europe/Ljubljana:20230629T080000
DTEND;TZID=Europe/Ljubljana:20230629T100000
DTSTAMP:20260423T233714Z
UID:fs-AFLABS-URNIK:rezervacija:2166
CATEGORIES:Reservation
COLOR:royalblue
DESCRIPTION:Predmeti: \nLetniki: \nIzvajalci: Mihael Sekavčnik\nProstori:
  Lecture hall III/3B
LOCATION:Lecture hall III/3B
ORGANIZER:Mihael Sekavčnik
X-WR-TIMEZONE:Europe/Ljubljana
END:VEVENT
END:VCALENDAR
