BEGIN:VCALENDAR
VERSION:2.0
PRODID:-//AFLabs urnik izvoz - fs//aflabs.si//SI
NAME:UL FS Urnik
X-WR-CALNAME:UL FS Urnik
DTSTAMP:20260421T190304Z
REFRESH-INTERVAL:PT1H
SOURCE:https://urnik.fs.uni-lj.si/en/teacher/844/?day=2024-04-01&export=1
URL:https://urnik.fs.uni-lj.si/en/teacher/844/?day=2024-04-01&export=1
X-PUBLISHED-TTL:PT1H
X-WR-TIMEZONE:Europe/Ljubljana
BEGIN:VTIMEZONE
TZID:Europe/Ljubljana
BEGIN:DAYLIGHT
DTSTART:20260329T020000
RDATE:20260329T020000
RDATE:20270328T020000
TZNAME:CEST
TZOFFSETFROM:+0100
TZOFFSETTO:+0200
END:DAYLIGHT
BEGIN:STANDARD
DTSTART:20261025T030000
RDATE:20261025T030000
RDATE:20271031T030000
TZNAME:CET
TZOFFSETFROM:+0200
TZOFFSETTO:+0100
END:STANDARD
END:VTIMEZONE
BEGIN:VEVENT
SUMMARY:Energy machines and appliances - PAP (ESNP)\, Lectures (P)
DTSTART;TZID=Europe/Ljubljana:20240220T073000
DTEND;TZID=Europe/Ljubljana:20240220T093000
DTSTAMP:20260421T190304Z
UID:fs-AFLABS-URNIK:srecanje:3644-2024-02-20 07:30:00+01:00
DESCRIPTION:Predmet: Energy machines and appliances - PAP (ESNP)\, Lecture
 s (P)\nLetniki: Design of machines and devices (PAP-2)\, Energy engineerin
 g (PAP-2)\, Mechatronics (PAP-2)\, Process engineering (PAP-2)\, Productio
 n engineering (PAP-2)\, Production technologies (PAP-2)\, Konstruiranje st
 rojev in naprav (PAP-2)\nIzvajalci: Mihael Sekavčnik\nProstor: Lecture ha
 ll V/2
END:VEVENT
BEGIN:VEVENT
SUMMARY:Energy machines and appliances - PAP (ESNP)\, Lectures (P)
DTSTART;TZID=Europe/Ljubljana:20240227T073000
DTEND;TZID=Europe/Ljubljana:20240227T093000
DTSTAMP:20260421T190304Z
UID:fs-AFLABS-URNIK:srecanje:3644-2024-02-27 07:30:00+01:00
DESCRIPTION:Predmet: Energy machines and appliances - PAP (ESNP)\, Lecture
 s (P)\nLetniki: Design of machines and devices (PAP-2)\, Energy engineerin
 g (PAP-2)\, Mechatronics (PAP-2)\, Process engineering (PAP-2)\, Productio
 n engineering (PAP-2)\, Production technologies (PAP-2)\, Konstruiranje st
 rojev in naprav (PAP-2)\nIzvajalci: Mihael Sekavčnik\nProstor: Lecture ha
 ll V/2
END:VEVENT
BEGIN:VEVENT
SUMMARY:Energy machines and appliances - PAP (ESNP)\, Lectures (P)
DTSTART;TZID=Europe/Ljubljana:20240305T073000
DTEND;TZID=Europe/Ljubljana:20240305T093000
DTSTAMP:20260421T190304Z
UID:fs-AFLABS-URNIK:srecanje:3644-2024-03-05 07:30:00+01:00
DESCRIPTION:Predmet: Energy machines and appliances - PAP (ESNP)\, Lecture
 s (P)\nLetniki: Design of machines and devices (PAP-2)\, Energy engineerin
 g (PAP-2)\, Mechatronics (PAP-2)\, Process engineering (PAP-2)\, Productio
 n engineering (PAP-2)\, Production technologies (PAP-2)\, Konstruiranje st
 rojev in naprav (PAP-2)\nIzvajalci: Mihael Sekavčnik\nProstor: Lecture ha
 ll V/2
END:VEVENT
BEGIN:VEVENT
SUMMARY:Energy machines and appliances - PAP (ESNP)\, Lectures (P)
DTSTART;TZID=Europe/Ljubljana:20240312T073000
DTEND;TZID=Europe/Ljubljana:20240312T093000
DTSTAMP:20260421T190304Z
UID:fs-AFLABS-URNIK:srecanje:3644-2024-03-12 07:30:00+01:00
DESCRIPTION:Predmet: Energy machines and appliances - PAP (ESNP)\, Lecture
 s (P)\nLetniki: Design of machines and devices (PAP-2)\, Energy engineerin
 g (PAP-2)\, Mechatronics (PAP-2)\, Process engineering (PAP-2)\, Productio
 n engineering (PAP-2)\, Production technologies (PAP-2)\, Konstruiranje st
 rojev in naprav (PAP-2)\nIzvajalci: Mihael Sekavčnik\nProstor: Lecture ha
 ll V/2
END:VEVENT
BEGIN:VEVENT
SUMMARY:Energy machines and appliances - PAP (ESNP)\, Lectures (P)
DTSTART;TZID=Europe/Ljubljana:20240319T073000
DTEND;TZID=Europe/Ljubljana:20240319T093000
DTSTAMP:20260421T190304Z
UID:fs-AFLABS-URNIK:srecanje:3644-2024-03-19 07:30:00+01:00
DESCRIPTION:Predmet: Energy machines and appliances - PAP (ESNP)\, Lecture
 s (P)\nLetniki: Design of machines and devices (PAP-2)\, Energy engineerin
 g (PAP-2)\, Mechatronics (PAP-2)\, Process engineering (PAP-2)\, Productio
 n engineering (PAP-2)\, Production technologies (PAP-2)\, Konstruiranje st
 rojev in naprav (PAP-2)\nIzvajalci: Mihael Sekavčnik\nProstor: Lecture ha
 ll V/2
END:VEVENT
BEGIN:VEVENT
SUMMARY:Energy machines and appliances - PAP (ESNP)\, Lectures (P)
DTSTART;TZID=Europe/Ljubljana:20240326T073000
DTEND;TZID=Europe/Ljubljana:20240326T093000
DTSTAMP:20260421T190304Z
UID:fs-AFLABS-URNIK:srecanje:3644-2024-03-26 07:30:00+01:00
DESCRIPTION:Predmet: Energy machines and appliances - PAP (ESNP)\, Lecture
 s (P)\nLetniki: Design of machines and devices (PAP-2)\, Energy engineerin
 g (PAP-2)\, Mechatronics (PAP-2)\, Process engineering (PAP-2)\, Productio
 n engineering (PAP-2)\, Production technologies (PAP-2)\, Konstruiranje st
 rojev in naprav (PAP-2)\nIzvajalci: Mihael Sekavčnik\nProstor: Lecture ha
 ll V/2
END:VEVENT
BEGIN:VEVENT
SUMMARY:Energy machines and appliances - PAP (ESNP)\, Lectures (P)
DTSTART;TZID=Europe/Ljubljana:20240402T073000
DTEND;TZID=Europe/Ljubljana:20240402T093000
DTSTAMP:20260421T190304Z
UID:fs-AFLABS-URNIK:srecanje:3644-2024-04-02 07:30:00+02:00
DESCRIPTION:Predmet: Energy machines and appliances - PAP (ESNP)\, Lecture
 s (P)\nLetniki: Design of machines and devices (PAP-2)\, Energy engineerin
 g (PAP-2)\, Mechatronics (PAP-2)\, Process engineering (PAP-2)\, Productio
 n engineering (PAP-2)\, Production technologies (PAP-2)\, Konstruiranje st
 rojev in naprav (PAP-2)\nIzvajalci: Mihael Sekavčnik\nProstor: Lecture ha
 ll V/2
END:VEVENT
BEGIN:VEVENT
SUMMARY:Energy machines and appliances - PAP (ESNP)\, Lectures (P)
DTSTART;TZID=Europe/Ljubljana:20240409T073000
DTEND;TZID=Europe/Ljubljana:20240409T093000
DTSTAMP:20260421T190304Z
UID:fs-AFLABS-URNIK:srecanje:3644-2024-04-09 07:30:00+02:00
DESCRIPTION:Predmet: Energy machines and appliances - PAP (ESNP)\, Lecture
 s (P)\nLetniki: Design of machines and devices (PAP-2)\, Energy engineerin
 g (PAP-2)\, Mechatronics (PAP-2)\, Process engineering (PAP-2)\, Productio
 n engineering (PAP-2)\, Production technologies (PAP-2)\, Konstruiranje st
 rojev in naprav (PAP-2)\nIzvajalci: Mihael Sekavčnik\nProstor: Lecture ha
 ll V/2
END:VEVENT
BEGIN:VEVENT
SUMMARY:Energy machines and appliances - PAP (ESNP)\, Lectures (P)
DTSTART;TZID=Europe/Ljubljana:20240416T073000
DTEND;TZID=Europe/Ljubljana:20240416T093000
DTSTAMP:20260421T190304Z
UID:fs-AFLABS-URNIK:srecanje:3644-2024-04-16 07:30:00+02:00
DESCRIPTION:Predmet: Energy machines and appliances - PAP (ESNP)\, Lecture
 s (P)\nLetniki: Design of machines and devices (PAP-2)\, Energy engineerin
 g (PAP-2)\, Mechatronics (PAP-2)\, Process engineering (PAP-2)\, Productio
 n engineering (PAP-2)\, Production technologies (PAP-2)\, Konstruiranje st
 rojev in naprav (PAP-2)\nIzvajalci: Mihael Sekavčnik\nProstor: Lecture ha
 ll V/2
END:VEVENT
BEGIN:VEVENT
SUMMARY:Energy machines and appliances - PAP (ESNP)\, Lectures (P)
DTSTART;TZID=Europe/Ljubljana:20240423T073000
DTEND;TZID=Europe/Ljubljana:20240423T093000
DTSTAMP:20260421T190304Z
UID:fs-AFLABS-URNIK:srecanje:3644-2024-04-23 07:30:00+02:00
DESCRIPTION:Predmet: Energy machines and appliances - PAP (ESNP)\, Lecture
 s (P)\nLetniki: Design of machines and devices (PAP-2)\, Energy engineerin
 g (PAP-2)\, Mechatronics (PAP-2)\, Process engineering (PAP-2)\, Productio
 n engineering (PAP-2)\, Production technologies (PAP-2)\, Konstruiranje st
 rojev in naprav (PAP-2)\nIzvajalci: Mihael Sekavčnik\nProstor: Lecture ha
 ll V/2
END:VEVENT
BEGIN:VEVENT
SUMMARY:Energy machines and appliances - PAP (ESNP)\, Lectures (P)
DTSTART;TZID=Europe/Ljubljana:20240430T073000
DTEND;TZID=Europe/Ljubljana:20240430T093000
DTSTAMP:20260421T190304Z
UID:fs-AFLABS-URNIK:srecanje:3644-2024-04-30 07:30:00+02:00
DESCRIPTION:Predmet: Energy machines and appliances - PAP (ESNP)\, Lecture
 s (P)\nLetniki: Design of machines and devices (PAP-2)\, Energy engineerin
 g (PAP-2)\, Mechatronics (PAP-2)\, Process engineering (PAP-2)\, Productio
 n engineering (PAP-2)\, Production technologies (PAP-2)\, Konstruiranje st
 rojev in naprav (PAP-2)\nIzvajalci: Mihael Sekavčnik\nProstor: Lecture ha
 ll V/2
END:VEVENT
BEGIN:VEVENT
SUMMARY:Energy machines and appliances - PAP (ESNP)\, Lectures (P)
DTSTART;TZID=Europe/Ljubljana:20240507T073000
DTEND;TZID=Europe/Ljubljana:20240507T093000
DTSTAMP:20260421T190304Z
UID:fs-AFLABS-URNIK:srecanje:3644-2024-05-07 07:30:00+02:00
DESCRIPTION:Predmet: Energy machines and appliances - PAP (ESNP)\, Lecture
 s (P)\nLetniki: Design of machines and devices (PAP-2)\, Energy engineerin
 g (PAP-2)\, Mechatronics (PAP-2)\, Process engineering (PAP-2)\, Productio
 n engineering (PAP-2)\, Production technologies (PAP-2)\, Konstruiranje st
 rojev in naprav (PAP-2)\nIzvajalci: Mihael Sekavčnik\nProstor: Lecture ha
 ll V/2
END:VEVENT
BEGIN:VEVENT
SUMMARY:Energy machines and appliances - PAP (ESNP)\, Lectures (P)
DTSTART;TZID=Europe/Ljubljana:20240514T073000
DTEND;TZID=Europe/Ljubljana:20240514T093000
DTSTAMP:20260421T190304Z
UID:fs-AFLABS-URNIK:srecanje:3644-2024-05-14 07:30:00+02:00
DESCRIPTION:Predmet: Energy machines and appliances - PAP (ESNP)\, Lecture
 s (P)\nLetniki: Design of machines and devices (PAP-2)\, Energy engineerin
 g (PAP-2)\, Mechatronics (PAP-2)\, Process engineering (PAP-2)\, Productio
 n engineering (PAP-2)\, Production technologies (PAP-2)\, Konstruiranje st
 rojev in naprav (PAP-2)\nIzvajalci: Mihael Sekavčnik\nProstor: Lecture ha
 ll V/2
END:VEVENT
BEGIN:VEVENT
SUMMARY:Energy machines and appliances - PAP (ESNP)\, Lectures (P)
DTSTART;TZID=Europe/Ljubljana:20240521T073000
DTEND;TZID=Europe/Ljubljana:20240521T093000
DTSTAMP:20260421T190304Z
UID:fs-AFLABS-URNIK:srecanje:3644-2024-05-21 07:30:00+02:00
DESCRIPTION:Predmet: Energy machines and appliances - PAP (ESNP)\, Lecture
 s (P)\nLetniki: Design of machines and devices (PAP-2)\, Energy engineerin
 g (PAP-2)\, Mechatronics (PAP-2)\, Process engineering (PAP-2)\, Productio
 n engineering (PAP-2)\, Production technologies (PAP-2)\, Konstruiranje st
 rojev in naprav (PAP-2)\nIzvajalci: Mihael Sekavčnik\nProstor: Lecture ha
 ll V/2
END:VEVENT
BEGIN:VEVENT
SUMMARY:Energy machines and appliances - PAP (ESNP)\, Lectures (P)
DTSTART;TZID=Europe/Ljubljana:20240528T073000
DTEND;TZID=Europe/Ljubljana:20240528T093000
DTSTAMP:20260421T190304Z
UID:fs-AFLABS-URNIK:srecanje:3644-2024-05-28 07:30:00+02:00
DESCRIPTION:Predmet: Energy machines and appliances - PAP (ESNP)\, Lecture
 s (P)\nLetniki: Design of machines and devices (PAP-2)\, Energy engineerin
 g (PAP-2)\, Mechatronics (PAP-2)\, Process engineering (PAP-2)\, Productio
 n engineering (PAP-2)\, Production technologies (PAP-2)\, Konstruiranje st
 rojev in naprav (PAP-2)\nIzvajalci: Mihael Sekavčnik\nProstor: Lecture ha
 ll V/2
END:VEVENT
BEGIN:VEVENT
SUMMARY:Sestanek
DTSTART;TZID=Europe/Ljubljana:20240419T100000
DTEND;TZID=Europe/Ljubljana:20240419T110000
DTSTAMP:20260421T190304Z
UID:fs-AFLABS-URNIK:rezervacija:4585
CATEGORIES:Reservation
COLOR:royalblue
DESCRIPTION:Predmeti: \nLetniki: \nIzvajalci: Mihael Sekavčnik\nProstori:
  Lecture hall II/3A
LOCATION:Lecture hall II/3A
ORGANIZER:Mihael Sekavčnik
X-WR-TIMEZONE:Europe/Ljubljana
END:VEVENT
BEGIN:VEVENT
SUMMARY:1. kolokvij Energetski stroji in naprave (2L\, PAP)
DTSTART;TZID=Europe/Ljubljana:20240422T180000
DTEND;TZID=Europe/Ljubljana:20240422T200000
DTSTAMP:20260421T190304Z
UID:fs-AFLABS-URNIK:rezervacija:4614
ATTENDEE:Design of machines and devices (PAP-2)
ATTENDEE:Energy engineering (PAP-2)
ATTENDEE:Konstruiranje strojev in naprav (PAP-2)
ATTENDEE:Mechatronics (PAP-2)
ATTENDEE:Process engineering (PAP-2)
ATTENDEE:Production engineering (PAP-2)
ATTENDEE:Production technologies (PAP-2)
CATEGORIES:Reservation
COLOR:royalblue
DESCRIPTION:Predmeti: Energy machines and appliances - PAP (ESNP)\nLetniki
 : Design of machines and devices (PAP-2)\, Energy engineering (PAP-2)\, Me
 chatronics (PAP-2)\, Process engineering (PAP-2)\, Production engineering 
 (PAP-2)\, Production technologies (PAP-2)\, Konstruiranje strojev in napra
 v (PAP-2)\nIzvajalci: Andrej Lotrič\, Mihael Sekavčnik\, Rok Stropnik\nP
 rostori: Lecture hall V/8
LOCATION:Lecture hall V/8
ORGANIZER:Andrej Lotrič, Mihael Sekavčnik, Rok Stropnik
X-WR-TIMEZONE:Europe/Ljubljana
END:VEVENT
END:VCALENDAR
