BEGIN:VCALENDAR
VERSION:2.0
PRODID:-//AFLabs urnik izvoz - fs//aflabs.si//SI
NAME:UL FS Urnik
X-WR-CALNAME:UL FS Urnik
DTSTAMP:20260424T211453Z
REFRESH-INTERVAL:PT1H
SOURCE:https://urnik.fs.uni-lj.si/en/teacher/844/?day=2025-06-30&export=1
URL:https://urnik.fs.uni-lj.si/en/teacher/844/?day=2025-06-30&export=1
X-PUBLISHED-TTL:PT1H
X-WR-TIMEZONE:Europe/Ljubljana
BEGIN:VTIMEZONE
TZID:Europe/Ljubljana
BEGIN:DAYLIGHT
DTSTART:20260329T020000
RDATE:20260329T020000
RDATE:20270328T020000
TZNAME:CEST
TZOFFSETFROM:+0100
TZOFFSETTO:+0200
END:DAYLIGHT
BEGIN:STANDARD
DTSTART:20261025T030000
RDATE:20261025T030000
RDATE:20271031T030000
TZNAME:CET
TZOFFSETFROM:+0200
TZOFFSETTO:+0100
END:STANDARD
END:VTIMEZONE
BEGIN:VEVENT
SUMMARY:Energy machines and appliances - PAP (ESNP)\, Lectures (P)
DTSTART;TZID=Europe/Ljubljana:20250527T073000
DTEND;TZID=Europe/Ljubljana:20250527T093000
DTSTAMP:20260424T211453Z
UID:fs-AFLABS-URNIK:srecanje:9445-2025-05-27 07:30:00+02:00
DESCRIPTION:Predmet: Energy machines and appliances - PAP (ESNP)\, Lecture
 s (P)\nLetniki: Design of machines and devices (PAP-2)\, Energy engineerin
 g (PAP-2)\, Mechatronics (PAP-2)\, Process engineering (PAP-2)\, Productio
 n engineering (PAP-2)\, Production technologies (PAP-2)\, Konstruiranje st
 rojev in naprav (PAP-2)\nIzvajalci: Mihael Sekavčnik\nProstor: Lecture ha
 ll V/2
END:VEVENT
BEGIN:VEVENT
SUMMARY:Izpit: Energetika v krožnem gospodarstvu (6009-M) [dve oceni]
DTSTART;TZID=Europe/Ljubljana:20250613T100000
DTEND;TZID=Europe/Ljubljana:20250613T120000
DTSTAMP:20260424T211453Z
UID:fs-AFLABS-URNIK:rezervacija:6541
CATEGORIES:Reservation
COLOR:royalblue
DESCRIPTION:Predmeti: \nLetniki: \nIzvajalci: Mihael Sekavčnik\nProstori:
  Lecture hall IV/4
LOCATION:Lecture hall IV/4
ORGANIZER:Mihael Sekavčnik
X-WR-TIMEZONE:Europe/Ljubljana
END:VEVENT
BEGIN:VEVENT
SUMMARY:Izpit: Energetski stroji in naprave - PAP (3021-V) [dve oceni]
DTSTART;TZID=Europe/Ljubljana:20250606T080000
DTEND;TZID=Europe/Ljubljana:20250606T100000
DTSTAMP:20260424T211453Z
UID:fs-AFLABS-URNIK:rezervacija:6559
CATEGORIES:Reservation
COLOR:royalblue
DESCRIPTION:Predmeti: \nLetniki: \nIzvajalci: Mihael Sekavčnik\nProstori:
  Lecture hall IV/4
LOCATION:Lecture hall IV/4
ORGANIZER:Mihael Sekavčnik
X-WR-TIMEZONE:Europe/Ljubljana
END:VEVENT
BEGIN:VEVENT
SUMMARY:Izpit: Energetski stroji in naprave - PAP (3021-V) [dve oceni]
DTSTART;TZID=Europe/Ljubljana:20250620T120000
DTEND;TZID=Europe/Ljubljana:20250620T140000
DTSTAMP:20260424T211453Z
UID:fs-AFLABS-URNIK:rezervacija:6560
CATEGORIES:Reservation
COLOR:royalblue
DESCRIPTION:Predmeti: \nLetniki: \nIzvajalci: Mihael Sekavčnik\nProstori:
  Lecture hall III/4
LOCATION:Lecture hall III/4
ORGANIZER:Mihael Sekavčnik
X-WR-TIMEZONE:Europe/Ljubljana
END:VEVENT
BEGIN:VEVENT
SUMMARY:Izpit: Energetski stroji in naprave - RRP (2032-U) [dve oceni]
DTSTART;TZID=Europe/Ljubljana:20250619T100000
DTEND;TZID=Europe/Ljubljana:20250619T120000
DTSTAMP:20260424T211453Z
UID:fs-AFLABS-URNIK:rezervacija:6564
CATEGORIES:Reservation
COLOR:royalblue
DESCRIPTION:Predmeti: \nLetniki: \nIzvajalci: Mihael Sekavčnik\nProstori:
  Lecture hall V/8
LOCATION:Lecture hall V/8
ORGANIZER:Mihael Sekavčnik
X-WR-TIMEZONE:Europe/Ljubljana
END:VEVENT
BEGIN:VEVENT
SUMMARY:Izpit: Energetski stroji in naprave (2047)
DTSTART;TZID=Europe/Ljubljana:20250616T110000
DTEND;TZID=Europe/Ljubljana:20250616T130000
DTSTAMP:20260424T211453Z
UID:fs-AFLABS-URNIK:rezervacija:6567
CATEGORIES:Reservation
COLOR:royalblue
DESCRIPTION:Predmeti: \nLetniki: \nIzvajalci: Mihael Sekavčnik\nProstori:
  Lecture hall II/4
LOCATION:Lecture hall II/4
ORGANIZER:Mihael Sekavčnik
X-WR-TIMEZONE:Europe/Ljubljana
END:VEVENT
BEGIN:VEVENT
SUMMARY:Izpit: Napredne tehnologije v energetiki (3058)
DTSTART;TZID=Europe/Ljubljana:20250610T100000
DTEND;TZID=Europe/Ljubljana:20250610T120000
DTSTAMP:20260424T211453Z
UID:fs-AFLABS-URNIK:rezervacija:7125
CATEGORIES:Reservation
COLOR:royalblue
DESCRIPTION:Predmeti: \nLetniki: \nIzvajalci: Mihael Sekavčnik\nProstori:
  Lecture hall IV/2
LOCATION:Lecture hall IV/2
ORGANIZER:Mihael Sekavčnik
X-WR-TIMEZONE:Europe/Ljubljana
END:VEVENT
BEGIN:VEVENT
SUMMARY:Izpit: Trajnostne tehnologije v energetiki (3028-V) [dve oceni]
DTSTART;TZID=Europe/Ljubljana:20250610T100000
DTEND;TZID=Europe/Ljubljana:20250610T120000
DTSTAMP:20260424T211453Z
UID:fs-AFLABS-URNIK:rezervacija:7718
CATEGORIES:Reservation
COLOR:royalblue
DESCRIPTION:Predmeti: \nLetniki: \nIzvajalci: Mihael Sekavčnik\nProstori:
  Lecture hall IV/2
LOCATION:Lecture hall IV/2
ORGANIZER:Mihael Sekavčnik
X-WR-TIMEZONE:Europe/Ljubljana
END:VEVENT
END:VCALENDAR
