BEGIN:VCALENDAR
VERSION:2.0
PRODID:-//AFLabs urnik izvoz - fs//aflabs.si//SI
NAME:UL FS Urnik
X-WR-CALNAME:UL FS Urnik
DTSTAMP:20260426T034254Z
REFRESH-INTERVAL:PT1H
SOURCE:https://urnik.fs.uni-lj.si/en/teacher/844/?day=2025-07-21&export=1
URL:https://urnik.fs.uni-lj.si/en/teacher/844/?day=2025-07-21&export=1
X-PUBLISHED-TTL:PT1H
X-WR-TIMEZONE:Europe/Ljubljana
BEGIN:VTIMEZONE
TZID:Europe/Ljubljana
BEGIN:DAYLIGHT
DTSTART:20260329T020000
RDATE:20260329T020000
RDATE:20270328T020000
TZNAME:CEST
TZOFFSETFROM:+0100
TZOFFSETTO:+0200
END:DAYLIGHT
BEGIN:STANDARD
DTSTART:20261025T030000
RDATE:20261025T030000
RDATE:20271031T030000
TZNAME:CET
TZOFFSETFROM:+0200
TZOFFSETTO:+0100
END:STANDARD
END:VTIMEZONE
BEGIN:VEVENT
SUMMARY:Izpit: Energetika v krožnem gospodarstvu (6009-M) [dve oceni]
DTSTART;TZID=Europe/Ljubljana:20250814T150000
DTEND;TZID=Europe/Ljubljana:20250814T170000
DTSTAMP:20260426T034254Z
UID:fs-AFLABS-URNIK:rezervacija:6542
CATEGORIES:Reservation
COLOR:royalblue
DESCRIPTION:Predmeti: \nLetniki: \nIzvajalci: Mihael Sekavčnik\nProstori:
  Lecture hall IV/4
LOCATION:Lecture hall IV/4
ORGANIZER:Mihael Sekavčnik
X-WR-TIMEZONE:Europe/Ljubljana
END:VEVENT
BEGIN:VEVENT
SUMMARY:Izpit: Energetski sistemi (6003-M)
DTSTART;TZID=Europe/Ljubljana:20250814T170000
DTEND;TZID=Europe/Ljubljana:20250814T190000
DTSTAMP:20260426T034254Z
UID:fs-AFLABS-URNIK:rezervacija:6555
CATEGORIES:Reservation
COLOR:royalblue
DESCRIPTION:Predmeti: \nLetniki: \nIzvajalci: Mihael Sekavčnik\nProstori:
  Lecture hall IV/4
LOCATION:Lecture hall IV/4
ORGANIZER:Mihael Sekavčnik
X-WR-TIMEZONE:Europe/Ljubljana
END:VEVENT
BEGIN:VEVENT
SUMMARY:Izpit: Energetski sistemi (6003-M) [dve oceni]
DTSTART;TZID=Europe/Ljubljana:20250814T170000
DTEND;TZID=Europe/Ljubljana:20250814T190000
DTSTAMP:20260426T034254Z
UID:fs-AFLABS-URNIK:rezervacija:6558
CATEGORIES:Reservation
COLOR:royalblue
DESCRIPTION:Predmeti: \nLetniki: \nIzvajalci: Mihael Sekavčnik\nProstori:
  Lecture hall IV/4
LOCATION:Lecture hall IV/4
ORGANIZER:Mihael Sekavčnik
X-WR-TIMEZONE:Europe/Ljubljana
END:VEVENT
BEGIN:VEVENT
SUMMARY:Izpit: Energetski stroji in naprave - PAP (3021-V) [dve oceni]
DTSTART;TZID=Europe/Ljubljana:20250620T120000
DTEND;TZID=Europe/Ljubljana:20250620T140000
DTSTAMP:20260426T034254Z
UID:fs-AFLABS-URNIK:rezervacija:6560
CATEGORIES:Reservation
COLOR:royalblue
DESCRIPTION:Predmeti: \nLetniki: \nIzvajalci: Mihael Sekavčnik\nProstori:
  Lecture hall III/4
LOCATION:Lecture hall III/4
ORGANIZER:Mihael Sekavčnik
X-WR-TIMEZONE:Europe/Ljubljana
END:VEVENT
BEGIN:VEVENT
SUMMARY:Izpit: Energetski stroji in naprave - PAP (3021-V) [dve oceni]
DTSTART;TZID=Europe/Ljubljana:20250822T100000
DTEND;TZID=Europe/Ljubljana:20250822T120000
DTSTAMP:20260426T034254Z
UID:fs-AFLABS-URNIK:rezervacija:6561
CATEGORIES:Reservation
COLOR:royalblue
DESCRIPTION:Predmeti: \nLetniki: \nIzvajalci: Mihael Sekavčnik\nProstori:
  Lecture hall V/8
LOCATION:Lecture hall V/8
ORGANIZER:Mihael Sekavčnik
X-WR-TIMEZONE:Europe/Ljubljana
END:VEVENT
BEGIN:VEVENT
SUMMARY:Izpit: Energetski stroji in naprave - RRP (2032-U) [dve oceni]
DTSTART;TZID=Europe/Ljubljana:20250619T100000
DTEND;TZID=Europe/Ljubljana:20250619T120000
DTSTAMP:20260426T034254Z
UID:fs-AFLABS-URNIK:rezervacija:6564
CATEGORIES:Reservation
COLOR:royalblue
DESCRIPTION:Predmeti: \nLetniki: \nIzvajalci: Mihael Sekavčnik\nProstori:
  Lecture hall V/8
LOCATION:Lecture hall V/8
ORGANIZER:Mihael Sekavčnik
X-WR-TIMEZONE:Europe/Ljubljana
END:VEVENT
BEGIN:VEVENT
SUMMARY:Izpit: Energetski stroji in naprave - RRP (2032-U) [dve oceni]
DTSTART;TZID=Europe/Ljubljana:20250822T100000
DTEND;TZID=Europe/Ljubljana:20250822T120000
DTSTAMP:20260426T034254Z
UID:fs-AFLABS-URNIK:rezervacija:6565
CATEGORIES:Reservation
COLOR:royalblue
DESCRIPTION:Predmeti: \nLetniki: \nIzvajalci: Mihael Sekavčnik\nProstori:
  Lecture hall V/8
LOCATION:Lecture hall V/8
ORGANIZER:Mihael Sekavčnik
X-WR-TIMEZONE:Europe/Ljubljana
END:VEVENT
BEGIN:VEVENT
SUMMARY:Izpit: Energetski stroji in naprave (2047)
DTSTART;TZID=Europe/Ljubljana:20250616T110000
DTEND;TZID=Europe/Ljubljana:20250616T130000
DTSTAMP:20260426T034254Z
UID:fs-AFLABS-URNIK:rezervacija:6567
CATEGORIES:Reservation
COLOR:royalblue
DESCRIPTION:Predmeti: \nLetniki: \nIzvajalci: Mihael Sekavčnik\nProstori:
  Lecture hall II/4
LOCATION:Lecture hall II/4
ORGANIZER:Mihael Sekavčnik
X-WR-TIMEZONE:Europe/Ljubljana
END:VEVENT
BEGIN:VEVENT
SUMMARY:Izpit: Energetski stroji in naprave (2047)
DTSTART;TZID=Europe/Ljubljana:20250822T100000
DTEND;TZID=Europe/Ljubljana:20250822T120000
DTSTAMP:20260426T034254Z
UID:fs-AFLABS-URNIK:rezervacija:6568
CATEGORIES:Reservation
COLOR:royalblue
DESCRIPTION:Predmeti: \nLetniki: \nIzvajalci: Mihael Sekavčnik\nProstori:
  Lecture hall V/8
LOCATION:Lecture hall V/8
ORGANIZER:Mihael Sekavčnik
X-WR-TIMEZONE:Europe/Ljubljana
END:VEVENT
BEGIN:VEVENT
SUMMARY:Izpit: Energy Conversion Systems (6003-M)
DTSTART;TZID=Europe/Ljubljana:20250814T170000
DTEND;TZID=Europe/Ljubljana:20250814T190000
DTSTAMP:20260426T034254Z
UID:fs-AFLABS-URNIK:rezervacija:6577
CATEGORIES:Reservation
COLOR:royalblue
DESCRIPTION:Predmeti: \nLetniki: \nIzvajalci: Mihael Sekavčnik\nProstori:
  Lecture hall IV/4
LOCATION:Lecture hall IV/4
ORGANIZER:Mihael Sekavčnik
X-WR-TIMEZONE:Europe/Ljubljana
END:VEVENT
END:VCALENDAR
