BEGIN:VCALENDAR
VERSION:2.0
PRODID:-//AFLabs urnik izvoz - fs//aflabs.si//SI
NAME:UL FS Urnik
X-WR-CALNAME:UL FS Urnik
DTSTAMP:20260425T190420Z
REFRESH-INTERVAL:PT1H
SOURCE:https://urnik.fs.uni-lj.si/en/teacher/844/?day=2026-01-19&export=1
URL:https://urnik.fs.uni-lj.si/en/teacher/844/?day=2026-01-19&export=1
X-PUBLISHED-TTL:PT1H
X-WR-TIMEZONE:Europe/Ljubljana
BEGIN:VTIMEZONE
TZID:Europe/Ljubljana
BEGIN:DAYLIGHT
DTSTART:20260329T020000
RDATE:20260329T020000
RDATE:20270328T020000
TZNAME:CEST
TZOFFSETFROM:+0100
TZOFFSETTO:+0200
END:DAYLIGHT
BEGIN:STANDARD
DTSTART:20261025T030000
RDATE:20261025T030000
RDATE:20271031T030000
TZNAME:CET
TZOFFSETFROM:+0200
TZOFFSETTO:+0100
END:STANDARD
END:VTIMEZONE
BEGIN:VEVENT
SUMMARY:Energy supply in circular economy (EKGM)\, Lectures (P)
DTSTART;TZID=Europe/Ljubljana:20251216T120000
DTEND;TZID=Europe/Ljubljana:20251216T140000
DTSTAMP:20260425T190420Z
UID:fs-AFLABS-URNIK:srecanje:12812-2025-12-16 12:00:00+01:00
DESCRIPTION:Predmet: Energy supply in circular economy (EKGM)\, Lectures (
 P)\nLetniki: Energy engineering (MAG-2)\nIzvajalci: Tomaž Katrašnik\, Mi
 tja Mori\, Mihael Sekavčnik\, Tine Seljak\nProstor: Lecture hall III/3B
END:VEVENT
BEGIN:VEVENT
SUMMARY:Energy supply in circular economy (EKGM)\, Lectures (P)
DTSTART;TZID=Europe/Ljubljana:20251223T120000
DTEND;TZID=Europe/Ljubljana:20251223T140000
DTSTAMP:20260425T190420Z
UID:fs-AFLABS-URNIK:srecanje:12812-2025-12-23 12:00:00+01:00
DESCRIPTION:Predmet: Energy supply in circular economy (EKGM)\, Lectures (
 P)\nLetniki: Energy engineering (MAG-2)\nIzvajalci: Tomaž Katrašnik\, Mi
 tja Mori\, Mihael Sekavčnik\, Tine Seljak\nProstor: Lecture hall III/3B
END:VEVENT
BEGIN:VEVENT
SUMMARY:Energy supply in circular economy (EKGM)\, Lectures (P)
DTSTART;TZID=Europe/Ljubljana:20260106T120000
DTEND;TZID=Europe/Ljubljana:20260106T140000
DTSTAMP:20260425T190420Z
UID:fs-AFLABS-URNIK:srecanje:12812-2026-01-06 12:00:00+01:00
DESCRIPTION:Predmet: Energy supply in circular economy (EKGM)\, Lectures (
 P)\nLetniki: Energy engineering (MAG-2)\nIzvajalci: Tomaž Katrašnik\, Mi
 tja Mori\, Mihael Sekavčnik\, Tine Seljak\nProstor: Lecture hall III/3B
END:VEVENT
BEGIN:VEVENT
SUMMARY:Energy supply in circular economy (EKGM)\, Lectures (P)
DTSTART;TZID=Europe/Ljubljana:20260113T120000
DTEND;TZID=Europe/Ljubljana:20260113T140000
DTSTAMP:20260425T190420Z
UID:fs-AFLABS-URNIK:srecanje:12812-2026-01-13 12:00:00+01:00
DESCRIPTION:Predmet: Energy supply in circular economy (EKGM)\, Lectures (
 P)\nLetniki: Energy engineering (MAG-2)\nIzvajalci: Tomaž Katrašnik\, Mi
 tja Mori\, Mihael Sekavčnik\, Tine Seljak\nProstor: Lecture hall III/3B
END:VEVENT
BEGIN:VEVENT
SUMMARY:Energy machines and appliances - RRP (ESNR)\, Lectures (P)
DTSTART;TZID=Europe/Ljubljana:20251217T080000
DTEND;TZID=Europe/Ljubljana:20251217T100000
DTSTAMP:20260425T190420Z
UID:fs-AFLABS-URNIK:srecanje:12840-2025-12-17 08:00:00+01:00
DESCRIPTION:Predmet: Energy machines and appliances - RRP (ESNR)\, Lecture
 s (P)\nLetniki: RRP-3 (RRP-3)\nIzvajalci: Mihael Sekavčnik\nProstor: Lect
 ure hall IV/4
END:VEVENT
BEGIN:VEVENT
SUMMARY:Energy machines and appliances - RRP (ESNR)\, Lectures (P)
DTSTART;TZID=Europe/Ljubljana:20251224T080000
DTEND;TZID=Europe/Ljubljana:20251224T100000
DTSTAMP:20260425T190420Z
UID:fs-AFLABS-URNIK:srecanje:12840-2025-12-24 08:00:00+01:00
DESCRIPTION:Predmet: Energy machines and appliances - RRP (ESNR)\, Lecture
 s (P)\nLetniki: RRP-3 (RRP-3)\nIzvajalci: Mihael Sekavčnik\nProstor: Lect
 ure hall IV/4
END:VEVENT
BEGIN:VEVENT
SUMMARY:Energy machines and appliances - RRP (ESNR)\, Lectures (P)
DTSTART;TZID=Europe/Ljubljana:20260107T080000
DTEND;TZID=Europe/Ljubljana:20260107T100000
DTSTAMP:20260425T190420Z
UID:fs-AFLABS-URNIK:srecanje:12840-2026-01-07 08:00:00+01:00
DESCRIPTION:Predmet: Energy machines and appliances - RRP (ESNR)\, Lecture
 s (P)\nLetniki: RRP-3 (RRP-3)\nIzvajalci: Mihael Sekavčnik\nProstor: Lect
 ure hall IV/4
END:VEVENT
BEGIN:VEVENT
SUMMARY:Energy machines and appliances - RRP (ESNR)\, Lectures (P)
DTSTART;TZID=Europe/Ljubljana:20260114T080000
DTEND;TZID=Europe/Ljubljana:20260114T100000
DTSTAMP:20260425T190420Z
UID:fs-AFLABS-URNIK:srecanje:12840-2026-01-14 08:00:00+01:00
DESCRIPTION:Predmet: Energy machines and appliances - RRP (ESNR)\, Lecture
 s (P)\nLetniki: RRP-3 (RRP-3)\nIzvajalci: Mihael Sekavčnik\nProstor: Lect
 ure hall IV/4
END:VEVENT
BEGIN:VEVENT
SUMMARY:Energy conversion systems (ENSM)\, Lectures (P)
DTSTART;TZID=Europe/Ljubljana:20251218T103000
DTEND;TZID=Europe/Ljubljana:20251218T120000
DTSTAMP:20260425T190420Z
UID:fs-AFLABS-URNIK:srecanje:16470-2025-12-18 10:30:00+01:00
DESCRIPTION:Predmet: Energy conversion systems (ENSM)\, Lectures (P)\nLetn
 iki: Energy engineering (MAG-1)\nIzvajalci: Mitja Mori\, Mihael Sekavčnik
 \nProstor: Lecture hall II/2
END:VEVENT
BEGIN:VEVENT
SUMMARY:Energy conversion systems (ENSM)\, Lectures (P)
DTSTART;TZID=Europe/Ljubljana:20251225T103000
DTEND;TZID=Europe/Ljubljana:20251225T120000
DTSTAMP:20260425T190420Z
UID:fs-AFLABS-URNIK:srecanje:16470-2025-12-25 10:30:00+01:00
DESCRIPTION:Predmet: Energy conversion systems (ENSM)\, Lectures (P)\nLetn
 iki: Energy engineering (MAG-1)\nIzvajalci: Mitja Mori\, Mihael Sekavčnik
 \nProstor: Lecture hall II/2
END:VEVENT
BEGIN:VEVENT
SUMMARY:Energy conversion systems (ENSM)\, Lectures (P)
DTSTART;TZID=Europe/Ljubljana:20260108T103000
DTEND;TZID=Europe/Ljubljana:20260108T120000
DTSTAMP:20260425T190420Z
UID:fs-AFLABS-URNIK:srecanje:16470-2026-01-08 10:30:00+01:00
DESCRIPTION:Predmet: Energy conversion systems (ENSM)\, Lectures (P)\nLetn
 iki: Energy engineering (MAG-1)\nIzvajalci: Mitja Mori\, Mihael Sekavčnik
 \nProstor: Lecture hall II/2
END:VEVENT
BEGIN:VEVENT
SUMMARY:Energy conversion systems (ENSM)\, Lectures (P)
DTSTART;TZID=Europe/Ljubljana:20260115T103000
DTEND;TZID=Europe/Ljubljana:20260115T120000
DTSTAMP:20260425T190420Z
UID:fs-AFLABS-URNIK:srecanje:16470-2026-01-15 10:30:00+01:00
DESCRIPTION:Predmet: Energy conversion systems (ENSM)\, Lectures (P)\nLetn
 iki: Energy engineering (MAG-1)\nIzvajalci: Mitja Mori\, Mihael Sekavčnik
 \nProstor: Lecture hall II/2
END:VEVENT
BEGIN:VEVENT
SUMMARY:Sustainable energy technologies (TTEP)\, Lectures (P)
DTSTART;TZID=Europe/Ljubljana:20251218T073000
DTEND;TZID=Europe/Ljubljana:20251218T093000
DTSTAMP:20260425T190420Z
UID:fs-AFLABS-URNIK:srecanje:13800-2025-12-18 07:30:00+01:00
DESCRIPTION:Predmet: Sustainable energy technologies (TTEP)\, Lectures (P)
 \nLetniki: Energy engineering (PAP-3)\nIzvajalci: Mitja Mori\, Mihael Seka
 včnik\nProstor: Lecture hall II/3B
END:VEVENT
BEGIN:VEVENT
SUMMARY:Sustainable energy technologies (TTEP)\, Lectures (P)
DTSTART;TZID=Europe/Ljubljana:20251225T073000
DTEND;TZID=Europe/Ljubljana:20251225T093000
DTSTAMP:20260425T190420Z
UID:fs-AFLABS-URNIK:srecanje:13800-2025-12-25 07:30:00+01:00
DESCRIPTION:Predmet: Sustainable energy technologies (TTEP)\, Lectures (P)
 \nLetniki: Energy engineering (PAP-3)\nIzvajalci: Mitja Mori\, Mihael Seka
 včnik\nProstor: Lecture hall II/3B
END:VEVENT
BEGIN:VEVENT
SUMMARY:Sustainable energy technologies (TTEP)\, Lectures (P)
DTSTART;TZID=Europe/Ljubljana:20260108T073000
DTEND;TZID=Europe/Ljubljana:20260108T093000
DTSTAMP:20260425T190420Z
UID:fs-AFLABS-URNIK:srecanje:13800-2026-01-08 07:30:00+01:00
DESCRIPTION:Predmet: Sustainable energy technologies (TTEP)\, Lectures (P)
 \nLetniki: Energy engineering (PAP-3)\nIzvajalci: Mitja Mori\, Mihael Seka
 včnik\nProstor: Lecture hall II/3B
END:VEVENT
BEGIN:VEVENT
SUMMARY:Sustainable energy technologies (TTEP)\, Lectures (P)
DTSTART;TZID=Europe/Ljubljana:20260115T073000
DTEND;TZID=Europe/Ljubljana:20260115T093000
DTSTAMP:20260425T190420Z
UID:fs-AFLABS-URNIK:srecanje:13800-2026-01-15 07:30:00+01:00
DESCRIPTION:Predmet: Sustainable energy technologies (TTEP)\, Lectures (P)
 \nLetniki: Energy engineering (PAP-3)\nIzvajalci: Mitja Mori\, Mihael Seka
 včnik\nProstor: Lecture hall II/3B
END:VEVENT
BEGIN:VEVENT
SUMMARY:Energy Conversion Systems (ECSE)\, Lectures (P)
DTSTART;TZID=Europe/Ljubljana:20260119T120000
DTEND;TZID=Europe/Ljubljana:20260119T140000
DTSTAMP:20260425T190420Z
UID:fs-AFLABS-URNIK:premaknjeno-srecanje:128137
ATTENDEE:Erasmus (Erasmus)
CATEGORIES:Entry,Special
COLOR:forestgreen
DESCRIPTION:Predmet: Energy Conversion Systems (ECSE)\, Lectures (P)\nLetn
 iki: Erasmus (Erasmus)\nIzvajalci: Mitja Mori\, Mihael Sekavčnik\nProstor
 : Lecture hall III/3B
LOCATION:Lecture hall III/3B
ORGANIZER:Mitja Mori, Mihael Sekavčnik
RELATED-TO:fs-AFLABS-URNIK:srecanje:17579
X-WR-TIMEZONE:Europe/Ljubljana
END:VEVENT
BEGIN:VEVENT
SUMMARY:Energy Conversion Systems (ECSE)\, Lectures (P)
DTSTART;TZID=Europe/Ljubljana:20251219T120000
DTEND;TZID=Europe/Ljubljana:20251219T140000
DTSTAMP:20260425T190420Z
UID:fs-AFLABS-URNIK:srecanje:17579-2025-12-19 12:00:00+01:00
DESCRIPTION:Predmet: Energy Conversion Systems (ECSE)\, Lectures (P)\nLetn
 iki: Erasmus (Erasmus)\nIzvajalci: Mitja Mori\, Mihael Sekavčnik\nProstor
 : Lecture hall III/3B
END:VEVENT
BEGIN:VEVENT
SUMMARY:Energy Conversion Systems (ECSE)\, Lectures (P)
DTSTART;TZID=Europe/Ljubljana:20251226T120000
DTEND;TZID=Europe/Ljubljana:20251226T140000
DTSTAMP:20260425T190420Z
UID:fs-AFLABS-URNIK:srecanje:17579-2025-12-26 12:00:00+01:00
DESCRIPTION:Predmet: Energy Conversion Systems (ECSE)\, Lectures (P)\nLetn
 iki: Erasmus (Erasmus)\nIzvajalci: Mitja Mori\, Mihael Sekavčnik\nProstor
 : Lecture hall III/3B
END:VEVENT
BEGIN:VEVENT
SUMMARY:Energy Conversion Systems (ECSE)\, Lectures (P)
DTSTART;TZID=Europe/Ljubljana:20260109T120000
DTEND;TZID=Europe/Ljubljana:20260109T140000
DTSTAMP:20260425T190420Z
UID:fs-AFLABS-URNIK:srecanje:17579-2026-01-09 12:00:00+01:00
DESCRIPTION:Predmet: Energy Conversion Systems (ECSE)\, Lectures (P)\nLetn
 iki: Erasmus (Erasmus)\nIzvajalci: Mitja Mori\, Mihael Sekavčnik\nProstor
 : Lecture hall III/3B
END:VEVENT
BEGIN:VEVENT
SUMMARY:Energy Conversion Systems (ECSE)\, Lectures (P)
DTSTART;TZID=Europe/Ljubljana:20260116T120000
DTEND;TZID=Europe/Ljubljana:20260116T140000
DTSTAMP:20260425T190420Z
UID:fs-AFLABS-URNIK:srecanje:17579-2026-01-16 12:00:00+01:00
DESCRIPTION:Predmet: Energy Conversion Systems (ECSE)\, Lectures (P)\nLetn
 iki: Erasmus (Erasmus)\nIzvajalci: Mitja Mori\, Mihael Sekavčnik\nProstor
 : Lecture hall III/3B
END:VEVENT
BEGIN:VEVENT
SUMMARY:Energy machines and appliances - PAP (ESNP)\, Lectures (P)
DTSTART;TZID=Europe/Ljubljana:20260217T073000
DTEND;TZID=Europe/Ljubljana:20260217T093000
DTSTAMP:20260425T190420Z
UID:fs-AFLABS-URNIK:srecanje:16419-2026-02-17 07:30:00+01:00
DESCRIPTION:Predmet: Energy machines and appliances - PAP (ESNP)\, Lecture
 s (P)\nLetniki: Design of machines and devices (PAP-2)\, Energy engineerin
 g (PAP-2)\, Mechatronics (PAP-2)\, Process engineering (PAP-2)\, Productio
 n engineering (PAP-2)\, Production technologies (PAP-2)\, Konstruiranje st
 rojev in naprav (PAP-2)\nIzvajalci: Mihael Sekavčnik\nProstor: Lecture ha
 ll IV/4
END:VEVENT
BEGIN:VEVENT
SUMMARY:Thermal and nuclear power systems (TJEP)\, Lectures (P)
DTSTART;TZID=Europe/Ljubljana:20260217T113000
DTEND;TZID=Europe/Ljubljana:20260217T133000
DTSTAMP:20260425T190420Z
UID:fs-AFLABS-URNIK:srecanje:16432-2026-02-17 11:30:00+01:00
DESCRIPTION:Predmet: Thermal and nuclear power systems (TJEP)\, Lectures (
 P)\nLetniki: Energy engineering (PAP-2)\nIzvajalci: Mitja Mori\, Mihael Se
 kavčnik\nProstor: Lecture hall IV/3A
END:VEVENT
BEGIN:VEVENT
SUMMARY:Izpit: Energetski stroji in naprave - RRP
DTSTART;TZID=Europe/Ljubljana:20260129T110000
DTEND;TZID=Europe/Ljubljana:20260129T130000
DTSTAMP:20260425T190420Z
UID:fs-AFLABS-URNIK:rezervacija:12433
ATTENDEE:RRP-3 (RRP-3)
CATEGORIES:Reservation
COLOR:royalblue
DESCRIPTION:Predmeti: Energy machines and appliances - RRP (ESNR)\nLetniki
 : RRP-3 (RRP-3)\nIzvajalci: Mihael Sekavčnik\nProstori: Lecture hall V/8
LOCATION:Lecture hall V/8
ORGANIZER:Mihael Sekavčnik
X-WR-TIMEZONE:Europe/Ljubljana
END:VEVENT
BEGIN:VEVENT
SUMMARY:Izpit: Energy Conversion Systems
DTSTART;TZID=Europe/Ljubljana:20260209T160000
DTEND;TZID=Europe/Ljubljana:20260209T180000
DTSTAMP:20260425T190420Z
UID:fs-AFLABS-URNIK:rezervacija:11465
ATTENDEE:Erasmus (Erasmus)
CATEGORIES:Reservation
COLOR:royalblue
DESCRIPTION:Predmeti: Energy Conversion Systems (ECSE)\nLetniki: Erasmus (
 Erasmus)\nIzvajalci: Mihael Sekavčnik\nProstori: Lecture hall V/2
LOCATION:Lecture hall V/2
ORGANIZER:Mihael Sekavčnik
X-WR-TIMEZONE:Europe/Ljubljana
END:VEVENT
BEGIN:VEVENT
SUMMARY:2. kolokvij ESN RRP
DTSTART;TZID=Europe/Ljubljana:20260114T180000
DTEND;TZID=Europe/Ljubljana:20260114T200000
DTSTAMP:20260425T190420Z
UID:fs-AFLABS-URNIK:rezervacija:13501
ATTENDEE:RRP-3 (RRP-3)
CATEGORIES:Reservation
COLOR:royalblue
DESCRIPTION:Predmeti: Energy machines and appliances - RRP (ESNR)\nLetniki
 : RRP-3 (RRP-3)\nIzvajalci: Jure Gramc\, Domen Hojkar\, Mihael Sekavčnik\
 , Rok Stropnik\nProstori: Lecture hall III/2\, Lecture hall III/4
LOCATION:Lecture hall III/2\, Lecture hall III/4
ORGANIZER:Jure Gramc, Domen Hojkar, Mihael Sekavčnik, Rok Stropnik
X-WR-TIMEZONE:Europe/Ljubljana
END:VEVENT
BEGIN:VEVENT
SUMMARY:Izpit: Energy Conversion Systems
DTSTART;TZID=Europe/Ljubljana:20260126T120000
DTEND;TZID=Europe/Ljubljana:20260126T140000
DTSTAMP:20260425T190420Z
UID:fs-AFLABS-URNIK:rezervacija:12220
ATTENDEE:Erasmus (Erasmus)
CATEGORIES:Reservation
COLOR:royalblue
DESCRIPTION:Predmeti: Energy Conversion Systems (ECSE)\nLetniki: Erasmus (
 Erasmus)\nIzvajalci: Mihael Sekavčnik\nProstori: Lecture hall III/2
LOCATION:Lecture hall III/2
ORGANIZER:Mihael Sekavčnik
X-WR-TIMEZONE:Europe/Ljubljana
END:VEVENT
BEGIN:VEVENT
SUMMARY:Izpit: Energetski sistemi
DTSTART;TZID=Europe/Ljubljana:20260126T120000
DTEND;TZID=Europe/Ljubljana:20260126T140000
DTSTAMP:20260425T190420Z
UID:fs-AFLABS-URNIK:rezervacija:12218
ATTENDEE:Energy engineering (MAG-1)
CATEGORIES:Reservation
COLOR:royalblue
DESCRIPTION:Predmeti: Energy conversion systems (ENSM)\nLetniki: Energy en
 gineering (MAG-1)\nIzvajalci: Mihael Sekavčnik\nProstori: Lecture hall II
 I/2
LOCATION:Lecture hall III/2
ORGANIZER:Mihael Sekavčnik
X-WR-TIMEZONE:Europe/Ljubljana
END:VEVENT
BEGIN:VEVENT
SUMMARY:Izpit: Energetski sistemi
DTSTART;TZID=Europe/Ljubljana:20260209T160000
DTEND;TZID=Europe/Ljubljana:20260209T180000
DTSTAMP:20260425T190420Z
UID:fs-AFLABS-URNIK:rezervacija:11463
ATTENDEE:Energy engineering (MAG-1)
CATEGORIES:Reservation
COLOR:royalblue
DESCRIPTION:Predmeti: Energy conversion systems (ENSM)\nLetniki: Energy en
 gineering (MAG-1)\nIzvajalci: Mihael Sekavčnik\nProstori: Lecture hall V/
 2
LOCATION:Lecture hall V/2
ORGANIZER:Mihael Sekavčnik
X-WR-TIMEZONE:Europe/Ljubljana
END:VEVENT
BEGIN:VEVENT
SUMMARY:Izpit: Energetski sistemi
DTSTART;TZID=Europe/Ljubljana:20260209T160000
DTEND;TZID=Europe/Ljubljana:20260209T180000
DTSTAMP:20260425T190420Z
UID:fs-AFLABS-URNIK:rezervacija:11464
ATTENDEE:Energy engineering (MAG-1)
CATEGORIES:Reservation
COLOR:royalblue
DESCRIPTION:Predmeti: Energy conversion systems (ENSM)\nLetniki: Energy en
 gineering (MAG-1)\nIzvajalci: Mihael Sekavčnik\nProstori: Lecture hall V/
 2
LOCATION:Lecture hall V/2
ORGANIZER:Mihael Sekavčnik
X-WR-TIMEZONE:Europe/Ljubljana
END:VEVENT
BEGIN:VEVENT
SUMMARY:Izpit: Energetski stroji in naprave - RRP
DTSTART;TZID=Europe/Ljubljana:20260212T080000
DTEND;TZID=Europe/Ljubljana:20260212T100000
DTSTAMP:20260425T190420Z
UID:fs-AFLABS-URNIK:rezervacija:11622
ATTENDEE:RRP-3 (RRP-3)
CATEGORIES:Reservation
COLOR:royalblue
DESCRIPTION:Predmeti: Energy machines and appliances - RRP (ESNR)\nLetniki
 : RRP-3 (RRP-3)\nIzvajalci: Mihael Sekavčnik\nProstori: Lecture hall III/
 4
LOCATION:Lecture hall III/4
ORGANIZER:Mihael Sekavčnik
X-WR-TIMEZONE:Europe/Ljubljana
END:VEVENT
BEGIN:VEVENT
SUMMARY:Izpit: Energetski sistemi
DTSTART;TZID=Europe/Ljubljana:20260126T120000
DTEND;TZID=Europe/Ljubljana:20260126T140000
DTSTAMP:20260425T190420Z
UID:fs-AFLABS-URNIK:rezervacija:12219
ATTENDEE:Energy engineering (MAG-1)
CATEGORIES:Reservation
COLOR:royalblue
DESCRIPTION:Predmeti: Energy conversion systems (ENSM)\nLetniki: Energy en
 gineering (MAG-1)\nIzvajalci: Mihael Sekavčnik\nProstori: Lecture hall II
 I/2
LOCATION:Lecture hall III/2
ORGANIZER:Mihael Sekavčnik
X-WR-TIMEZONE:Europe/Ljubljana
END:VEVENT
BEGIN:VEVENT
SUMMARY:Izpit: Trajnostne tehnologije v energetiki
DTSTART;TZID=Europe/Ljubljana:20260204T080000
DTEND;TZID=Europe/Ljubljana:20260204T100000
DTSTAMP:20260425T190420Z
UID:fs-AFLABS-URNIK:rezervacija:12514
ATTENDEE:Energy engineering (PAP-3)
CATEGORIES:Reservation
COLOR:royalblue
DESCRIPTION:Predmeti: Sustainable energy technologies (TTEP)\nLetniki: Ene
 rgy engineering (PAP-3)\nIzvajalci: Mihael Sekavčnik\nProstori: Lecture h
 all IV/2
LOCATION:Lecture hall IV/2
ORGANIZER:Mihael Sekavčnik
X-WR-TIMEZONE:Europe/Ljubljana
END:VEVENT
BEGIN:VEVENT
SUMMARY:Izpit: Energetski stroji in naprave
DTSTART;TZID=Europe/Ljubljana:20260129T110000
DTEND;TZID=Europe/Ljubljana:20260129T130000
DTSTAMP:20260425T190420Z
UID:fs-AFLABS-URNIK:rezervacija:12434
ATTENDEE:RRP-3 (RRP-3)
CATEGORIES:Reservation
COLOR:royalblue
DESCRIPTION:Predmeti: Power Engineering (2047)\nLetniki: RRP-3 (RRP-3)\nIz
 vajalci: Mihael Sekavčnik\nProstori: Lecture hall V/8
LOCATION:Lecture hall V/8
ORGANIZER:Mihael Sekavčnik
X-WR-TIMEZONE:Europe/Ljubljana
END:VEVENT
BEGIN:VEVENT
SUMMARY:Izpit: Trajnostne tehnologije v energetiki
DTSTART;TZID=Europe/Ljubljana:20260121T120000
DTEND;TZID=Europe/Ljubljana:20260121T140000
DTSTAMP:20260425T190420Z
UID:fs-AFLABS-URNIK:rezervacija:11998
ATTENDEE:Energy engineering (PAP-3)
CATEGORIES:Reservation
COLOR:royalblue
DESCRIPTION:Predmeti: Sustainable energy technologies (TTEP)\nLetniki: Ene
 rgy engineering (PAP-3)\nIzvajalci: Mihael Sekavčnik\nProstori: Lecture h
 all II/5
LOCATION:Lecture hall II/5
ORGANIZER:Mihael Sekavčnik
X-WR-TIMEZONE:Europe/Ljubljana
END:VEVENT
BEGIN:VEVENT
SUMMARY:Izpit: Napredne tehnologije v energetiki
DTSTART;TZID=Europe/Ljubljana:20260121T120000
DTEND;TZID=Europe/Ljubljana:20260121T140000
DTSTAMP:20260425T190420Z
UID:fs-AFLABS-URNIK:rezervacija:11997
ATTENDEE:Energetsko, procesno in okoljsko inženirstvo - Energetsko strojn
 ištvo (PAP-3)
CATEGORIES:Reservation
COLOR:royalblue
DESCRIPTION:Predmeti: Advanced technologies in energy supply (3058)\nLetni
 ki: Energetsko\, procesno in okoljsko inženirstvo - Energetsko strojništ
 vo (PAP-3)\nIzvajalci: Mihael Sekavčnik\nProstori: Lecture hall II/5
LOCATION:Lecture hall II/5
ORGANIZER:Mihael Sekavčnik
X-WR-TIMEZONE:Europe/Ljubljana
END:VEVENT
END:VCALENDAR
