BEGIN:VCALENDAR
VERSION:2.0
PRODID:-//AFLabs urnik izvoz - fs//aflabs.si//SI
NAME:UL FS Urnik
X-WR-CALNAME:UL FS Urnik
DTSTAMP:20260421T214403Z
REFRESH-INTERVAL:PT1H
SOURCE:https://urnik.fs.uni-lj.si/en/teacher/846/?day=2024-01-08&export=1
URL:https://urnik.fs.uni-lj.si/en/teacher/846/?day=2024-01-08&export=1
X-PUBLISHED-TTL:PT1H
X-WR-TIMEZONE:Europe/Ljubljana
BEGIN:VTIMEZONE
TZID:Europe/Ljubljana
BEGIN:DAYLIGHT
DTSTART:20260329T020000
RDATE:20260329T020000
RDATE:20270328T020000
TZNAME:CEST
TZOFFSETFROM:+0100
TZOFFSETTO:+0200
END:DAYLIGHT
BEGIN:STANDARD
DTSTART:20261025T030000
RDATE:20261025T030000
RDATE:20271031T030000
TZNAME:CET
TZOFFSETFROM:+0200
TZOFFSETTO:+0100
END:STANDARD
END:VTIMEZONE
BEGIN:VEVENT
SUMMARY:Advanced combustion processes (NPZM)\, Lectures (P)
DTSTART;TZID=Europe/Ljubljana:20231002T100000
DTEND;TZID=Europe/Ljubljana:20231002T120000
DTSTAMP:20260421T214403Z
UID:fs-AFLABS-URNIK:srecanje:2396-2023-10-02 10:00:00+02:00
DESCRIPTION:Predmet: Advanced combustion processes (NPZM)\, Lectures (P)\n
 Letniki: Energy engineering (MAG-1)\nIzvajalci: Tomaž Katrašnik\, Tine S
 eljak\, Andrej Senegačnik\nProstor: Lecture hall III/4
END:VEVENT
BEGIN:VEVENT
SUMMARY:Advanced combustion processes (NPZM)\, Lectures (P)
DTSTART;TZID=Europe/Ljubljana:20231009T100000
DTEND;TZID=Europe/Ljubljana:20231009T120000
DTSTAMP:20260421T214403Z
UID:fs-AFLABS-URNIK:srecanje:2396-2023-10-09 10:00:00+02:00
DESCRIPTION:Predmet: Advanced combustion processes (NPZM)\, Lectures (P)\n
 Letniki: Energy engineering (MAG-1)\nIzvajalci: Tomaž Katrašnik\, Tine S
 eljak\, Andrej Senegačnik\nProstor: Lecture hall III/4
END:VEVENT
BEGIN:VEVENT
SUMMARY:Advanced combustion processes (NPZM)\, Lectures (P)
DTSTART;TZID=Europe/Ljubljana:20231016T100000
DTEND;TZID=Europe/Ljubljana:20231016T120000
DTSTAMP:20260421T214403Z
UID:fs-AFLABS-URNIK:srecanje:2396-2023-10-16 10:00:00+02:00
DESCRIPTION:Predmet: Advanced combustion processes (NPZM)\, Lectures (P)\n
 Letniki: Energy engineering (MAG-1)\nIzvajalci: Tomaž Katrašnik\, Tine S
 eljak\, Andrej Senegačnik\nProstor: Lecture hall III/4
END:VEVENT
BEGIN:VEVENT
SUMMARY:Advanced combustion processes (NPZM)\, Lectures (P)
DTSTART;TZID=Europe/Ljubljana:20231023T100000
DTEND;TZID=Europe/Ljubljana:20231023T120000
DTSTAMP:20260421T214403Z
UID:fs-AFLABS-URNIK:srecanje:2396-2023-10-23 10:00:00+02:00
DESCRIPTION:Predmet: Advanced combustion processes (NPZM)\, Lectures (P)\n
 Letniki: Energy engineering (MAG-1)\nIzvajalci: Tomaž Katrašnik\, Tine S
 eljak\, Andrej Senegačnik\nProstor: Lecture hall III/4
END:VEVENT
BEGIN:VEVENT
SUMMARY:Advanced combustion processes (NPZM)\, Lectures (P)
DTSTART;TZID=Europe/Ljubljana:20231106T100000
DTEND;TZID=Europe/Ljubljana:20231106T120000
DTSTAMP:20260421T214403Z
UID:fs-AFLABS-URNIK:srecanje:2396-2023-11-06 10:00:00+01:00
DESCRIPTION:Predmet: Advanced combustion processes (NPZM)\, Lectures (P)\n
 Letniki: Energy engineering (MAG-1)\nIzvajalci: Tomaž Katrašnik\, Tine S
 eljak\, Andrej Senegačnik\nProstor: Lecture hall III/4
END:VEVENT
BEGIN:VEVENT
SUMMARY:Advanced combustion processes (NPZM)\, Lectures (P)
DTSTART;TZID=Europe/Ljubljana:20231113T100000
DTEND;TZID=Europe/Ljubljana:20231113T120000
DTSTAMP:20260421T214403Z
UID:fs-AFLABS-URNIK:srecanje:2396-2023-11-13 10:00:00+01:00
DESCRIPTION:Predmet: Advanced combustion processes (NPZM)\, Lectures (P)\n
 Letniki: Energy engineering (MAG-1)\nIzvajalci: Tomaž Katrašnik\, Tine S
 eljak\, Andrej Senegačnik\nProstor: Lecture hall III/4
END:VEVENT
BEGIN:VEVENT
SUMMARY:Advanced combustion processes (NPZM)\, Lectures (P)
DTSTART;TZID=Europe/Ljubljana:20231120T100000
DTEND;TZID=Europe/Ljubljana:20231120T120000
DTSTAMP:20260421T214403Z
UID:fs-AFLABS-URNIK:srecanje:2396-2023-11-20 10:00:00+01:00
DESCRIPTION:Predmet: Advanced combustion processes (NPZM)\, Lectures (P)\n
 Letniki: Energy engineering (MAG-1)\nIzvajalci: Tomaž Katrašnik\, Tine S
 eljak\, Andrej Senegačnik\nProstor: Lecture hall III/4
END:VEVENT
BEGIN:VEVENT
SUMMARY:Advanced combustion processes (NPZM)\, Lectures (P)
DTSTART;TZID=Europe/Ljubljana:20231127T100000
DTEND;TZID=Europe/Ljubljana:20231127T120000
DTSTAMP:20260421T214403Z
UID:fs-AFLABS-URNIK:srecanje:2396-2023-11-27 10:00:00+01:00
DESCRIPTION:Predmet: Advanced combustion processes (NPZM)\, Lectures (P)\n
 Letniki: Energy engineering (MAG-1)\nIzvajalci: Tomaž Katrašnik\, Tine S
 eljak\, Andrej Senegačnik\nProstor: Lecture hall III/4
END:VEVENT
BEGIN:VEVENT
SUMMARY:Advanced combustion processes (NPZM)\, Lectures (P)
DTSTART;TZID=Europe/Ljubljana:20231204T100000
DTEND;TZID=Europe/Ljubljana:20231204T120000
DTSTAMP:20260421T214403Z
UID:fs-AFLABS-URNIK:srecanje:2396-2023-12-04 10:00:00+01:00
DESCRIPTION:Predmet: Advanced combustion processes (NPZM)\, Lectures (P)\n
 Letniki: Energy engineering (MAG-1)\nIzvajalci: Tomaž Katrašnik\, Tine S
 eljak\, Andrej Senegačnik\nProstor: Lecture hall III/4
END:VEVENT
BEGIN:VEVENT
SUMMARY:Advanced combustion processes (NPZM)\, Lectures (P)
DTSTART;TZID=Europe/Ljubljana:20231211T100000
DTEND;TZID=Europe/Ljubljana:20231211T120000
DTSTAMP:20260421T214403Z
UID:fs-AFLABS-URNIK:srecanje:2396-2023-12-11 10:00:00+01:00
DESCRIPTION:Predmet: Advanced combustion processes (NPZM)\, Lectures (P)\n
 Letniki: Energy engineering (MAG-1)\nIzvajalci: Tomaž Katrašnik\, Tine S
 eljak\, Andrej Senegačnik\nProstor: Lecture hall III/4
END:VEVENT
BEGIN:VEVENT
SUMMARY:Advanced combustion processes (NPZM)\, Lectures (P)
DTSTART;TZID=Europe/Ljubljana:20231218T100000
DTEND;TZID=Europe/Ljubljana:20231218T120000
DTSTAMP:20260421T214403Z
UID:fs-AFLABS-URNIK:srecanje:2396-2023-12-18 10:00:00+01:00
DESCRIPTION:Predmet: Advanced combustion processes (NPZM)\, Lectures (P)\n
 Letniki: Energy engineering (MAG-1)\nIzvajalci: Tomaž Katrašnik\, Tine S
 eljak\, Andrej Senegačnik\nProstor: Lecture hall III/4
END:VEVENT
BEGIN:VEVENT
SUMMARY:Advanced combustion processes (NPZM)\, Lectures (P)
DTSTART;TZID=Europe/Ljubljana:20240101T100000
DTEND;TZID=Europe/Ljubljana:20240101T120000
DTSTAMP:20260421T214403Z
UID:fs-AFLABS-URNIK:srecanje:2396-2024-01-01 10:00:00+01:00
DESCRIPTION:Predmet: Advanced combustion processes (NPZM)\, Lectures (P)\n
 Letniki: Energy engineering (MAG-1)\nIzvajalci: Tomaž Katrašnik\, Tine S
 eljak\, Andrej Senegačnik\nProstor: Lecture hall III/4
END:VEVENT
BEGIN:VEVENT
SUMMARY:Advanced combustion processes (NPZM)\, Lectures (P)
DTSTART;TZID=Europe/Ljubljana:20240108T100000
DTEND;TZID=Europe/Ljubljana:20240108T120000
DTSTAMP:20260421T214403Z
UID:fs-AFLABS-URNIK:srecanje:2396-2024-01-08 10:00:00+01:00
DESCRIPTION:Predmet: Advanced combustion processes (NPZM)\, Lectures (P)\n
 Letniki: Energy engineering (MAG-1)\nIzvajalci: Tomaž Katrašnik\, Tine S
 eljak\, Andrej Senegačnik\nProstor: Lecture hall III/4
END:VEVENT
BEGIN:VEVENT
SUMMARY:Advanced combustion processes (NPZM)\, Lectures (P)
DTSTART;TZID=Europe/Ljubljana:20240115T100000
DTEND;TZID=Europe/Ljubljana:20240115T120000
DTSTAMP:20260421T214403Z
UID:fs-AFLABS-URNIK:srecanje:2396-2024-01-15 10:00:00+01:00
DESCRIPTION:Predmet: Advanced combustion processes (NPZM)\, Lectures (P)\n
 Letniki: Energy engineering (MAG-1)\nIzvajalci: Tomaž Katrašnik\, Tine S
 eljak\, Andrej Senegačnik\nProstor: Lecture hall III/4
END:VEVENT
BEGIN:VEVENT
SUMMARY:Energy supply in circular economy (EKGM)\, Lectures (P)
DTSTART;TZID=Europe/Ljubljana:20231003T120000
DTEND;TZID=Europe/Ljubljana:20231003T140000
DTSTAMP:20260421T214403Z
UID:fs-AFLABS-URNIK:srecanje:3939-2023-10-03 12:00:00+02:00
DESCRIPTION:Predmet: Energy supply in circular economy (EKGM)\, Lectures (
 P)\nLetniki: Energy engineering (MAG-2)\nIzvajalci: Tomaž Katrašnik\, Mi
 hael Sekavčnik\, Tine Seljak\nProstor: Lecture hall III/3B
END:VEVENT
BEGIN:VEVENT
SUMMARY:Energy supply in circular economy (EKGM)\, Lectures (P)
DTSTART;TZID=Europe/Ljubljana:20231010T120000
DTEND;TZID=Europe/Ljubljana:20231010T140000
DTSTAMP:20260421T214403Z
UID:fs-AFLABS-URNIK:srecanje:3939-2023-10-10 12:00:00+02:00
DESCRIPTION:Predmet: Energy supply in circular economy (EKGM)\, Lectures (
 P)\nLetniki: Energy engineering (MAG-2)\nIzvajalci: Tomaž Katrašnik\, Mi
 hael Sekavčnik\, Tine Seljak\nProstor: Lecture hall III/3B
END:VEVENT
BEGIN:VEVENT
SUMMARY:Energy supply in circular economy (EKGM)\, Lectures (P)
DTSTART;TZID=Europe/Ljubljana:20231017T120000
DTEND;TZID=Europe/Ljubljana:20231017T140000
DTSTAMP:20260421T214403Z
UID:fs-AFLABS-URNIK:srecanje:3939-2023-10-17 12:00:00+02:00
DESCRIPTION:Predmet: Energy supply in circular economy (EKGM)\, Lectures (
 P)\nLetniki: Energy engineering (MAG-2)\nIzvajalci: Tomaž Katrašnik\, Mi
 hael Sekavčnik\, Tine Seljak\nProstor: Lecture hall III/3B
END:VEVENT
BEGIN:VEVENT
SUMMARY:Energy supply in circular economy (EKGM)\, Lectures (P)
DTSTART;TZID=Europe/Ljubljana:20231024T120000
DTEND;TZID=Europe/Ljubljana:20231024T140000
DTSTAMP:20260421T214403Z
UID:fs-AFLABS-URNIK:srecanje:3939-2023-10-24 12:00:00+02:00
DESCRIPTION:Predmet: Energy supply in circular economy (EKGM)\, Lectures (
 P)\nLetniki: Energy engineering (MAG-2)\nIzvajalci: Tomaž Katrašnik\, Mi
 hael Sekavčnik\, Tine Seljak\nProstor: Lecture hall III/3B
END:VEVENT
BEGIN:VEVENT
SUMMARY:Energy supply in circular economy (EKGM)\, Lectures (P)
DTSTART;TZID=Europe/Ljubljana:20231031T120000
DTEND;TZID=Europe/Ljubljana:20231031T140000
DTSTAMP:20260421T214403Z
UID:fs-AFLABS-URNIK:srecanje:3939-2023-10-31 12:00:00+01:00
DESCRIPTION:Predmet: Energy supply in circular economy (EKGM)\, Lectures (
 P)\nLetniki: Energy engineering (MAG-2)\nIzvajalci: Tomaž Katrašnik\, Mi
 hael Sekavčnik\, Tine Seljak\nProstor: Lecture hall III/3B
END:VEVENT
BEGIN:VEVENT
SUMMARY:Energy supply in circular economy (EKGM)\, Lectures (P)
DTSTART;TZID=Europe/Ljubljana:20231107T120000
DTEND;TZID=Europe/Ljubljana:20231107T140000
DTSTAMP:20260421T214403Z
UID:fs-AFLABS-URNIK:srecanje:3939-2023-11-07 12:00:00+01:00
DESCRIPTION:Predmet: Energy supply in circular economy (EKGM)\, Lectures (
 P)\nLetniki: Energy engineering (MAG-2)\nIzvajalci: Tomaž Katrašnik\, Mi
 hael Sekavčnik\, Tine Seljak\nProstor: Lecture hall III/3B
END:VEVENT
BEGIN:VEVENT
SUMMARY:Energy supply in circular economy (EKGM)\, Lectures (P)
DTSTART;TZID=Europe/Ljubljana:20231114T120000
DTEND;TZID=Europe/Ljubljana:20231114T140000
DTSTAMP:20260421T214403Z
UID:fs-AFLABS-URNIK:srecanje:3939-2023-11-14 12:00:00+01:00
DESCRIPTION:Predmet: Energy supply in circular economy (EKGM)\, Lectures (
 P)\nLetniki: Energy engineering (MAG-2)\nIzvajalci: Tomaž Katrašnik\, Mi
 hael Sekavčnik\, Tine Seljak\nProstor: Lecture hall III/3B
END:VEVENT
BEGIN:VEVENT
SUMMARY:Energy supply in circular economy (EKGM)\, Lectures (P)
DTSTART;TZID=Europe/Ljubljana:20231121T120000
DTEND;TZID=Europe/Ljubljana:20231121T140000
DTSTAMP:20260421T214403Z
UID:fs-AFLABS-URNIK:srecanje:3939-2023-11-21 12:00:00+01:00
DESCRIPTION:Predmet: Energy supply in circular economy (EKGM)\, Lectures (
 P)\nLetniki: Energy engineering (MAG-2)\nIzvajalci: Tomaž Katrašnik\, Mi
 hael Sekavčnik\, Tine Seljak\nProstor: Lecture hall III/3B
END:VEVENT
BEGIN:VEVENT
SUMMARY:Energy supply in circular economy (EKGM)\, Lectures (P)
DTSTART;TZID=Europe/Ljubljana:20231128T120000
DTEND;TZID=Europe/Ljubljana:20231128T140000
DTSTAMP:20260421T214403Z
UID:fs-AFLABS-URNIK:srecanje:3939-2023-11-28 12:00:00+01:00
DESCRIPTION:Predmet: Energy supply in circular economy (EKGM)\, Lectures (
 P)\nLetniki: Energy engineering (MAG-2)\nIzvajalci: Tomaž Katrašnik\, Mi
 hael Sekavčnik\, Tine Seljak\nProstor: Lecture hall III/3B
END:VEVENT
BEGIN:VEVENT
SUMMARY:Energy supply in circular economy (EKGM)\, Lectures (P)
DTSTART;TZID=Europe/Ljubljana:20231205T120000
DTEND;TZID=Europe/Ljubljana:20231205T140000
DTSTAMP:20260421T214403Z
UID:fs-AFLABS-URNIK:srecanje:3939-2023-12-05 12:00:00+01:00
DESCRIPTION:Predmet: Energy supply in circular economy (EKGM)\, Lectures (
 P)\nLetniki: Energy engineering (MAG-2)\nIzvajalci: Tomaž Katrašnik\, Mi
 hael Sekavčnik\, Tine Seljak\nProstor: Lecture hall III/3B
END:VEVENT
BEGIN:VEVENT
SUMMARY:Energy supply in circular economy (EKGM)\, Lectures (P)
DTSTART;TZID=Europe/Ljubljana:20231212T120000
DTEND;TZID=Europe/Ljubljana:20231212T140000
DTSTAMP:20260421T214403Z
UID:fs-AFLABS-URNIK:srecanje:3939-2023-12-12 12:00:00+01:00
DESCRIPTION:Predmet: Energy supply in circular economy (EKGM)\, Lectures (
 P)\nLetniki: Energy engineering (MAG-2)\nIzvajalci: Tomaž Katrašnik\, Mi
 hael Sekavčnik\, Tine Seljak\nProstor: Lecture hall III/3B
END:VEVENT
BEGIN:VEVENT
SUMMARY:Energy supply in circular economy (EKGM)\, Lectures (P)
DTSTART;TZID=Europe/Ljubljana:20231219T120000
DTEND;TZID=Europe/Ljubljana:20231219T140000
DTSTAMP:20260421T214403Z
UID:fs-AFLABS-URNIK:srecanje:3939-2023-12-19 12:00:00+01:00
DESCRIPTION:Predmet: Energy supply in circular economy (EKGM)\, Lectures (
 P)\nLetniki: Energy engineering (MAG-2)\nIzvajalci: Tomaž Katrašnik\, Mi
 hael Sekavčnik\, Tine Seljak\nProstor: Lecture hall III/3B
END:VEVENT
BEGIN:VEVENT
SUMMARY:Energy supply in circular economy (EKGM)\, Lectures (P)
DTSTART;TZID=Europe/Ljubljana:20240102T120000
DTEND;TZID=Europe/Ljubljana:20240102T140000
DTSTAMP:20260421T214403Z
UID:fs-AFLABS-URNIK:srecanje:3939-2024-01-02 12:00:00+01:00
DESCRIPTION:Predmet: Energy supply in circular economy (EKGM)\, Lectures (
 P)\nLetniki: Energy engineering (MAG-2)\nIzvajalci: Tomaž Katrašnik\, Mi
 hael Sekavčnik\, Tine Seljak\nProstor: Lecture hall III/3B
END:VEVENT
BEGIN:VEVENT
SUMMARY:Energy supply in circular economy (EKGM)\, Lectures (P)
DTSTART;TZID=Europe/Ljubljana:20240109T120000
DTEND;TZID=Europe/Ljubljana:20240109T140000
DTSTAMP:20260421T214403Z
UID:fs-AFLABS-URNIK:srecanje:3939-2024-01-09 12:00:00+01:00
DESCRIPTION:Predmet: Energy supply in circular economy (EKGM)\, Lectures (
 P)\nLetniki: Energy engineering (MAG-2)\nIzvajalci: Tomaž Katrašnik\, Mi
 hael Sekavčnik\, Tine Seljak\nProstor: Lecture hall III/3B
END:VEVENT
BEGIN:VEVENT
SUMMARY:Energy supply in circular economy (EKGM)\, Lectures (P)
DTSTART;TZID=Europe/Ljubljana:20240116T120000
DTEND;TZID=Europe/Ljubljana:20240116T140000
DTSTAMP:20260421T214403Z
UID:fs-AFLABS-URNIK:srecanje:3939-2024-01-16 12:00:00+01:00
DESCRIPTION:Predmet: Energy supply in circular economy (EKGM)\, Lectures (
 P)\nLetniki: Energy engineering (MAG-2)\nIzvajalci: Tomaž Katrašnik\, Mi
 hael Sekavčnik\, Tine Seljak\nProstor: Lecture hall III/3B
END:VEVENT
BEGIN:VEVENT
SUMMARY:Advanced combustion processes (NPZM)\, Lectures (P)
DTSTART;TZID=Europe/Ljubljana:20231102T100000
DTEND;TZID=Europe/Ljubljana:20231102T120000
DTSTAMP:20260421T214403Z
UID:fs-AFLABS-URNIK:premaknjeno-srecanje:62133
ATTENDEE:Energy engineering (MAG-1)
CATEGORIES:Entry,Special
COLOR:forestgreen
DESCRIPTION:Predmet: Advanced combustion processes (NPZM)\, Lectures (P)\n
 Letniki: Energy engineering (MAG-1)\nIzvajalci: Tomaž Katrašnik\, Tine S
 eljak\, Andrej Senegačnik\nProstor: Lecture hall III/4
LOCATION:Lecture hall III/4
ORGANIZER:Tomaž Katrašnik, Tine Seljak, Andrej Senegačnik
RELATED-TO:fs-AFLABS-URNIK:srecanje:7863
X-WR-TIMEZONE:Europe/Ljubljana
END:VEVENT
BEGIN:VEVENT
SUMMARY:Energy supply in circular economy (EKGM)\, Lectures (P)
DTSTART;TZID=Europe/Ljubljana:20231103T120000
DTEND;TZID=Europe/Ljubljana:20231103T140000
DTSTAMP:20260421T214403Z
UID:fs-AFLABS-URNIK:premaknjeno-srecanje:62184
ATTENDEE:Energy engineering (MAG-2)
CATEGORIES:Entry,Special
COLOR:forestgreen
DESCRIPTION:Predmet: Energy supply in circular economy (EKGM)\, Lectures (
 P)\nLetniki: Energy engineering (MAG-2)\nIzvajalci: Tomaž Katrašnik\, Mi
 hael Sekavčnik\, Tine Seljak\nProstor: Lecture hall III/3B
LOCATION:Lecture hall III/3B
ORGANIZER:Tomaž Katrašnik, Mihael Sekavčnik, Tine Seljak
RELATED-TO:fs-AFLABS-URNIK:srecanje:7914
X-WR-TIMEZONE:Europe/Ljubljana
END:VEVENT
BEGIN:VEVENT
SUMMARY:Kolokvij - NPZ
DTSTART;TZID=Europe/Ljubljana:20231110T180000
DTEND;TZID=Europe/Ljubljana:20231110T190000
DTSTAMP:20260421T214403Z
UID:fs-AFLABS-URNIK:rezervacija:3343
CATEGORIES:Reservation
COLOR:royalblue
DESCRIPTION:Predmeti: \nLetniki: \nIzvajalci: Tine Seljak\nProstori: Lectu
 re hall V/8
LOCATION:Lecture hall V/8
ORGANIZER:Tine Seljak
X-WR-TIMEZONE:Europe/Ljubljana
END:VEVENT
BEGIN:VEVENT
SUMMARY:sestanek
DTSTART;TZID=Europe/Ljubljana:20231207T133000
DTEND;TZID=Europe/Ljubljana:20231207T150000
DTSTAMP:20260421T214403Z
UID:fs-AFLABS-URNIK:rezervacija:4133
CATEGORIES:Reservation
COLOR:royalblue
DESCRIPTION:Predmeti: \nLetniki: \nIzvajalci: Darja Jeločnik\, Tine Selja
 k\nProstori: Conference room
LOCATION:Conference room
ORGANIZER:Darja Jeločnik, Tine Seljak
X-WR-TIMEZONE:Europe/Ljubljana
END:VEVENT
BEGIN:VEVENT
SUMMARY:LM2 - nadomestna predavanja
DTSTART;TZID=Europe/Ljubljana:20231024T083000
DTEND;TZID=Europe/Ljubljana:20231024T090000
DTSTAMP:20260421T214403Z
UID:fs-AFLABS-URNIK:rezervacija:3222
CATEGORIES:Reservation
COLOR:royalblue
DESCRIPTION:Predmeti: \nLetniki: \nIzvajalci: Tine Seljak\nProstori: Lectu
 re hall III/3A
LOCATION:Lecture hall III/3A
ORGANIZER:Tine Seljak
X-WR-TIMEZONE:Europe/Ljubljana
END:VEVENT
BEGIN:VEVENT
SUMMARY:1. Kolokvij - EKG
DTSTART;TZID=Europe/Ljubljana:20231120T160000
DTEND;TZID=Europe/Ljubljana:20231120T170000
DTSTAMP:20260421T214403Z
UID:fs-AFLABS-URNIK:rezervacija:3348
ATTENDEE:Energy engineering (MAG-2)
CATEGORIES:Reservation
COLOR:royalblue
DESCRIPTION:Predmeti: Energy supply in circular economy (EKGM)\nLetniki: E
 nergy engineering (MAG-2)\nIzvajalci: Tine Seljak\nProstori: Lecture hall 
 III/2
LOCATION:Lecture hall III/2
ORGANIZER:Tine Seljak
X-WR-TIMEZONE:Europe/Ljubljana
END:VEVENT
BEGIN:VEVENT
SUMMARY:LM2 - nadomestna predavanja
DTSTART;TZID=Europe/Ljubljana:20231024T073000
DTEND;TZID=Europe/Ljubljana:20231024T090000
DTSTAMP:20260421T214403Z
UID:fs-AFLABS-URNIK:rezervacija:3223
CATEGORIES:Reservation
COLOR:royalblue
DESCRIPTION:Predmeti: \nLetniki: \nIzvajalci: Tine Seljak\nProstori: Lectu
 re hall III/3A
LOCATION:Lecture hall III/3A
ORGANIZER:Tine Seljak
X-WR-TIMEZONE:Europe/Ljubljana
END:VEVENT
END:VCALENDAR
